BEGIN:VCALENDAR
VERSION:2.0
PRODID:-//AFLabs urnik izvoz - fmf//aflabs.si//SI
DTSTAMP:20260423T071634Z
NAME:UL FMF urnik
REFRESH-INTERVAL:PT1H
SOURCE:https://urnik.fmf.uni-lj.si/teacher/6?day=2020-02-03&export=1
URL:https://urnik.fmf.uni-lj.si/teacher/6?day=2020-02-03&export=1
X-PUBLISHED-TTL:PT1H
X-WR-CALNAME:UL FMF urnik
X-WR-TIMEZONE:Europe/Ljubljana
BEGIN:VTIMEZONE
TZID:Europe/Ljubljana
BEGIN:DAYLIGHT
DTSTART:20260329T020000
RDATE:20260329T020000
RDATE:20270328T020000
TZNAME:CEST
TZOFFSETFROM:+0100
TZOFFSETTO:+0200
END:DAYLIGHT
BEGIN:STANDARD
DTSTART:20261025T030000
RDATE:20261025T030000
RDATE:20271031T030000
TZNAME:CET
TZOFFSETFROM:+0200
TZOFFSETTO:+0100
END:STANDARD
END:VTIMEZONE
BEGIN:VEVENT
SUMMARY:Kompleksna analiza (FM-M\, MAT-M\, PM-5)\, Predavanja (P)
DTSTART;TZID=Europe/Ljubljana:20191230T110000
DTEND;TZID=Europe/Ljubljana:20191230T120000
DTSTAMP:20260423T071634Z
UID:fmf-AFLABS-URNIK:premaknjeno-srecanje:54692
ATTENDEE:5. letnik (PM)
ATTENDEE:magistrski študij (FM)
ATTENDEE:magistrski študij (M)
CATEGORIES:Entry,Standard
COLOR:darkgreen
DESCRIPTION:Predmet: Kompleksna analiza (FM-M\, MAT-M\, PM-5)\, Predavanja
  (P)\nLetniki: magistrski študij (FM)\, magistrski študij (M)\, 5. letni
 k (PM)\nIzvajalci: Franc Forstnerič\nProstor: 2.03
LOCATION:2.03
ORGANIZER:Franc Forstnerič
RELATED-TO:fmf-AFLABS-URNIK:srecanje:3968
X-WR-TIMEZONE:Europe/Ljubljana
END:VEVENT
BEGIN:VEVENT
SUMMARY:Kompleksna analiza (FM-M\, MAT-M\, PM-5)\, Predavanja (P)
DTSTART;TZID=Europe/Ljubljana:20200106T110000
DTEND;TZID=Europe/Ljubljana:20200106T120000
DTSTAMP:20260423T071634Z
UID:fmf-AFLABS-URNIK:premaknjeno-srecanje:54693
ATTENDEE:5. letnik (PM)
ATTENDEE:magistrski študij (FM)
ATTENDEE:magistrski študij (M)
CATEGORIES:Entry,Standard
COLOR:darkgreen
DESCRIPTION:Predmet: Kompleksna analiza (FM-M\, MAT-M\, PM-5)\, Predavanja
  (P)\nLetniki: magistrski študij (FM)\, magistrski študij (M)\, 5. letni
 k (PM)\nIzvajalci: Franc Forstnerič\nProstor: 2.03
LOCATION:2.03
ORGANIZER:Franc Forstnerič
RELATED-TO:fmf-AFLABS-URNIK:srecanje:3968
X-WR-TIMEZONE:Europe/Ljubljana
END:VEVENT
BEGIN:VEVENT
SUMMARY:Kompleksna analiza (FM-M\, MAT-M\, PM-5)\, Predavanja (P)
DTSTART;TZID=Europe/Ljubljana:20200113T110000
DTEND;TZID=Europe/Ljubljana:20200113T120000
DTSTAMP:20260423T071634Z
UID:fmf-AFLABS-URNIK:premaknjeno-srecanje:54694
ATTENDEE:5. letnik (PM)
ATTENDEE:magistrski študij (FM)
ATTENDEE:magistrski študij (M)
CATEGORIES:Entry,Standard
COLOR:darkgreen
DESCRIPTION:Predmet: Kompleksna analiza (FM-M\, MAT-M\, PM-5)\, Predavanja
  (P)\nLetniki: magistrski študij (FM)\, magistrski študij (M)\, 5. letni
 k (PM)\nIzvajalci: Franc Forstnerič\nProstor: 2.03
LOCATION:2.03
ORGANIZER:Franc Forstnerič
RELATED-TO:fmf-AFLABS-URNIK:srecanje:3968
X-WR-TIMEZONE:Europe/Ljubljana
END:VEVENT
BEGIN:VEVENT
SUMMARY:Analiza na mnogoterostih (FM-M\, MAT-M\, PM-5)\, Predavanja (P)
DTSTART;TZID=Europe/Ljubljana:20191231T080000
DTEND;TZID=Europe/Ljubljana:20191231T100000
DTSTAMP:20260423T071634Z
UID:fmf-AFLABS-URNIK:premaknjeno-srecanje:9671
ATTENDEE:5. letnik (PM)
ATTENDEE:magistrski študij (FM)
ATTENDEE:magistrski študij (M)
CATEGORIES:Entry,Standard
COLOR:darkgreen
DESCRIPTION:Predmet: Analiza na mnogoterostih (FM-M\, MAT-M\, PM-5)\, Pred
 avanja (P)\nLetniki: magistrski študij (FM)\, magistrski študij (M)\, 5.
  letnik (PM)\nIzvajalci: Franc Forstnerič\nProstor: 3.05
LOCATION:3.05
ORGANIZER:Franc Forstnerič
RELATED-TO:fmf-AFLABS-URNIK:srecanje:3486
X-WR-TIMEZONE:Europe/Ljubljana
END:VEVENT
BEGIN:VEVENT
SUMMARY:Analiza na mnogoterostih (FM-M\, MAT-M\, PM-5)\, Predavanja (P)
DTSTART;TZID=Europe/Ljubljana:20200107T080000
DTEND;TZID=Europe/Ljubljana:20200107T100000
DTSTAMP:20260423T071634Z
UID:fmf-AFLABS-URNIK:premaknjeno-srecanje:9672
ATTENDEE:5. letnik (PM)
ATTENDEE:magistrski študij (FM)
ATTENDEE:magistrski študij (M)
CATEGORIES:Entry,Standard
COLOR:darkgreen
DESCRIPTION:Predmet: Analiza na mnogoterostih (FM-M\, MAT-M\, PM-5)\, Pred
 avanja (P)\nLetniki: magistrski študij (FM)\, magistrski študij (M)\, 5.
  letnik (PM)\nIzvajalci: Franc Forstnerič\nProstor: 3.05
LOCATION:3.05
ORGANIZER:Franc Forstnerič
RELATED-TO:fmf-AFLABS-URNIK:srecanje:3486
X-WR-TIMEZONE:Europe/Ljubljana
END:VEVENT
BEGIN:VEVENT
SUMMARY:Analiza na mnogoterostih (FM-M\, MAT-M\, PM-5)\, Predavanja (P)
DTSTART;TZID=Europe/Ljubljana:20200114T080000
DTEND;TZID=Europe/Ljubljana:20200114T100000
DTSTAMP:20260423T071634Z
UID:fmf-AFLABS-URNIK:premaknjeno-srecanje:9673
ATTENDEE:5. letnik (PM)
ATTENDEE:magistrski študij (FM)
ATTENDEE:magistrski študij (M)
CATEGORIES:Entry,Standard
COLOR:darkgreen
DESCRIPTION:Predmet: Analiza na mnogoterostih (FM-M\, MAT-M\, PM-5)\, Pred
 avanja (P)\nLetniki: magistrski študij (FM)\, magistrski študij (M)\, 5.
  letnik (PM)\nIzvajalci: Franc Forstnerič\nProstor: 3.05
LOCATION:3.05
ORGANIZER:Franc Forstnerič
RELATED-TO:fmf-AFLABS-URNIK:srecanje:3486
X-WR-TIMEZONE:Europe/Ljubljana
END:VEVENT
BEGIN:VEVENT
SUMMARY:Analiza na mnogoterostih (FM-M\, MAT-M\, PM-5)\, Seminar (S)
DTSTART;TZID=Europe/Ljubljana:20191231T100000
DTEND;TZID=Europe/Ljubljana:20191231T110000
DTSTAMP:20260423T071634Z
UID:fmf-AFLABS-URNIK:premaknjeno-srecanje:9749
ATTENDEE:5. letnik (PM)
ATTENDEE:magistrski študij (FM)
ATTENDEE:magistrski študij (M)
CATEGORIES:Entry,Standard
COLOR:darkgreen
DESCRIPTION:Predmet: Analiza na mnogoterostih (FM-M\, MAT-M\, PM-5)\, Semi
 nar (S)\nLetniki: magistrski študij (FM)\, magistrski študij (M)\, 5. le
 tnik (PM)\nIzvajalci: Franc Forstnerič\nProstor: 3.05
LOCATION:3.05
ORGANIZER:Franc Forstnerič
RELATED-TO:fmf-AFLABS-URNIK:srecanje:3487
X-WR-TIMEZONE:Europe/Ljubljana
END:VEVENT
BEGIN:VEVENT
SUMMARY:Analiza na mnogoterostih (FM-M\, MAT-M\, PM-5)\, Seminar (S)
DTSTART;TZID=Europe/Ljubljana:20200107T100000
DTEND;TZID=Europe/Ljubljana:20200107T110000
DTSTAMP:20260423T071634Z
UID:fmf-AFLABS-URNIK:premaknjeno-srecanje:9750
ATTENDEE:5. letnik (PM)
ATTENDEE:magistrski študij (FM)
ATTENDEE:magistrski študij (M)
CATEGORIES:Entry,Standard
COLOR:darkgreen
DESCRIPTION:Predmet: Analiza na mnogoterostih (FM-M\, MAT-M\, PM-5)\, Semi
 nar (S)\nLetniki: magistrski študij (FM)\, magistrski študij (M)\, 5. le
 tnik (PM)\nIzvajalci: Franc Forstnerič\nProstor: 3.05
LOCATION:3.05
ORGANIZER:Franc Forstnerič
RELATED-TO:fmf-AFLABS-URNIK:srecanje:3487
X-WR-TIMEZONE:Europe/Ljubljana
END:VEVENT
BEGIN:VEVENT
SUMMARY:Analiza na mnogoterostih (FM-M\, MAT-M\, PM-5)\, Seminar (S)
DTSTART;TZID=Europe/Ljubljana:20200114T100000
DTEND;TZID=Europe/Ljubljana:20200114T110000
DTSTAMP:20260423T071634Z
UID:fmf-AFLABS-URNIK:premaknjeno-srecanje:9751
ATTENDEE:5. letnik (PM)
ATTENDEE:magistrski študij (FM)
ATTENDEE:magistrski študij (M)
CATEGORIES:Entry,Standard
COLOR:darkgreen
DESCRIPTION:Predmet: Analiza na mnogoterostih (FM-M\, MAT-M\, PM-5)\, Semi
 nar (S)\nLetniki: magistrski študij (FM)\, magistrski študij (M)\, 5. le
 tnik (PM)\nIzvajalci: Franc Forstnerič\nProstor: 3.05
LOCATION:3.05
ORGANIZER:Franc Forstnerič
RELATED-TO:fmf-AFLABS-URNIK:srecanje:3487
X-WR-TIMEZONE:Europe/Ljubljana
END:VEVENT
BEGIN:VEVENT
SUMMARY:KA SEM (MAT-D)\, Seminar (S)
DTSTART;TZID=Europe/Ljubljana:20191231T120000
DTEND;TZID=Europe/Ljubljana:20191231T140000
DTSTAMP:20260423T071634Z
UID:fmf-AFLABS-URNIK:premaknjeno-srecanje:45897
ATTENDEE:doktorski študij (M)
CATEGORIES:Entry,Standard
COLOR:darkgreen
DESCRIPTION:Predmet: KA SEM (MAT-D)\, Seminar (S)\nLetniki: doktorski štu
 dij (M)\nIzvajalci: Barbara Drinovec Drnovšek\, Franc Forstnerič\nProsto
 r: 3.06
LOCATION:3.06
ORGANIZER:Barbara Drinovec Drnovšek, Franc Forstnerič
RELATED-TO:fmf-AFLABS-URNIK:srecanje:3443
X-WR-TIMEZONE:Europe/Ljubljana
END:VEVENT
BEGIN:VEVENT
SUMMARY:KA SEM (MAT-D)\, Seminar (S)
DTSTART;TZID=Europe/Ljubljana:20200107T120000
DTEND;TZID=Europe/Ljubljana:20200107T140000
DTSTAMP:20260423T071634Z
UID:fmf-AFLABS-URNIK:premaknjeno-srecanje:45898
ATTENDEE:doktorski študij (M)
CATEGORIES:Entry,Standard
COLOR:darkgreen
DESCRIPTION:Predmet: KA SEM (MAT-D)\, Seminar (S)\nLetniki: doktorski štu
 dij (M)\nIzvajalci: Barbara Drinovec Drnovšek\, Franc Forstnerič\nProsto
 r: 3.06
LOCATION:3.06
ORGANIZER:Barbara Drinovec Drnovšek, Franc Forstnerič
RELATED-TO:fmf-AFLABS-URNIK:srecanje:3443
X-WR-TIMEZONE:Europe/Ljubljana
END:VEVENT
BEGIN:VEVENT
SUMMARY:KA SEM (MAT-D)\, Seminar (S)
DTSTART;TZID=Europe/Ljubljana:20200114T120000
DTEND;TZID=Europe/Ljubljana:20200114T140000
DTSTAMP:20260423T071634Z
UID:fmf-AFLABS-URNIK:premaknjeno-srecanje:45899
ATTENDEE:doktorski študij (M)
CATEGORIES:Entry,Standard
COLOR:darkgreen
DESCRIPTION:Predmet: KA SEM (MAT-D)\, Seminar (S)\nLetniki: doktorski štu
 dij (M)\nIzvajalci: Barbara Drinovec Drnovšek\, Franc Forstnerič\nProsto
 r: 3.06
LOCATION:3.06
ORGANIZER:Barbara Drinovec Drnovšek, Franc Forstnerič
RELATED-TO:fmf-AFLABS-URNIK:srecanje:3443
X-WR-TIMEZONE:Europe/Ljubljana
END:VEVENT
BEGIN:VEVENT
SUMMARY:Kompleksna analiza (FM-M\, MAT-M\, PM-5)\, Predavanja (P)
DTSTART;TZID=Europe/Ljubljana:20200102T100000
DTEND;TZID=Europe/Ljubljana:20200102T120000
DTSTAMP:20260423T071634Z
UID:fmf-AFLABS-URNIK:premaknjeno-srecanje:54756
ATTENDEE:5. letnik (PM)
ATTENDEE:magistrski študij (FM)
ATTENDEE:magistrski študij (M)
CATEGORIES:Entry,Standard
COLOR:darkgreen
DESCRIPTION:Predmet: Kompleksna analiza (FM-M\, MAT-M\, PM-5)\, Predavanja
  (P)\nLetniki: magistrski študij (FM)\, magistrski študij (M)\, 5. letni
 k (PM)\nIzvajalci: Franc Forstnerič\nProstor: 2.04
LOCATION:2.04
ORGANIZER:Franc Forstnerič
RELATED-TO:fmf-AFLABS-URNIK:srecanje:3433
X-WR-TIMEZONE:Europe/Ljubljana
END:VEVENT
BEGIN:VEVENT
SUMMARY:Kompleksna analiza (FM-M\, MAT-M\, PM-5)\, Predavanja (P)
DTSTART;TZID=Europe/Ljubljana:20200109T100000
DTEND;TZID=Europe/Ljubljana:20200109T120000
DTSTAMP:20260423T071634Z
UID:fmf-AFLABS-URNIK:premaknjeno-srecanje:54757
ATTENDEE:5. letnik (PM)
ATTENDEE:magistrski študij (FM)
ATTENDEE:magistrski študij (M)
CATEGORIES:Entry,Standard
COLOR:darkgreen
DESCRIPTION:Predmet: Kompleksna analiza (FM-M\, MAT-M\, PM-5)\, Predavanja
  (P)\nLetniki: magistrski študij (FM)\, magistrski študij (M)\, 5. letni
 k (PM)\nIzvajalci: Franc Forstnerič\nProstor: 2.04
LOCATION:2.04
ORGANIZER:Franc Forstnerič
RELATED-TO:fmf-AFLABS-URNIK:srecanje:3433
X-WR-TIMEZONE:Europe/Ljubljana
END:VEVENT
BEGIN:VEVENT
SUMMARY:Kompleksna analiza (FM-M\, MAT-M\, PM-5)\, Predavanja (P)
DTSTART;TZID=Europe/Ljubljana:20200116T100000
DTEND;TZID=Europe/Ljubljana:20200116T120000
DTSTAMP:20260423T071634Z
UID:fmf-AFLABS-URNIK:premaknjeno-srecanje:54758
ATTENDEE:5. letnik (PM)
ATTENDEE:magistrski študij (FM)
ATTENDEE:magistrski študij (M)
CATEGORIES:Entry,Standard
COLOR:darkgreen
DESCRIPTION:Predmet: Kompleksna analiza (FM-M\, MAT-M\, PM-5)\, Predavanja
  (P)\nLetniki: magistrski študij (FM)\, magistrski študij (M)\, 5. letni
 k (PM)\nIzvajalci: Franc Forstnerič\nProstor: 2.04
LOCATION:2.04
ORGANIZER:Franc Forstnerič
RELATED-TO:fmf-AFLABS-URNIK:srecanje:3433
X-WR-TIMEZONE:Europe/Ljubljana
END:VEVENT
BEGIN:VEVENT
SUMMARY:Seminar za kompleksno analizo (MAT-D)\, Seminar (S)
DTSTART;TZID=Europe/Ljubljana:20200218T120000
DTEND;TZID=Europe/Ljubljana:20200218T140000
DTSTAMP:20260423T071634Z
UID:fmf-AFLABS-URNIK:premaknjeno-srecanje:102667
ATTENDEE:doktorski študij (M)
CATEGORIES:Entry,Standard
COLOR:darkgreen
DESCRIPTION:Predmet: Seminar za kompleksno analizo (MAT-D)\, Seminar (S)\n
 Letniki: doktorski študij (M)\nIzvajalci: Barbara Drinovec Drnovšek\, Fr
 anc Forstnerič\nProstor: 3.06
LOCATION:3.06
ORGANIZER:Barbara Drinovec Drnovšek, Franc Forstnerič
RELATED-TO:fmf-AFLABS-URNIK:srecanje:4446
X-WR-TIMEZONE:Europe/Ljubljana
END:VEVENT
BEGIN:VEVENT
SUMMARY:Seminar za kompleksno analizo (MAT-D)\, Seminar (S)
DTSTART;TZID=Europe/Ljubljana:20200225T120000
DTEND;TZID=Europe/Ljubljana:20200225T140000
DTSTAMP:20260423T071634Z
UID:fmf-AFLABS-URNIK:premaknjeno-srecanje:102668
ATTENDEE:doktorski študij (M)
CATEGORIES:Entry,Standard
COLOR:darkgreen
DESCRIPTION:Predmet: Seminar za kompleksno analizo (MAT-D)\, Seminar (S)\n
 Letniki: doktorski študij (M)\nIzvajalci: Barbara Drinovec Drnovšek\, Fr
 anc Forstnerič\nProstor: 3.06
LOCATION:3.06
ORGANIZER:Barbara Drinovec Drnovšek, Franc Forstnerič
RELATED-TO:fmf-AFLABS-URNIK:srecanje:4446
X-WR-TIMEZONE:Europe/Ljubljana
END:VEVENT
BEGIN:VEVENT
SUMMARY:Seminar za kompleksno analizo (MAT-D)\, Seminar (S)
DTSTART;TZID=Europe/Ljubljana:20200303T120000
DTEND;TZID=Europe/Ljubljana:20200303T140000
DTSTAMP:20260423T071634Z
UID:fmf-AFLABS-URNIK:premaknjeno-srecanje:102669
ATTENDEE:doktorski študij (M)
CATEGORIES:Entry,Standard
COLOR:darkgreen
DESCRIPTION:Predmet: Seminar za kompleksno analizo (MAT-D)\, Seminar (S)\n
 Letniki: doktorski študij (M)\nIzvajalci: Barbara Drinovec Drnovšek\, Fr
 anc Forstnerič\nProstor: 3.06
LOCATION:3.06
ORGANIZER:Barbara Drinovec Drnovšek, Franc Forstnerič
RELATED-TO:fmf-AFLABS-URNIK:srecanje:4446
X-WR-TIMEZONE:Europe/Ljubljana
END:VEVENT
BEGIN:VEVENT
SUMMARY:Govorilna ura ()\, Predavanja (P)
DTSTART;TZID=Europe/Ljubljana:20200220T140000
DTEND;TZID=Europe/Ljubljana:20200220T150000
DTSTAMP:20260423T071634Z
UID:fmf-AFLABS-URNIK:premaknjeno-srecanje:41973
CATEGORIES:Entry,Standard
COLOR:darkgreen
DESCRIPTION:Predmet: Govorilna ura ()\, Predavanja (P)\nLetniki: \nIzvajal
 ci: Franc Forstnerič\nProstor: 4.24
LOCATION:4.24
ORGANIZER:Franc Forstnerič
RELATED-TO:fmf-AFLABS-URNIK:srecanje:4167
X-WR-TIMEZONE:Europe/Ljubljana
END:VEVENT
BEGIN:VEVENT
SUMMARY:Govorilna ura ()\, Predavanja (P)
DTSTART;TZID=Europe/Ljubljana:20200227T140000
DTEND;TZID=Europe/Ljubljana:20200227T150000
DTSTAMP:20260423T071634Z
UID:fmf-AFLABS-URNIK:premaknjeno-srecanje:41974
CATEGORIES:Entry,Standard
COLOR:darkgreen
DESCRIPTION:Predmet: Govorilna ura ()\, Predavanja (P)\nLetniki: \nIzvajal
 ci: Franc Forstnerič\nProstor: 4.24
LOCATION:4.24
ORGANIZER:Franc Forstnerič
RELATED-TO:fmf-AFLABS-URNIK:srecanje:4167
X-WR-TIMEZONE:Europe/Ljubljana
END:VEVENT
BEGIN:VEVENT
SUMMARY:Govorilna ura ()\, Predavanja (P)
DTSTART;TZID=Europe/Ljubljana:20200305T140000
DTEND;TZID=Europe/Ljubljana:20200305T150000
DTSTAMP:20260423T071634Z
UID:fmf-AFLABS-URNIK:premaknjeno-srecanje:41975
CATEGORIES:Entry,Standard
COLOR:darkgreen
DESCRIPTION:Predmet: Govorilna ura ()\, Predavanja (P)\nLetniki: \nIzvajal
 ci: Franc Forstnerič\nProstor: 4.24
LOCATION:4.24
ORGANIZER:Franc Forstnerič
RELATED-TO:fmf-AFLABS-URNIK:srecanje:4167
X-WR-TIMEZONE:Europe/Ljubljana
END:VEVENT
END:VCALENDAR
