BEGIN:VCALENDAR
VERSION:2.0
PRODID:-//AFLabs urnik izvoz - fmf//aflabs.si//SI
DTSTAMP:20260420T073357Z
NAME:UL FMF urnik
REFRESH-INTERVAL:PT1H
SOURCE:https://urnik.fmf.uni-lj.si/teacher/701?day=2023-01-02&export=1
URL:https://urnik.fmf.uni-lj.si/teacher/701?day=2023-01-02&export=1
X-PUBLISHED-TTL:PT1H
X-WR-CALNAME:UL FMF urnik
X-WR-TIMEZONE:Europe/Ljubljana
BEGIN:VTIMEZONE
TZID:Europe/Ljubljana
BEGIN:DAYLIGHT
DTSTART:20260329T020000
RDATE:20260329T020000
RDATE:20270328T020000
TZNAME:CEST
TZOFFSETFROM:+0100
TZOFFSETTO:+0200
END:DAYLIGHT
BEGIN:STANDARD
DTSTART:20261025T030000
RDATE:20261025T030000
RDATE:20271031T030000
TZNAME:CET
TZOFFSETFROM:+0200
TZOFFSETTO:+0100
END:STANDARD
END:VTIMEZONE
BEGIN:VEVENT
SUMMARY:Analiza na mnogoterostih (FM-M\, MAT-M\, PM-5)\, Vaje (V)
DTSTART;TZID=Europe/Ljubljana:20221006T120000
DTEND;TZID=Europe/Ljubljana:20221006T140000
DTSTAMP:20260420T073357Z
UID:fmf-AFLABS-URNIK:premaknjeno-srecanje:9767
ATTENDEE:5. letnik (PM)
ATTENDEE:magistrski študij (FM)
ATTENDEE:magistrski študij (M)
CATEGORIES:Entry,Standard
COLOR:darkgreen
DESCRIPTION:Predmet: Analiza na mnogoterostih (FM-M\, MAT-M\, PM-5)\, Vaje
  (V)\nLetniki: magistrski študij (FM)\, magistrski študij (M)\, 5. letni
 k (PM)\nIzvajalci: Andrej Svetina\nProstor: 3.04
LOCATION:3.04
ORGANIZER:Andrej Svetina
RELATED-TO:fmf-AFLABS-URNIK:srecanje:7496
X-WR-TIMEZONE:Europe/Ljubljana
END:VEVENT
BEGIN:VEVENT
SUMMARY:Analiza na mnogoterostih (FM-M\, MAT-M\, PM-5)\, Vaje (V)
DTSTART;TZID=Europe/Ljubljana:20221013T120000
DTEND;TZID=Europe/Ljubljana:20221013T140000
DTSTAMP:20260420T073357Z
UID:fmf-AFLABS-URNIK:premaknjeno-srecanje:9768
ATTENDEE:5. letnik (PM)
ATTENDEE:magistrski študij (FM)
ATTENDEE:magistrski študij (M)
CATEGORIES:Entry,Standard
COLOR:darkgreen
DESCRIPTION:Predmet: Analiza na mnogoterostih (FM-M\, MAT-M\, PM-5)\, Vaje
  (V)\nLetniki: magistrski študij (FM)\, magistrski študij (M)\, 5. letni
 k (PM)\nIzvajalci: Andrej Svetina\nProstor: 3.04
LOCATION:3.04
ORGANIZER:Andrej Svetina
RELATED-TO:fmf-AFLABS-URNIK:srecanje:7496
X-WR-TIMEZONE:Europe/Ljubljana
END:VEVENT
BEGIN:VEVENT
SUMMARY:Analiza na mnogoterostih (FM-M\, MAT-M\, PM-5)\, Vaje (V)
DTSTART;TZID=Europe/Ljubljana:20221020T120000
DTEND;TZID=Europe/Ljubljana:20221020T140000
DTSTAMP:20260420T073357Z
UID:fmf-AFLABS-URNIK:premaknjeno-srecanje:9769
ATTENDEE:5. letnik (PM)
ATTENDEE:magistrski študij (FM)
ATTENDEE:magistrski študij (M)
CATEGORIES:Entry,Standard
COLOR:darkgreen
DESCRIPTION:Predmet: Analiza na mnogoterostih (FM-M\, MAT-M\, PM-5)\, Vaje
  (V)\nLetniki: magistrski študij (FM)\, magistrski študij (M)\, 5. letni
 k (PM)\nIzvajalci: Andrej Svetina\nProstor: 3.04
LOCATION:3.04
ORGANIZER:Andrej Svetina
RELATED-TO:fmf-AFLABS-URNIK:srecanje:7496
X-WR-TIMEZONE:Europe/Ljubljana
END:VEVENT
BEGIN:VEVENT
SUMMARY:Analiza na mnogoterostih (FM-M\, MAT-M\, PM-5)\, Vaje (V)
DTSTART;TZID=Europe/Ljubljana:20221027T120000
DTEND;TZID=Europe/Ljubljana:20221027T140000
DTSTAMP:20260420T073357Z
UID:fmf-AFLABS-URNIK:premaknjeno-srecanje:9770
ATTENDEE:5. letnik (PM)
ATTENDEE:magistrski študij (FM)
ATTENDEE:magistrski študij (M)
CATEGORIES:Entry,Standard
COLOR:darkgreen
DESCRIPTION:Predmet: Analiza na mnogoterostih (FM-M\, MAT-M\, PM-5)\, Vaje
  (V)\nLetniki: magistrski študij (FM)\, magistrski študij (M)\, 5. letni
 k (PM)\nIzvajalci: Andrej Svetina\nProstor: 3.04
LOCATION:3.04
ORGANIZER:Andrej Svetina
RELATED-TO:fmf-AFLABS-URNIK:srecanje:7496
X-WR-TIMEZONE:Europe/Ljubljana
END:VEVENT
BEGIN:VEVENT
SUMMARY:Analiza na mnogoterostih (FM-M\, MAT-M\, PM-5)\, Vaje (V)
DTSTART;TZID=Europe/Ljubljana:20221103T120000
DTEND;TZID=Europe/Ljubljana:20221103T140000
DTSTAMP:20260420T073357Z
UID:fmf-AFLABS-URNIK:premaknjeno-srecanje:9771
ATTENDEE:5. letnik (PM)
ATTENDEE:magistrski študij (FM)
ATTENDEE:magistrski študij (M)
CATEGORIES:Entry,Standard
COLOR:darkgreen
DESCRIPTION:Predmet: Analiza na mnogoterostih (FM-M\, MAT-M\, PM-5)\, Vaje
  (V)\nLetniki: magistrski študij (FM)\, magistrski študij (M)\, 5. letni
 k (PM)\nIzvajalci: Andrej Svetina\nProstor: 3.04
LOCATION:3.04
ORGANIZER:Andrej Svetina
RELATED-TO:fmf-AFLABS-URNIK:srecanje:7496
X-WR-TIMEZONE:Europe/Ljubljana
END:VEVENT
BEGIN:VEVENT
SUMMARY:Analiza na mnogoterostih (FM-M\, MAT-M\, PM-5)\, Vaje (V)
DTSTART;TZID=Europe/Ljubljana:20221110T120000
DTEND;TZID=Europe/Ljubljana:20221110T140000
DTSTAMP:20260420T073357Z
UID:fmf-AFLABS-URNIK:premaknjeno-srecanje:9772
ATTENDEE:5. letnik (PM)
ATTENDEE:magistrski študij (FM)
ATTENDEE:magistrski študij (M)
CATEGORIES:Entry,Standard
COLOR:darkgreen
DESCRIPTION:Predmet: Analiza na mnogoterostih (FM-M\, MAT-M\, PM-5)\, Vaje
  (V)\nLetniki: magistrski študij (FM)\, magistrski študij (M)\, 5. letni
 k (PM)\nIzvajalci: Andrej Svetina\nProstor: 3.04
LOCATION:3.04
ORGANIZER:Andrej Svetina
RELATED-TO:fmf-AFLABS-URNIK:srecanje:7496
X-WR-TIMEZONE:Europe/Ljubljana
END:VEVENT
BEGIN:VEVENT
SUMMARY:Analiza na mnogoterostih (FM-M\, MAT-M\, PM-5)\, Vaje (V)
DTSTART;TZID=Europe/Ljubljana:20221117T120000
DTEND;TZID=Europe/Ljubljana:20221117T140000
DTSTAMP:20260420T073357Z
UID:fmf-AFLABS-URNIK:premaknjeno-srecanje:9773
ATTENDEE:5. letnik (PM)
ATTENDEE:magistrski študij (FM)
ATTENDEE:magistrski študij (M)
CATEGORIES:Entry,Standard
COLOR:darkgreen
DESCRIPTION:Predmet: Analiza na mnogoterostih (FM-M\, MAT-M\, PM-5)\, Vaje
  (V)\nLetniki: magistrski študij (FM)\, magistrski študij (M)\, 5. letni
 k (PM)\nIzvajalci: Andrej Svetina\nProstor: 3.04
LOCATION:3.04
ORGANIZER:Andrej Svetina
RELATED-TO:fmf-AFLABS-URNIK:srecanje:7496
X-WR-TIMEZONE:Europe/Ljubljana
END:VEVENT
BEGIN:VEVENT
SUMMARY:Analiza na mnogoterostih (FM-M\, MAT-M\, PM-5)\, Vaje (V)
DTSTART;TZID=Europe/Ljubljana:20221124T120000
DTEND;TZID=Europe/Ljubljana:20221124T140000
DTSTAMP:20260420T073357Z
UID:fmf-AFLABS-URNIK:premaknjeno-srecanje:9774
ATTENDEE:5. letnik (PM)
ATTENDEE:magistrski študij (FM)
ATTENDEE:magistrski študij (M)
CATEGORIES:Entry,Standard
COLOR:darkgreen
DESCRIPTION:Predmet: Analiza na mnogoterostih (FM-M\, MAT-M\, PM-5)\, Vaje
  (V)\nLetniki: magistrski študij (FM)\, magistrski študij (M)\, 5. letni
 k (PM)\nIzvajalci: Andrej Svetina\nProstor: 3.04
LOCATION:3.04
ORGANIZER:Andrej Svetina
RELATED-TO:fmf-AFLABS-URNIK:srecanje:7496
X-WR-TIMEZONE:Europe/Ljubljana
END:VEVENT
BEGIN:VEVENT
SUMMARY:Analiza na mnogoterostih (FM-M\, MAT-M\, PM-5)\, Vaje (V)
DTSTART;TZID=Europe/Ljubljana:20221201T120000
DTEND;TZID=Europe/Ljubljana:20221201T140000
DTSTAMP:20260420T073357Z
UID:fmf-AFLABS-URNIK:premaknjeno-srecanje:9775
ATTENDEE:5. letnik (PM)
ATTENDEE:magistrski študij (FM)
ATTENDEE:magistrski študij (M)
CATEGORIES:Entry,Standard
COLOR:darkgreen
DESCRIPTION:Predmet: Analiza na mnogoterostih (FM-M\, MAT-M\, PM-5)\, Vaje
  (V)\nLetniki: magistrski študij (FM)\, magistrski študij (M)\, 5. letni
 k (PM)\nIzvajalci: Andrej Svetina\nProstor: 3.04
LOCATION:3.04
ORGANIZER:Andrej Svetina
RELATED-TO:fmf-AFLABS-URNIK:srecanje:7496
X-WR-TIMEZONE:Europe/Ljubljana
END:VEVENT
BEGIN:VEVENT
SUMMARY:Analiza na mnogoterostih (FM-M\, MAT-M\, PM-5)\, Vaje (V)
DTSTART;TZID=Europe/Ljubljana:20221208T120000
DTEND;TZID=Europe/Ljubljana:20221208T140000
DTSTAMP:20260420T073357Z
UID:fmf-AFLABS-URNIK:premaknjeno-srecanje:9776
ATTENDEE:5. letnik (PM)
ATTENDEE:magistrski študij (FM)
ATTENDEE:magistrski študij (M)
CATEGORIES:Entry,Standard
COLOR:darkgreen
DESCRIPTION:Predmet: Analiza na mnogoterostih (FM-M\, MAT-M\, PM-5)\, Vaje
  (V)\nLetniki: magistrski študij (FM)\, magistrski študij (M)\, 5. letni
 k (PM)\nIzvajalci: Andrej Svetina\nProstor: 3.04
LOCATION:3.04
ORGANIZER:Andrej Svetina
RELATED-TO:fmf-AFLABS-URNIK:srecanje:7496
X-WR-TIMEZONE:Europe/Ljubljana
END:VEVENT
BEGIN:VEVENT
SUMMARY:Analiza na mnogoterostih (FM-M\, MAT-M\, PM-5)\, Vaje (V)
DTSTART;TZID=Europe/Ljubljana:20221215T120000
DTEND;TZID=Europe/Ljubljana:20221215T140000
DTSTAMP:20260420T073357Z
UID:fmf-AFLABS-URNIK:premaknjeno-srecanje:9777
ATTENDEE:5. letnik (PM)
ATTENDEE:magistrski študij (FM)
ATTENDEE:magistrski študij (M)
CATEGORIES:Entry,Standard
COLOR:darkgreen
DESCRIPTION:Predmet: Analiza na mnogoterostih (FM-M\, MAT-M\, PM-5)\, Vaje
  (V)\nLetniki: magistrski študij (FM)\, magistrski študij (M)\, 5. letni
 k (PM)\nIzvajalci: Andrej Svetina\nProstor: 3.04
LOCATION:3.04
ORGANIZER:Andrej Svetina
RELATED-TO:fmf-AFLABS-URNIK:srecanje:7496
X-WR-TIMEZONE:Europe/Ljubljana
END:VEVENT
BEGIN:VEVENT
SUMMARY:Analiza na mnogoterostih (FM-M\, MAT-M\, PM-5)\, Vaje (V)
DTSTART;TZID=Europe/Ljubljana:20221222T120000
DTEND;TZID=Europe/Ljubljana:20221222T140000
DTSTAMP:20260420T073357Z
UID:fmf-AFLABS-URNIK:premaknjeno-srecanje:9778
ATTENDEE:5. letnik (PM)
ATTENDEE:magistrski študij (FM)
ATTENDEE:magistrski študij (M)
CATEGORIES:Entry,Standard
COLOR:darkgreen
DESCRIPTION:Predmet: Analiza na mnogoterostih (FM-M\, MAT-M\, PM-5)\, Vaje
  (V)\nLetniki: magistrski študij (FM)\, magistrski študij (M)\, 5. letni
 k (PM)\nIzvajalci: Andrej Svetina\nProstor: 3.04
LOCATION:3.04
ORGANIZER:Andrej Svetina
RELATED-TO:fmf-AFLABS-URNIK:srecanje:7496
X-WR-TIMEZONE:Europe/Ljubljana
END:VEVENT
BEGIN:VEVENT
SUMMARY:Analiza na mnogoterostih (FM-M\, MAT-M\, PM-5)\, Vaje (V)
DTSTART;TZID=Europe/Ljubljana:20221229T120000
DTEND;TZID=Europe/Ljubljana:20221229T140000
DTSTAMP:20260420T073357Z
UID:fmf-AFLABS-URNIK:premaknjeno-srecanje:9779
ATTENDEE:5. letnik (PM)
ATTENDEE:magistrski študij (FM)
ATTENDEE:magistrski študij (M)
CATEGORIES:Entry,Standard
COLOR:darkgreen
DESCRIPTION:Predmet: Analiza na mnogoterostih (FM-M\, MAT-M\, PM-5)\, Vaje
  (V)\nLetniki: magistrski študij (FM)\, magistrski študij (M)\, 5. letni
 k (PM)\nIzvajalci: Andrej Svetina\nProstor: 3.04
LOCATION:3.04
ORGANIZER:Andrej Svetina
RELATED-TO:fmf-AFLABS-URNIK:srecanje:7496
X-WR-TIMEZONE:Europe/Ljubljana
END:VEVENT
BEGIN:VEVENT
SUMMARY:Analiza na mnogoterostih (FM-M\, MAT-M\, PM-5)\, Vaje (V)
DTSTART;TZID=Europe/Ljubljana:20230105T120000
DTEND;TZID=Europe/Ljubljana:20230105T140000
DTSTAMP:20260420T073357Z
UID:fmf-AFLABS-URNIK:premaknjeno-srecanje:9780
ATTENDEE:5. letnik (PM)
ATTENDEE:magistrski študij (FM)
ATTENDEE:magistrski študij (M)
CATEGORIES:Entry,Standard
COLOR:darkgreen
DESCRIPTION:Predmet: Analiza na mnogoterostih (FM-M\, MAT-M\, PM-5)\, Vaje
  (V)\nLetniki: magistrski študij (FM)\, magistrski študij (M)\, 5. letni
 k (PM)\nIzvajalci: Andrej Svetina\nProstor: 3.04
LOCATION:3.04
ORGANIZER:Andrej Svetina
RELATED-TO:fmf-AFLABS-URNIK:srecanje:7496
X-WR-TIMEZONE:Europe/Ljubljana
END:VEVENT
BEGIN:VEVENT
SUMMARY:Analiza na mnogoterostih (FM-M\, MAT-M\, PM-5)\, Vaje (V)
DTSTART;TZID=Europe/Ljubljana:20230112T120000
DTEND;TZID=Europe/Ljubljana:20230112T140000
DTSTAMP:20260420T073357Z
UID:fmf-AFLABS-URNIK:premaknjeno-srecanje:9781
ATTENDEE:5. letnik (PM)
ATTENDEE:magistrski študij (FM)
ATTENDEE:magistrski študij (M)
CATEGORIES:Entry,Standard
COLOR:darkgreen
DESCRIPTION:Predmet: Analiza na mnogoterostih (FM-M\, MAT-M\, PM-5)\, Vaje
  (V)\nLetniki: magistrski študij (FM)\, magistrski študij (M)\, 5. letni
 k (PM)\nIzvajalci: Andrej Svetina\nProstor: 3.04
LOCATION:3.04
ORGANIZER:Andrej Svetina
RELATED-TO:fmf-AFLABS-URNIK:srecanje:7496
X-WR-TIMEZONE:Europe/Ljubljana
END:VEVENT
BEGIN:VEVENT
SUMMARY:Rezervacija
DTSTART;TZID=Europe/Ljubljana:20230116T080000
DTEND;TZID=Europe/Ljubljana:20230116T100000
DTSTAMP:20260420T073357Z
UID:fmf-AFLABS-URNIK:rezervacija:10851
ATTENDEE:5. letnik (PM)
ATTENDEE:magistrski študij (FM)
ATTENDEE:magistrski študij (M)
CATEGORIES:Reservation
COLOR:royalblue
DESCRIPTION:Predmeti: Analiza na mnogoterostih (FM-M\, MAT-M\, PM-5)\nLetn
 iki: magistrski študij (FM)\, magistrski študij (M)\, 5. letnik (PM)\nIz
 vajalci: Andrej Svetina\nProstori: 3.06
LOCATION:3.06
ORGANIZER:Andrej Svetina
X-WR-TIMEZONE:Europe/Ljubljana
END:VEVENT
BEGIN:VEVENT
SUMMARY:Rezervacija
DTSTART;TZID=Europe/Ljubljana:20230201T100000
DTEND;TZID=Europe/Ljubljana:20230201T130000
DTSTAMP:20260420T073357Z
UID:fmf-AFLABS-URNIK:rezervacija:11120
ATTENDEE:5. letnik (PM)
ATTENDEE:magistrski študij (FM)
ATTENDEE:magistrski študij (M)
CATEGORIES:Reservation
COLOR:royalblue
DESCRIPTION:Predmeti: Analiza na mnogoterostih (FM-M\, MAT-M\, PM-5)\nLetn
 iki: magistrski študij (FM)\, magistrski študij (M)\, 5. letnik (PM)\nIz
 vajalci: Andrej Svetina\nProstori: 2.02
LOCATION:2.02
ORGANIZER:Andrej Svetina
X-WR-TIMEZONE:Europe/Ljubljana
END:VEVENT
BEGIN:VEVENT
SUMMARY:Rezervacija
DTSTART;TZID=Europe/Ljubljana:20230201T130000
DTEND;TZID=Europe/Ljubljana:20230201T150000
DTSTAMP:20260420T073357Z
UID:fmf-AFLABS-URNIK:rezervacija:11124
ATTENDEE:5. letnik (PM)
ATTENDEE:magistrski študij (FM)
ATTENDEE:magistrski študij (M)
CATEGORIES:Reservation
COLOR:royalblue
DESCRIPTION:Predmeti: Analiza na mnogoterostih (FM-M\, MAT-M\, PM-5)\nLetn
 iki: magistrski študij (FM)\, magistrski študij (M)\, 5. letnik (PM)\nIz
 vajalci: Andrej Svetina\nProstori: 2.02
LOCATION:2.02
ORGANIZER:Andrej Svetina
X-WR-TIMEZONE:Europe/Ljubljana
END:VEVENT
END:VCALENDAR
