BEGIN:VCALENDAR
VERSION:2.0
PRODID:-//AFLabs urnik izvoz - fmf//aflabs.si//SI
DTSTAMP:20260426T011741Z
NAME:UL FMF urnik
REFRESH-INTERVAL:PT1H
SOURCE:https://urnik.fmf.uni-lj.si/teacher/702?day=2023-01-23&export=1
URL:https://urnik.fmf.uni-lj.si/teacher/702?day=2023-01-23&export=1
X-PUBLISHED-TTL:PT1H
X-WR-CALNAME:UL FMF urnik
X-WR-TIMEZONE:Europe/Ljubljana
BEGIN:VTIMEZONE
TZID:Europe/Ljubljana
BEGIN:DAYLIGHT
DTSTART:20260329T020000
RDATE:20260329T020000
RDATE:20270328T020000
TZNAME:CEST
TZOFFSETFROM:+0100
TZOFFSETTO:+0200
END:DAYLIGHT
BEGIN:STANDARD
DTSTART:20261025T030000
RDATE:20261025T030000
RDATE:20271031T030000
TZNAME:CET
TZOFFSETFROM:+0200
TZOFFSETTO:+0100
END:STANDARD
END:VTIMEZONE
BEGIN:VEVENT
SUMMARY:Zgodovina matematike (PM-4\, PM-5)\, Vaje (V)
DTSTART;TZID=Europe/Ljubljana:20221220T080000
DTEND;TZID=Europe/Ljubljana:20221220T100000
DTSTAMP:20260426T011741Z
UID:fmf-AFLABS-URNIK:premaknjeno-srecanje:122214
ATTENDEE:4. letnik (PM)
ATTENDEE:5. letnik (PM)
CATEGORIES:Entry,Standard
COLOR:darkgreen
DESCRIPTION:Predmet: Zgodovina matematike (PM-4\, PM-5)\, Vaje (V)\nLetnik
 i: 4. letnik (PM)\, 5. letnik (PM)\nIzvajalci: Peter Goričan\nProstor: 3.
 07
LOCATION:3.07
ORGANIZER:Peter Goričan
RELATED-TO:fmf-AFLABS-URNIK:srecanje:8133
X-WR-TIMEZONE:Europe/Ljubljana
END:VEVENT
BEGIN:VEVENT
SUMMARY:Zgodovina matematike (PM-4\, PM-5)\, Vaje (V)
DTSTART;TZID=Europe/Ljubljana:20221227T080000
DTEND;TZID=Europe/Ljubljana:20221227T100000
DTSTAMP:20260426T011741Z
UID:fmf-AFLABS-URNIK:premaknjeno-srecanje:122215
ATTENDEE:4. letnik (PM)
ATTENDEE:5. letnik (PM)
CATEGORIES:Entry,Standard
COLOR:darkgreen
DESCRIPTION:Predmet: Zgodovina matematike (PM-4\, PM-5)\, Vaje (V)\nLetnik
 i: 4. letnik (PM)\, 5. letnik (PM)\nIzvajalci: Peter Goričan\nProstor: 3.
 07
LOCATION:3.07
ORGANIZER:Peter Goričan
RELATED-TO:fmf-AFLABS-URNIK:srecanje:8133
X-WR-TIMEZONE:Europe/Ljubljana
END:VEVENT
BEGIN:VEVENT
SUMMARY:Zgodovina matematike (PM-4\, PM-5)\, Vaje (V)
DTSTART;TZID=Europe/Ljubljana:20230103T080000
DTEND;TZID=Europe/Ljubljana:20230103T100000
DTSTAMP:20260426T011741Z
UID:fmf-AFLABS-URNIK:premaknjeno-srecanje:122216
ATTENDEE:4. letnik (PM)
ATTENDEE:5. letnik (PM)
CATEGORIES:Entry,Standard
COLOR:darkgreen
DESCRIPTION:Predmet: Zgodovina matematike (PM-4\, PM-5)\, Vaje (V)\nLetnik
 i: 4. letnik (PM)\, 5. letnik (PM)\nIzvajalci: Peter Goričan\nProstor: 3.
 07
LOCATION:3.07
ORGANIZER:Peter Goričan
RELATED-TO:fmf-AFLABS-URNIK:srecanje:8133
X-WR-TIMEZONE:Europe/Ljubljana
END:VEVENT
BEGIN:VEVENT
SUMMARY:Zgodovina matematike (PM-4\, PM-5)\, Vaje (V)
DTSTART;TZID=Europe/Ljubljana:20230110T080000
DTEND;TZID=Europe/Ljubljana:20230110T100000
DTSTAMP:20260426T011741Z
UID:fmf-AFLABS-URNIK:premaknjeno-srecanje:122217
ATTENDEE:4. letnik (PM)
ATTENDEE:5. letnik (PM)
CATEGORIES:Entry,Standard
COLOR:darkgreen
DESCRIPTION:Predmet: Zgodovina matematike (PM-4\, PM-5)\, Vaje (V)\nLetnik
 i: 4. letnik (PM)\, 5. letnik (PM)\nIzvajalci: Peter Goričan\nProstor: 3.
 07
LOCATION:3.07
ORGANIZER:Peter Goričan
RELATED-TO:fmf-AFLABS-URNIK:srecanje:8133
X-WR-TIMEZONE:Europe/Ljubljana
END:VEVENT
BEGIN:VEVENT
SUMMARY:Matematika I (FIZ-1)\, Vaje (V)\, [2]
DTSTART;TZID=Europe/Ljubljana:20221222T100000
DTEND;TZID=Europe/Ljubljana:20221222T120000
DTSTAMP:20260426T011741Z
UID:fmf-AFLABS-URNIK:premaknjeno-srecanje:64963
ATTENDEE:1. letnik (Fizika, 1. stopnja)
CATEGORIES:Entry,Standard
COLOR:darkgreen
DESCRIPTION:Predmet: Matematika I (FIZ-1)\, Vaje (V)\, [2]\nLetniki: 1. le
 tnik (Fizika\, 1. stopnja)\nIzvajalci: Peter Goričan\nProstor: F2
LOCATION:F2
ORGANIZER:Peter Goričan
RELATED-TO:fmf-AFLABS-URNIK:srecanje:7787
X-WR-TIMEZONE:Europe/Ljubljana
END:VEVENT
BEGIN:VEVENT
SUMMARY:Matematika I (FIZ-1)\, Vaje (V)\, [2]
DTSTART;TZID=Europe/Ljubljana:20221229T100000
DTEND;TZID=Europe/Ljubljana:20221229T120000
DTSTAMP:20260426T011741Z
UID:fmf-AFLABS-URNIK:premaknjeno-srecanje:64964
ATTENDEE:1. letnik (Fizika, 1. stopnja)
CATEGORIES:Entry,Standard
COLOR:darkgreen
DESCRIPTION:Predmet: Matematika I (FIZ-1)\, Vaje (V)\, [2]\nLetniki: 1. le
 tnik (Fizika\, 1. stopnja)\nIzvajalci: Peter Goričan\nProstor: F2
LOCATION:F2
ORGANIZER:Peter Goričan
RELATED-TO:fmf-AFLABS-URNIK:srecanje:7787
X-WR-TIMEZONE:Europe/Ljubljana
END:VEVENT
BEGIN:VEVENT
SUMMARY:Matematika I (FIZ-1)\, Vaje (V)\, [2]
DTSTART;TZID=Europe/Ljubljana:20230105T100000
DTEND;TZID=Europe/Ljubljana:20230105T120000
DTSTAMP:20260426T011741Z
UID:fmf-AFLABS-URNIK:premaknjeno-srecanje:64965
ATTENDEE:1. letnik (Fizika, 1. stopnja)
CATEGORIES:Entry,Standard
COLOR:darkgreen
DESCRIPTION:Predmet: Matematika I (FIZ-1)\, Vaje (V)\, [2]\nLetniki: 1. le
 tnik (Fizika\, 1. stopnja)\nIzvajalci: Peter Goričan\nProstor: F2
LOCATION:F2
ORGANIZER:Peter Goričan
RELATED-TO:fmf-AFLABS-URNIK:srecanje:7787
X-WR-TIMEZONE:Europe/Ljubljana
END:VEVENT
BEGIN:VEVENT
SUMMARY:Matematika I (FIZ-1)\, Vaje (V)\, [2]
DTSTART;TZID=Europe/Ljubljana:20230112T100000
DTEND;TZID=Europe/Ljubljana:20230112T120000
DTSTAMP:20260426T011741Z
UID:fmf-AFLABS-URNIK:premaknjeno-srecanje:64966
ATTENDEE:1. letnik (Fizika, 1. stopnja)
CATEGORIES:Entry,Standard
COLOR:darkgreen
DESCRIPTION:Predmet: Matematika I (FIZ-1)\, Vaje (V)\, [2]\nLetniki: 1. le
 tnik (Fizika\, 1. stopnja)\nIzvajalci: Peter Goričan\nProstor: F2
LOCATION:F2
ORGANIZER:Peter Goričan
RELATED-TO:fmf-AFLABS-URNIK:srecanje:7787
X-WR-TIMEZONE:Europe/Ljubljana
END:VEVENT
BEGIN:VEVENT
SUMMARY:Matematika I (FIZ-1)\, Vaje (V)\, [2]
DTSTART;TZID=Europe/Ljubljana:20221223T120000
DTEND;TZID=Europe/Ljubljana:20221223T140000
DTSTAMP:20260426T011741Z
UID:fmf-AFLABS-URNIK:premaknjeno-srecanje:65073
ATTENDEE:1. letnik (Fizika, 1. stopnja)
CATEGORIES:Entry,Standard
COLOR:darkgreen
DESCRIPTION:Predmet: Matematika I (FIZ-1)\, Vaje (V)\, [2]\nLetniki: 1. le
 tnik (Fizika\, 1. stopnja)\nIzvajalci: Peter Goričan\nProstor: F1
LOCATION:F1
ORGANIZER:Peter Goričan
RELATED-TO:fmf-AFLABS-URNIK:srecanje:7791
X-WR-TIMEZONE:Europe/Ljubljana
END:VEVENT
BEGIN:VEVENT
SUMMARY:Matematika I (FIZ-1)\, Vaje (V)\, [2]
DTSTART;TZID=Europe/Ljubljana:20221230T120000
DTEND;TZID=Europe/Ljubljana:20221230T140000
DTSTAMP:20260426T011741Z
UID:fmf-AFLABS-URNIK:premaknjeno-srecanje:65074
ATTENDEE:1. letnik (Fizika, 1. stopnja)
CATEGORIES:Entry,Standard
COLOR:darkgreen
DESCRIPTION:Predmet: Matematika I (FIZ-1)\, Vaje (V)\, [2]\nLetniki: 1. le
 tnik (Fizika\, 1. stopnja)\nIzvajalci: Peter Goričan\nProstor: F1
LOCATION:F1
ORGANIZER:Peter Goričan
RELATED-TO:fmf-AFLABS-URNIK:srecanje:7791
X-WR-TIMEZONE:Europe/Ljubljana
END:VEVENT
BEGIN:VEVENT
SUMMARY:Matematika I (FIZ-1)\, Vaje (V)\, [2]
DTSTART;TZID=Europe/Ljubljana:20230106T120000
DTEND;TZID=Europe/Ljubljana:20230106T140000
DTSTAMP:20260426T011741Z
UID:fmf-AFLABS-URNIK:premaknjeno-srecanje:65075
ATTENDEE:1. letnik (Fizika, 1. stopnja)
CATEGORIES:Entry,Standard
COLOR:darkgreen
DESCRIPTION:Predmet: Matematika I (FIZ-1)\, Vaje (V)\, [2]\nLetniki: 1. le
 tnik (Fizika\, 1. stopnja)\nIzvajalci: Peter Goričan\nProstor: F1
LOCATION:F1
ORGANIZER:Peter Goričan
RELATED-TO:fmf-AFLABS-URNIK:srecanje:7791
X-WR-TIMEZONE:Europe/Ljubljana
END:VEVENT
BEGIN:VEVENT
SUMMARY:Matematika I (FIZ-1)\, Vaje (V)\, [2]
DTSTART;TZID=Europe/Ljubljana:20230113T120000
DTEND;TZID=Europe/Ljubljana:20230113T140000
DTSTAMP:20260426T011741Z
UID:fmf-AFLABS-URNIK:premaknjeno-srecanje:65076
ATTENDEE:1. letnik (Fizika, 1. stopnja)
CATEGORIES:Entry,Standard
COLOR:darkgreen
DESCRIPTION:Predmet: Matematika I (FIZ-1)\, Vaje (V)\, [2]\nLetniki: 1. le
 tnik (Fizika\, 1. stopnja)\nIzvajalci: Peter Goričan\nProstor: F1
LOCATION:F1
ORGANIZER:Peter Goričan
RELATED-TO:fmf-AFLABS-URNIK:srecanje:7791
X-WR-TIMEZONE:Europe/Ljubljana
END:VEVENT
END:VCALENDAR
