BEGIN:VCALENDAR
VERSION:2.0
PRODID:-//AFLabs urnik izvoz - fmf//aflabs.si//SI
DTSTAMP:20260423T010100Z
NAME:UL FMF urnik
REFRESH-INTERVAL:PT1H
SOURCE:https://urnik.fmf.uni-lj.si/teacher/703?day=2020-10-12&export=1
URL:https://urnik.fmf.uni-lj.si/teacher/703?day=2020-10-12&export=1
X-PUBLISHED-TTL:PT1H
X-WR-CALNAME:UL FMF urnik
X-WR-TIMEZONE:Europe/Ljubljana
BEGIN:VTIMEZONE
TZID:Europe/Ljubljana
BEGIN:DAYLIGHT
DTSTART:20260329T020000
RDATE:20260329T020000
RDATE:20270328T020000
TZNAME:CEST
TZOFFSETFROM:+0100
TZOFFSETTO:+0200
END:DAYLIGHT
BEGIN:STANDARD
DTSTART:20261025T030000
RDATE:20261025T030000
RDATE:20271031T030000
TZNAME:CET
TZOFFSETFROM:+0200
TZOFFSETTO:+0100
END:STANDARD
END:VTIMEZONE
BEGIN:VEVENT
SUMMARY:Analiza 4 (FM-3)\, Vaje (V)
DTSTART;TZID=Europe/Ljubljana:20201006T150000
DTEND;TZID=Europe/Ljubljana:20201006T180000
DTSTAMP:20260423T010100Z
UID:fmf-AFLABS-URNIK:premaknjeno-srecanje:9391
ATTENDEE:3. letnik (FM)
CATEGORIES:Entry,Standard
COLOR:darkgreen
DESCRIPTION:Predmet: Analiza 4 (FM-3)\, Vaje (V)\nLetniki: 3. letnik (FM)\
 nIzvajalci: Žan Grad\nProstor: 2.02
LOCATION:2.02
ORGANIZER:Žan Grad
RELATED-TO:fmf-AFLABS-URNIK:srecanje:4691
X-WR-TIMEZONE:Europe/Ljubljana
END:VEVENT
BEGIN:VEVENT
SUMMARY:Analiza 4 (FM-3)\, Vaje (V)
DTSTART;TZID=Europe/Ljubljana:20201013T150000
DTEND;TZID=Europe/Ljubljana:20201013T180000
DTSTAMP:20260423T010100Z
UID:fmf-AFLABS-URNIK:premaknjeno-srecanje:9392
ATTENDEE:3. letnik (FM)
CATEGORIES:Entry,Standard
COLOR:darkgreen
DESCRIPTION:Predmet: Analiza 4 (FM-3)\, Vaje (V)\nLetniki: 3. letnik (FM)\
 nIzvajalci: Žan Grad\nProstor: 2.02
LOCATION:2.02
ORGANIZER:Žan Grad
RELATED-TO:fmf-AFLABS-URNIK:srecanje:4691
X-WR-TIMEZONE:Europe/Ljubljana
END:VEVENT
BEGIN:VEVENT
SUMMARY:Analiza 4 (FM-3)\, Vaje (V)
DTSTART;TZID=Europe/Ljubljana:20201020T150000
DTEND;TZID=Europe/Ljubljana:20201020T180000
DTSTAMP:20260423T010100Z
UID:fmf-AFLABS-URNIK:premaknjeno-srecanje:9393
ATTENDEE:3. letnik (FM)
CATEGORIES:Entry,Standard
COLOR:darkgreen
DESCRIPTION:Predmet: Analiza 4 (FM-3)\, Vaje (V)\nLetniki: 3. letnik (FM)\
 nIzvajalci: Žan Grad\nProstor: 2.02
LOCATION:2.02
ORGANIZER:Žan Grad
RELATED-TO:fmf-AFLABS-URNIK:srecanje:4691
X-WR-TIMEZONE:Europe/Ljubljana
END:VEVENT
BEGIN:VEVENT
SUMMARY:Analiza 4 (FM-3)\, Vaje (V)
DTSTART;TZID=Europe/Ljubljana:20201027T150000
DTEND;TZID=Europe/Ljubljana:20201027T180000
DTSTAMP:20260423T010100Z
UID:fmf-AFLABS-URNIK:premaknjeno-srecanje:9394
ATTENDEE:3. letnik (FM)
CATEGORIES:Entry,Standard
COLOR:darkgreen
DESCRIPTION:Predmet: Analiza 4 (FM-3)\, Vaje (V)\nLetniki: 3. letnik (FM)\
 nIzvajalci: Žan Grad\nProstor: 2.02
LOCATION:2.02
ORGANIZER:Žan Grad
RELATED-TO:fmf-AFLABS-URNIK:srecanje:4691
X-WR-TIMEZONE:Europe/Ljubljana
END:VEVENT
BEGIN:VEVENT
SUMMARY:Analiza 4 (FM-3)\, Vaje (V)
DTSTART;TZID=Europe/Ljubljana:20201103T150000
DTEND;TZID=Europe/Ljubljana:20201103T180000
DTSTAMP:20260423T010100Z
UID:fmf-AFLABS-URNIK:premaknjeno-srecanje:9395
ATTENDEE:3. letnik (FM)
CATEGORIES:Entry,Standard
COLOR:darkgreen
DESCRIPTION:Predmet: Analiza 4 (FM-3)\, Vaje (V)\nLetniki: 3. letnik (FM)\
 nIzvajalci: Žan Grad\nProstor: 2.02
LOCATION:2.02
ORGANIZER:Žan Grad
RELATED-TO:fmf-AFLABS-URNIK:srecanje:4691
X-WR-TIMEZONE:Europe/Ljubljana
END:VEVENT
BEGIN:VEVENT
SUMMARY:Analiza 4 (FM-3)\, Vaje (V)
DTSTART;TZID=Europe/Ljubljana:20201110T150000
DTEND;TZID=Europe/Ljubljana:20201110T180000
DTSTAMP:20260423T010100Z
UID:fmf-AFLABS-URNIK:premaknjeno-srecanje:9396
ATTENDEE:3. letnik (FM)
CATEGORIES:Entry,Standard
COLOR:darkgreen
DESCRIPTION:Predmet: Analiza 4 (FM-3)\, Vaje (V)\nLetniki: 3. letnik (FM)\
 nIzvajalci: Žan Grad\nProstor: 2.02
LOCATION:2.02
ORGANIZER:Žan Grad
RELATED-TO:fmf-AFLABS-URNIK:srecanje:4691
X-WR-TIMEZONE:Europe/Ljubljana
END:VEVENT
BEGIN:VEVENT
SUMMARY:Analiza 4 (FM-3)\, Vaje (V)
DTSTART;TZID=Europe/Ljubljana:20201117T150000
DTEND;TZID=Europe/Ljubljana:20201117T180000
DTSTAMP:20260423T010100Z
UID:fmf-AFLABS-URNIK:premaknjeno-srecanje:9397
ATTENDEE:3. letnik (FM)
CATEGORIES:Entry,Standard
COLOR:darkgreen
DESCRIPTION:Predmet: Analiza 4 (FM-3)\, Vaje (V)\nLetniki: 3. letnik (FM)\
 nIzvajalci: Žan Grad\nProstor: 2.02
LOCATION:2.02
ORGANIZER:Žan Grad
RELATED-TO:fmf-AFLABS-URNIK:srecanje:4691
X-WR-TIMEZONE:Europe/Ljubljana
END:VEVENT
BEGIN:VEVENT
SUMMARY:Analiza 4 (FM-3)\, Vaje (V)
DTSTART;TZID=Europe/Ljubljana:20201124T150000
DTEND;TZID=Europe/Ljubljana:20201124T180000
DTSTAMP:20260423T010100Z
UID:fmf-AFLABS-URNIK:premaknjeno-srecanje:9398
ATTENDEE:3. letnik (FM)
CATEGORIES:Entry,Standard
COLOR:darkgreen
DESCRIPTION:Predmet: Analiza 4 (FM-3)\, Vaje (V)\nLetniki: 3. letnik (FM)\
 nIzvajalci: Žan Grad\nProstor: 2.02
LOCATION:2.02
ORGANIZER:Žan Grad
RELATED-TO:fmf-AFLABS-URNIK:srecanje:4691
X-WR-TIMEZONE:Europe/Ljubljana
END:VEVENT
BEGIN:VEVENT
SUMMARY:Analiza 4 (FM-3)\, Vaje (V)
DTSTART;TZID=Europe/Ljubljana:20201201T150000
DTEND;TZID=Europe/Ljubljana:20201201T180000
DTSTAMP:20260423T010100Z
UID:fmf-AFLABS-URNIK:premaknjeno-srecanje:9399
ATTENDEE:3. letnik (FM)
CATEGORIES:Entry,Standard
COLOR:darkgreen
DESCRIPTION:Predmet: Analiza 4 (FM-3)\, Vaje (V)\nLetniki: 3. letnik (FM)\
 nIzvajalci: Žan Grad\nProstor: 2.02
LOCATION:2.02
ORGANIZER:Žan Grad
RELATED-TO:fmf-AFLABS-URNIK:srecanje:4691
X-WR-TIMEZONE:Europe/Ljubljana
END:VEVENT
BEGIN:VEVENT
SUMMARY:Analiza 4 (FM-3)\, Vaje (V)
DTSTART;TZID=Europe/Ljubljana:20201208T150000
DTEND;TZID=Europe/Ljubljana:20201208T180000
DTSTAMP:20260423T010100Z
UID:fmf-AFLABS-URNIK:premaknjeno-srecanje:9400
ATTENDEE:3. letnik (FM)
CATEGORIES:Entry,Standard
COLOR:darkgreen
DESCRIPTION:Predmet: Analiza 4 (FM-3)\, Vaje (V)\nLetniki: 3. letnik (FM)\
 nIzvajalci: Žan Grad\nProstor: 2.02
LOCATION:2.02
ORGANIZER:Žan Grad
RELATED-TO:fmf-AFLABS-URNIK:srecanje:4691
X-WR-TIMEZONE:Europe/Ljubljana
END:VEVENT
BEGIN:VEVENT
SUMMARY:Analiza 4 (FM-3)\, Vaje (V)
DTSTART;TZID=Europe/Ljubljana:20201215T150000
DTEND;TZID=Europe/Ljubljana:20201215T180000
DTSTAMP:20260423T010100Z
UID:fmf-AFLABS-URNIK:premaknjeno-srecanje:9401
ATTENDEE:3. letnik (FM)
CATEGORIES:Entry,Standard
COLOR:darkgreen
DESCRIPTION:Predmet: Analiza 4 (FM-3)\, Vaje (V)\nLetniki: 3. letnik (FM)\
 nIzvajalci: Žan Grad\nProstor: 2.02
LOCATION:2.02
ORGANIZER:Žan Grad
RELATED-TO:fmf-AFLABS-URNIK:srecanje:4691
X-WR-TIMEZONE:Europe/Ljubljana
END:VEVENT
BEGIN:VEVENT
SUMMARY:Analiza 4 (FM-3)\, Vaje (V)
DTSTART;TZID=Europe/Ljubljana:20201222T150000
DTEND;TZID=Europe/Ljubljana:20201222T180000
DTSTAMP:20260423T010100Z
UID:fmf-AFLABS-URNIK:premaknjeno-srecanje:9402
ATTENDEE:3. letnik (FM)
CATEGORIES:Entry,Standard
COLOR:darkgreen
DESCRIPTION:Predmet: Analiza 4 (FM-3)\, Vaje (V)\nLetniki: 3. letnik (FM)\
 nIzvajalci: Žan Grad\nProstor: 2.02
LOCATION:2.02
ORGANIZER:Žan Grad
RELATED-TO:fmf-AFLABS-URNIK:srecanje:4691
X-WR-TIMEZONE:Europe/Ljubljana
END:VEVENT
BEGIN:VEVENT
SUMMARY:Analiza 4 (FM-3)\, Vaje (V)
DTSTART;TZID=Europe/Ljubljana:20201229T150000
DTEND;TZID=Europe/Ljubljana:20201229T180000
DTSTAMP:20260423T010100Z
UID:fmf-AFLABS-URNIK:premaknjeno-srecanje:9403
ATTENDEE:3. letnik (FM)
CATEGORIES:Entry,Standard
COLOR:darkgreen
DESCRIPTION:Predmet: Analiza 4 (FM-3)\, Vaje (V)\nLetniki: 3. letnik (FM)\
 nIzvajalci: Žan Grad\nProstor: 2.02
LOCATION:2.02
ORGANIZER:Žan Grad
RELATED-TO:fmf-AFLABS-URNIK:srecanje:4691
X-WR-TIMEZONE:Europe/Ljubljana
END:VEVENT
BEGIN:VEVENT
SUMMARY:Analiza 4 (FM-3)\, Vaje (V)
DTSTART;TZID=Europe/Ljubljana:20210105T150000
DTEND;TZID=Europe/Ljubljana:20210105T180000
DTSTAMP:20260423T010100Z
UID:fmf-AFLABS-URNIK:premaknjeno-srecanje:9404
ATTENDEE:3. letnik (FM)
CATEGORIES:Entry,Standard
COLOR:darkgreen
DESCRIPTION:Predmet: Analiza 4 (FM-3)\, Vaje (V)\nLetniki: 3. letnik (FM)\
 nIzvajalci: Žan Grad\nProstor: 2.02
LOCATION:2.02
ORGANIZER:Žan Grad
RELATED-TO:fmf-AFLABS-URNIK:srecanje:4691
X-WR-TIMEZONE:Europe/Ljubljana
END:VEVENT
BEGIN:VEVENT
SUMMARY:Analiza 4 (FM-3)\, Vaje (V)
DTSTART;TZID=Europe/Ljubljana:20210112T150000
DTEND;TZID=Europe/Ljubljana:20210112T180000
DTSTAMP:20260423T010100Z
UID:fmf-AFLABS-URNIK:premaknjeno-srecanje:9405
ATTENDEE:3. letnik (FM)
CATEGORIES:Entry,Standard
COLOR:darkgreen
DESCRIPTION:Predmet: Analiza 4 (FM-3)\, Vaje (V)\nLetniki: 3. letnik (FM)\
 nIzvajalci: Žan Grad\nProstor: 2.02
LOCATION:2.02
ORGANIZER:Žan Grad
RELATED-TO:fmf-AFLABS-URNIK:srecanje:4691
X-WR-TIMEZONE:Europe/Ljubljana
END:VEVENT
BEGIN:VEVENT
SUMMARY:Rezervacija
DTSTART;TZID=Europe/Ljubljana:20201026T110000
DTEND;TZID=Europe/Ljubljana:20201026T130000
DTSTAMP:20260423T010100Z
UID:fmf-AFLABS-URNIK:rezervacija:6531
CATEGORIES:Reservation
COLOR:royalblue
DESCRIPTION:Predmeti: \nLetniki: \nIzvajalci: Žan Grad\nProstori: 3.06
LOCATION:3.06
ORGANIZER:Žan Grad
X-WR-TIMEZONE:Europe/Ljubljana
END:VEVENT
END:VCALENDAR
