BEGIN:VCALENDAR
VERSION:2.0
PRODID:-//AFLabs urnik izvoz - fmf//aflabs.si//SI
DTSTAMP:20260422T092322Z
NAME:UL FMF urnik
REFRESH-INTERVAL:PT1H
SOURCE:https://urnik.fmf.uni-lj.si/teacher/703?day=2021-01-25&export=1
URL:https://urnik.fmf.uni-lj.si/teacher/703?day=2021-01-25&export=1
X-PUBLISHED-TTL:PT1H
X-WR-CALNAME:UL FMF urnik
X-WR-TIMEZONE:Europe/Ljubljana
BEGIN:VTIMEZONE
TZID:Europe/Ljubljana
BEGIN:DAYLIGHT
DTSTART:20260329T020000
RDATE:20260329T020000
RDATE:20270328T020000
TZNAME:CEST
TZOFFSETFROM:+0100
TZOFFSETTO:+0200
END:DAYLIGHT
BEGIN:STANDARD
DTSTART:20261025T030000
RDATE:20261025T030000
RDATE:20271031T030000
TZNAME:CET
TZOFFSETFROM:+0200
TZOFFSETTO:+0100
END:STANDARD
END:VTIMEZONE
BEGIN:VEVENT
SUMMARY:Analiza 4 (FM-3)\, Vaje (V)
DTSTART;TZID=Europe/Ljubljana:20201222T150000
DTEND;TZID=Europe/Ljubljana:20201222T180000
DTSTAMP:20260422T092322Z
UID:fmf-AFLABS-URNIK:premaknjeno-srecanje:9402
ATTENDEE:3. letnik (FM)
CATEGORIES:Entry,Standard
COLOR:darkgreen
DESCRIPTION:Predmet: Analiza 4 (FM-3)\, Vaje (V)\nLetniki: 3. letnik (FM)\
 nIzvajalci: Žan Grad\nProstor: 2.02
LOCATION:2.02
ORGANIZER:Žan Grad
RELATED-TO:fmf-AFLABS-URNIK:srecanje:4691
X-WR-TIMEZONE:Europe/Ljubljana
END:VEVENT
BEGIN:VEVENT
SUMMARY:Analiza 4 (FM-3)\, Vaje (V)
DTSTART;TZID=Europe/Ljubljana:20201229T150000
DTEND;TZID=Europe/Ljubljana:20201229T180000
DTSTAMP:20260422T092322Z
UID:fmf-AFLABS-URNIK:premaknjeno-srecanje:9403
ATTENDEE:3. letnik (FM)
CATEGORIES:Entry,Standard
COLOR:darkgreen
DESCRIPTION:Predmet: Analiza 4 (FM-3)\, Vaje (V)\nLetniki: 3. letnik (FM)\
 nIzvajalci: Žan Grad\nProstor: 2.02
LOCATION:2.02
ORGANIZER:Žan Grad
RELATED-TO:fmf-AFLABS-URNIK:srecanje:4691
X-WR-TIMEZONE:Europe/Ljubljana
END:VEVENT
BEGIN:VEVENT
SUMMARY:Analiza 4 (FM-3)\, Vaje (V)
DTSTART;TZID=Europe/Ljubljana:20210105T150000
DTEND;TZID=Europe/Ljubljana:20210105T180000
DTSTAMP:20260422T092322Z
UID:fmf-AFLABS-URNIK:premaknjeno-srecanje:9404
ATTENDEE:3. letnik (FM)
CATEGORIES:Entry,Standard
COLOR:darkgreen
DESCRIPTION:Predmet: Analiza 4 (FM-3)\, Vaje (V)\nLetniki: 3. letnik (FM)\
 nIzvajalci: Žan Grad\nProstor: 2.02
LOCATION:2.02
ORGANIZER:Žan Grad
RELATED-TO:fmf-AFLABS-URNIK:srecanje:4691
X-WR-TIMEZONE:Europe/Ljubljana
END:VEVENT
BEGIN:VEVENT
SUMMARY:Analiza 4 (FM-3)\, Vaje (V)
DTSTART;TZID=Europe/Ljubljana:20210112T150000
DTEND;TZID=Europe/Ljubljana:20210112T180000
DTSTAMP:20260422T092322Z
UID:fmf-AFLABS-URNIK:premaknjeno-srecanje:9405
ATTENDEE:3. letnik (FM)
CATEGORIES:Entry,Standard
COLOR:darkgreen
DESCRIPTION:Predmet: Analiza 4 (FM-3)\, Vaje (V)\nLetniki: 3. letnik (FM)\
 nIzvajalci: Žan Grad\nProstor: 2.02
LOCATION:2.02
ORGANIZER:Žan Grad
RELATED-TO:fmf-AFLABS-URNIK:srecanje:4691
X-WR-TIMEZONE:Europe/Ljubljana
END:VEVENT
BEGIN:VEVENT
SUMMARY:Matematika II (FIZ-1)\, Vaje (V)\, [1]
DTSTART;TZID=Europe/Ljubljana:20210216T100000
DTEND;TZID=Europe/Ljubljana:20210216T120000
DTSTAMP:20260422T092322Z
UID:fmf-AFLABS-URNIK:premaknjeno-srecanje:65339
ATTENDEE:1. letnik (Fizika, 1. stopnja)
CATEGORIES:Entry,Standard
COLOR:darkgreen
DESCRIPTION:Predmet: Matematika II (FIZ-1)\, Vaje (V)\, [1]\nLetniki: 1. l
 etnik (Fizika\, 1. stopnja)\nIzvajalci: Žan Grad\nProstor: 2.05
LOCATION:2.05
ORGANIZER:Žan Grad
RELATED-TO:fmf-AFLABS-URNIK:srecanje:5714
X-WR-TIMEZONE:Europe/Ljubljana
END:VEVENT
BEGIN:VEVENT
SUMMARY:Matematika II (FIZ-1)\, Vaje (V)\, [1]
DTSTART;TZID=Europe/Ljubljana:20210223T100000
DTEND;TZID=Europe/Ljubljana:20210223T120000
DTSTAMP:20260422T092322Z
UID:fmf-AFLABS-URNIK:premaknjeno-srecanje:65340
ATTENDEE:1. letnik (Fizika, 1. stopnja)
CATEGORIES:Entry,Standard
COLOR:darkgreen
DESCRIPTION:Predmet: Matematika II (FIZ-1)\, Vaje (V)\, [1]\nLetniki: 1. l
 etnik (Fizika\, 1. stopnja)\nIzvajalci: Žan Grad\nProstor: 2.05
LOCATION:2.05
ORGANIZER:Žan Grad
RELATED-TO:fmf-AFLABS-URNIK:srecanje:5714
X-WR-TIMEZONE:Europe/Ljubljana
END:VEVENT
BEGIN:VEVENT
SUMMARY:Matematika IV (FIZ-2)\, Vaje (V)\, [2]
DTSTART;TZID=Europe/Ljubljana:20210217T120000
DTEND;TZID=Europe/Ljubljana:20210217T140000
DTSTAMP:20260422T092322Z
UID:fmf-AFLABS-URNIK:premaknjeno-srecanje:66821
ATTENDEE:2. letnik (Fizika, 1. stopnja)
CATEGORIES:Entry,Standard
COLOR:darkgreen
DESCRIPTION:Predmet: Matematika IV (FIZ-2)\, Vaje (V)\, [2]\nLetniki: 2. l
 etnik (Fizika\, 1. stopnja)\nIzvajalci: Žan Grad\nProstor: F1
LOCATION:F1
ORGANIZER:Žan Grad
RELATED-TO:fmf-AFLABS-URNIK:srecanje:5719
X-WR-TIMEZONE:Europe/Ljubljana
END:VEVENT
BEGIN:VEVENT
SUMMARY:Matematika IV (FIZ-2)\, Vaje (V)\, [2]
DTSTART;TZID=Europe/Ljubljana:20210224T120000
DTEND;TZID=Europe/Ljubljana:20210224T140000
DTSTAMP:20260422T092322Z
UID:fmf-AFLABS-URNIK:premaknjeno-srecanje:66822
ATTENDEE:2. letnik (Fizika, 1. stopnja)
CATEGORIES:Entry,Standard
COLOR:darkgreen
DESCRIPTION:Predmet: Matematika IV (FIZ-2)\, Vaje (V)\, [2]\nLetniki: 2. l
 etnik (Fizika\, 1. stopnja)\nIzvajalci: Žan Grad\nProstor: F1
LOCATION:F1
ORGANIZER:Žan Grad
RELATED-TO:fmf-AFLABS-URNIK:srecanje:5719
X-WR-TIMEZONE:Europe/Ljubljana
END:VEVENT
BEGIN:VEVENT
SUMMARY:Diferencialna geometrija (FM-M\, MAT-M\, PM-5)\, Vaje (V)
DTSTART;TZID=Europe/Ljubljana:20210219T100000
DTEND;TZID=Europe/Ljubljana:20210219T120000
DTSTAMP:20260422T092322Z
UID:fmf-AFLABS-URNIK:premaknjeno-srecanje:14590
ATTENDEE:5. letnik (PM)
ATTENDEE:magistrski študij (FM)
ATTENDEE:magistrski študij (M)
CATEGORIES:Entry,Standard
COLOR:darkgreen
DESCRIPTION:Predmet: Diferencialna geometrija (FM-M\, MAT-M\, PM-5)\, Vaje
  (V)\nLetniki: magistrski študij (FM)\, magistrski študij (M)\, 5. letni
 k (PM)\nIzvajalci: Žan Grad\nProstor: 3.06
LOCATION:3.06
ORGANIZER:Žan Grad
RELATED-TO:fmf-AFLABS-URNIK:srecanje:5681
X-WR-TIMEZONE:Europe/Ljubljana
END:VEVENT
BEGIN:VEVENT
SUMMARY:Diferencialna geometrija (FM-M\, MAT-M\, PM-5)\, Vaje (V)
DTSTART;TZID=Europe/Ljubljana:20210226T100000
DTEND;TZID=Europe/Ljubljana:20210226T120000
DTSTAMP:20260422T092322Z
UID:fmf-AFLABS-URNIK:premaknjeno-srecanje:14591
ATTENDEE:5. letnik (PM)
ATTENDEE:magistrski študij (FM)
ATTENDEE:magistrski študij (M)
CATEGORIES:Entry,Standard
COLOR:darkgreen
DESCRIPTION:Predmet: Diferencialna geometrija (FM-M\, MAT-M\, PM-5)\, Vaje
  (V)\nLetniki: magistrski študij (FM)\, magistrski študij (M)\, 5. letni
 k (PM)\nIzvajalci: Žan Grad\nProstor: 3.06
LOCATION:3.06
ORGANIZER:Žan Grad
RELATED-TO:fmf-AFLABS-URNIK:srecanje:5681
X-WR-TIMEZONE:Europe/Ljubljana
END:VEVENT
BEGIN:VEVENT
SUMMARY:Rezervacija
DTSTART;TZID=Europe/Ljubljana:20210121T100000
DTEND;TZID=Europe/Ljubljana:20210121T130000
DTSTAMP:20260422T092322Z
UID:fmf-AFLABS-URNIK:rezervacija:6571
CATEGORIES:Reservation
COLOR:royalblue
DESCRIPTION:Predmeti: \nLetniki: \nIzvajalci: Roman Drnovšek\, Žan Grad\
 nProstori: VFP
LOCATION:VFP
ORGANIZER:Roman Drnovšek, Žan Grad
X-WR-TIMEZONE:Europe/Ljubljana
END:VEVENT
BEGIN:VEVENT
SUMMARY:Rezervacija
DTSTART;TZID=Europe/Ljubljana:20210202T100000
DTEND;TZID=Europe/Ljubljana:20210202T130000
DTSTAMP:20260422T092322Z
UID:fmf-AFLABS-URNIK:rezervacija:6580
CATEGORIES:Reservation
COLOR:royalblue
DESCRIPTION:Predmeti: \nLetniki: \nIzvajalci: Roman Drnovšek\, Žan Grad\
 nProstori: VFP
LOCATION:VFP
ORGANIZER:Roman Drnovšek, Žan Grad
X-WR-TIMEZONE:Europe/Ljubljana
END:VEVENT
END:VCALENDAR
