BEGIN:VCALENDAR
VERSION:2.0
PRODID:-//AFLabs urnik izvoz - fmf//aflabs.si//SI
DTSTAMP:20260423T114236Z
NAME:UL FMF urnik
REFRESH-INTERVAL:PT1H
SOURCE:https://urnik.fmf.uni-lj.si/teacher/70?day=2020-09-21&export=1
URL:https://urnik.fmf.uni-lj.si/teacher/70?day=2020-09-21&export=1
X-PUBLISHED-TTL:PT1H
X-WR-CALNAME:UL FMF urnik
X-WR-TIMEZONE:Europe/Ljubljana
BEGIN:VTIMEZONE
TZID:Europe/Ljubljana
BEGIN:DAYLIGHT
DTSTART:20260329T020000
RDATE:20260329T020000
RDATE:20270328T020000
TZNAME:CEST
TZOFFSETFROM:+0100
TZOFFSETTO:+0200
END:DAYLIGHT
BEGIN:STANDARD
DTSTART:20261025T030000
RDATE:20261025T030000
RDATE:20271031T030000
TZNAME:CET
TZOFFSETFROM:+0200
TZOFFSETTO:+0100
END:STANDARD
END:VTIMEZONE
BEGIN:VEVENT
SUMMARY:Algebra 1 (MAT-1\, PM-1)\, Predavanja (P)
DTSTART;TZID=Europe/Ljubljana:20201001T100000
DTEND;TZID=Europe/Ljubljana:20201001T120000
DTSTAMP:20260423T114236Z
UID:fmf-AFLABS-URNIK:premaknjeno-srecanje:1370
ATTENDEE:1. letnik (M)
ATTENDEE:1. letnik (PM)
CATEGORIES:Entry,Standard
COLOR:darkgreen
DESCRIPTION:Predmet: Algebra 1 (MAT-1\, PM-1)\, Predavanja (P)\nLetniki: 1
 . letnik (M)\, 1. letnik (PM)\nIzvajalci: Primož Moravec\nProstor: 2.05
LOCATION:2.05
ORGANIZER:Primož Moravec
RELATED-TO:fmf-AFLABS-URNIK:srecanje:4653
X-WR-TIMEZONE:Europe/Ljubljana
END:VEVENT
BEGIN:VEVENT
SUMMARY:Algebra 1 (MAT-1\, PM-1)\, Predavanja (P)
DTSTART;TZID=Europe/Ljubljana:20201008T100000
DTEND;TZID=Europe/Ljubljana:20201008T120000
DTSTAMP:20260423T114236Z
UID:fmf-AFLABS-URNIK:premaknjeno-srecanje:1371
ATTENDEE:1. letnik (M)
ATTENDEE:1. letnik (PM)
CATEGORIES:Entry,Standard
COLOR:darkgreen
DESCRIPTION:Predmet: Algebra 1 (MAT-1\, PM-1)\, Predavanja (P)\nLetniki: 1
 . letnik (M)\, 1. letnik (PM)\nIzvajalci: Primož Moravec\nProstor: 2.05
LOCATION:2.05
ORGANIZER:Primož Moravec
RELATED-TO:fmf-AFLABS-URNIK:srecanje:4653
X-WR-TIMEZONE:Europe/Ljubljana
END:VEVENT
BEGIN:VEVENT
SUMMARY:Algebra 1 (MAT-1\, PM-1)\, Predavanja (P)
DTSTART;TZID=Europe/Ljubljana:20201015T100000
DTEND;TZID=Europe/Ljubljana:20201015T120000
DTSTAMP:20260423T114236Z
UID:fmf-AFLABS-URNIK:premaknjeno-srecanje:1372
ATTENDEE:1. letnik (M)
ATTENDEE:1. letnik (PM)
CATEGORIES:Entry,Standard
COLOR:darkgreen
DESCRIPTION:Predmet: Algebra 1 (MAT-1\, PM-1)\, Predavanja (P)\nLetniki: 1
 . letnik (M)\, 1. letnik (PM)\nIzvajalci: Primož Moravec\nProstor: 2.05
LOCATION:2.05
ORGANIZER:Primož Moravec
RELATED-TO:fmf-AFLABS-URNIK:srecanje:4653
X-WR-TIMEZONE:Europe/Ljubljana
END:VEVENT
BEGIN:VEVENT
SUMMARY:Algebra 1 (MAT-1\, PM-1)\, Predavanja (P)
DTSTART;TZID=Europe/Ljubljana:20201022T100000
DTEND;TZID=Europe/Ljubljana:20201022T120000
DTSTAMP:20260423T114236Z
UID:fmf-AFLABS-URNIK:premaknjeno-srecanje:1373
ATTENDEE:1. letnik (M)
ATTENDEE:1. letnik (PM)
CATEGORIES:Entry,Standard
COLOR:darkgreen
DESCRIPTION:Predmet: Algebra 1 (MAT-1\, PM-1)\, Predavanja (P)\nLetniki: 1
 . letnik (M)\, 1. letnik (PM)\nIzvajalci: Primož Moravec\nProstor: 2.05
LOCATION:2.05
ORGANIZER:Primož Moravec
RELATED-TO:fmf-AFLABS-URNIK:srecanje:4653
X-WR-TIMEZONE:Europe/Ljubljana
END:VEVENT
BEGIN:VEVENT
SUMMARY:MAT KOL ()\, Predavanja (P)
DTSTART;TZID=Europe/Ljubljana:20201001T180000
DTEND;TZID=Europe/Ljubljana:20201001T200000
DTSTAMP:20260423T114236Z
UID:fmf-AFLABS-URNIK:premaknjeno-srecanje:60392
CATEGORIES:Entry,Standard
COLOR:darkgreen
DESCRIPTION:Predmet: MAT KOL ()\, Predavanja (P)\nLetniki: \nIzvajalci: Pr
 imož Moravec\nProstor: 2.02
LOCATION:2.02
ORGANIZER:Primož Moravec
RELATED-TO:fmf-AFLABS-URNIK:srecanje:4951
X-WR-TIMEZONE:Europe/Ljubljana
END:VEVENT
BEGIN:VEVENT
SUMMARY:MAT KOL ()\, Predavanja (P)
DTSTART;TZID=Europe/Ljubljana:20201008T180000
DTEND;TZID=Europe/Ljubljana:20201008T200000
DTSTAMP:20260423T114236Z
UID:fmf-AFLABS-URNIK:premaknjeno-srecanje:60393
CATEGORIES:Entry,Standard
COLOR:darkgreen
DESCRIPTION:Predmet: MAT KOL ()\, Predavanja (P)\nLetniki: \nIzvajalci: Pr
 imož Moravec\nProstor: 2.02
LOCATION:2.02
ORGANIZER:Primož Moravec
RELATED-TO:fmf-AFLABS-URNIK:srecanje:4951
X-WR-TIMEZONE:Europe/Ljubljana
END:VEVENT
BEGIN:VEVENT
SUMMARY:MAT KOL ()\, Predavanja (P)
DTSTART;TZID=Europe/Ljubljana:20201015T180000
DTEND;TZID=Europe/Ljubljana:20201015T200000
DTSTAMP:20260423T114236Z
UID:fmf-AFLABS-URNIK:premaknjeno-srecanje:60394
CATEGORIES:Entry,Standard
COLOR:darkgreen
DESCRIPTION:Predmet: MAT KOL ()\, Predavanja (P)\nLetniki: \nIzvajalci: Pr
 imož Moravec\nProstor: 2.02
LOCATION:2.02
ORGANIZER:Primož Moravec
RELATED-TO:fmf-AFLABS-URNIK:srecanje:4951
X-WR-TIMEZONE:Europe/Ljubljana
END:VEVENT
BEGIN:VEVENT
SUMMARY:MAT KOL ()\, Predavanja (P)
DTSTART;TZID=Europe/Ljubljana:20201022T180000
DTEND;TZID=Europe/Ljubljana:20201022T200000
DTSTAMP:20260423T114236Z
UID:fmf-AFLABS-URNIK:premaknjeno-srecanje:60395
CATEGORIES:Entry,Standard
COLOR:darkgreen
DESCRIPTION:Predmet: MAT KOL ()\, Predavanja (P)\nLetniki: \nIzvajalci: Pr
 imož Moravec\nProstor: 2.02
LOCATION:2.02
ORGANIZER:Primož Moravec
RELATED-TO:fmf-AFLABS-URNIK:srecanje:4951
X-WR-TIMEZONE:Europe/Ljubljana
END:VEVENT
BEGIN:VEVENT
SUMMARY:SAFA SEM (MAT-D)\, Seminar (S)
DTSTART;TZID=Europe/Ljubljana:20201001T120000
DTEND;TZID=Europe/Ljubljana:20201001T140000
DTSTAMP:20260423T114236Z
UID:fmf-AFLABS-URNIK:premaknjeno-srecanje:99161
ATTENDEE:doktorski študij (M)
CATEGORIES:Entry,Standard
COLOR:darkgreen
DESCRIPTION:Predmet: SAFA SEM (MAT-D)\, Seminar (S)\nLetniki: doktorski š
 tudij (M)\nIzvajalci: Roman Drnovšek\, Primož Moravec\nProstor: 2.03
LOCATION:2.03
ORGANIZER:Roman Drnovšek, Primož Moravec
RELATED-TO:fmf-AFLABS-URNIK:srecanje:5178
X-WR-TIMEZONE:Europe/Ljubljana
END:VEVENT
BEGIN:VEVENT
SUMMARY:SAFA SEM (MAT-D)\, Seminar (S)
DTSTART;TZID=Europe/Ljubljana:20201008T120000
DTEND;TZID=Europe/Ljubljana:20201008T140000
DTSTAMP:20260423T114236Z
UID:fmf-AFLABS-URNIK:premaknjeno-srecanje:99162
ATTENDEE:doktorski študij (M)
CATEGORIES:Entry,Standard
COLOR:darkgreen
DESCRIPTION:Predmet: SAFA SEM (MAT-D)\, Seminar (S)\nLetniki: doktorski š
 tudij (M)\nIzvajalci: Roman Drnovšek\, Primož Moravec\nProstor: 2.03
LOCATION:2.03
ORGANIZER:Roman Drnovšek, Primož Moravec
RELATED-TO:fmf-AFLABS-URNIK:srecanje:5178
X-WR-TIMEZONE:Europe/Ljubljana
END:VEVENT
BEGIN:VEVENT
SUMMARY:SAFA SEM (MAT-D)\, Seminar (S)
DTSTART;TZID=Europe/Ljubljana:20201015T120000
DTEND;TZID=Europe/Ljubljana:20201015T140000
DTSTAMP:20260423T114236Z
UID:fmf-AFLABS-URNIK:premaknjeno-srecanje:99163
ATTENDEE:doktorski študij (M)
CATEGORIES:Entry,Standard
COLOR:darkgreen
DESCRIPTION:Predmet: SAFA SEM (MAT-D)\, Seminar (S)\nLetniki: doktorski š
 tudij (M)\nIzvajalci: Roman Drnovšek\, Primož Moravec\nProstor: 2.03
LOCATION:2.03
ORGANIZER:Roman Drnovšek, Primož Moravec
RELATED-TO:fmf-AFLABS-URNIK:srecanje:5178
X-WR-TIMEZONE:Europe/Ljubljana
END:VEVENT
BEGIN:VEVENT
SUMMARY:SAFA SEM (MAT-D)\, Seminar (S)
DTSTART;TZID=Europe/Ljubljana:20201022T120000
DTEND;TZID=Europe/Ljubljana:20201022T140000
DTSTAMP:20260423T114236Z
UID:fmf-AFLABS-URNIK:premaknjeno-srecanje:99164
ATTENDEE:doktorski študij (M)
CATEGORIES:Entry,Standard
COLOR:darkgreen
DESCRIPTION:Predmet: SAFA SEM (MAT-D)\, Seminar (S)\nLetniki: doktorski š
 tudij (M)\nIzvajalci: Roman Drnovšek\, Primož Moravec\nProstor: 2.03
LOCATION:2.03
ORGANIZER:Roman Drnovšek, Primož Moravec
RELATED-TO:fmf-AFLABS-URNIK:srecanje:5178
X-WR-TIMEZONE:Europe/Ljubljana
END:VEVENT
BEGIN:VEVENT
SUMMARY:Algebra 1 (MAT-1\, PM-1)\, Predavanja (P)
DTSTART;TZID=Europe/Ljubljana:20201002T110000
DTEND;TZID=Europe/Ljubljana:20201002T120000
DTSTAMP:20260423T114236Z
UID:fmf-AFLABS-URNIK:premaknjeno-srecanje:1573
ATTENDEE:1. letnik (M)
ATTENDEE:1. letnik (PM)
CATEGORIES:Entry,Standard
COLOR:darkgreen
DESCRIPTION:Predmet: Algebra 1 (MAT-1\, PM-1)\, Predavanja (P)\nLetniki: 1
 . letnik (M)\, 1. letnik (PM)\nIzvajalci: Primož Moravec\nProstor: 2.05
LOCATION:2.05
ORGANIZER:Primož Moravec
RELATED-TO:fmf-AFLABS-URNIK:srecanje:4654
X-WR-TIMEZONE:Europe/Ljubljana
END:VEVENT
BEGIN:VEVENT
SUMMARY:Algebra 1 (MAT-1\, PM-1)\, Predavanja (P)
DTSTART;TZID=Europe/Ljubljana:20201009T110000
DTEND;TZID=Europe/Ljubljana:20201009T120000
DTSTAMP:20260423T114236Z
UID:fmf-AFLABS-URNIK:premaknjeno-srecanje:1574
ATTENDEE:1. letnik (M)
ATTENDEE:1. letnik (PM)
CATEGORIES:Entry,Standard
COLOR:darkgreen
DESCRIPTION:Predmet: Algebra 1 (MAT-1\, PM-1)\, Predavanja (P)\nLetniki: 1
 . letnik (M)\, 1. letnik (PM)\nIzvajalci: Primož Moravec\nProstor: 2.05
LOCATION:2.05
ORGANIZER:Primož Moravec
RELATED-TO:fmf-AFLABS-URNIK:srecanje:4654
X-WR-TIMEZONE:Europe/Ljubljana
END:VEVENT
BEGIN:VEVENT
SUMMARY:Algebra 1 (MAT-1\, PM-1)\, Predavanja (P)
DTSTART;TZID=Europe/Ljubljana:20201016T110000
DTEND;TZID=Europe/Ljubljana:20201016T120000
DTSTAMP:20260423T114236Z
UID:fmf-AFLABS-URNIK:premaknjeno-srecanje:1575
ATTENDEE:1. letnik (M)
ATTENDEE:1. letnik (PM)
CATEGORIES:Entry,Standard
COLOR:darkgreen
DESCRIPTION:Predmet: Algebra 1 (MAT-1\, PM-1)\, Predavanja (P)\nLetniki: 1
 . letnik (M)\, 1. letnik (PM)\nIzvajalci: Primož Moravec\nProstor: 2.05
LOCATION:2.05
ORGANIZER:Primož Moravec
RELATED-TO:fmf-AFLABS-URNIK:srecanje:4654
X-WR-TIMEZONE:Europe/Ljubljana
END:VEVENT
BEGIN:VEVENT
SUMMARY:Algebra 1 (MAT-1\, PM-1)\, Predavanja (P)
DTSTART;TZID=Europe/Ljubljana:20201023T110000
DTEND;TZID=Europe/Ljubljana:20201023T120000
DTSTAMP:20260423T114236Z
UID:fmf-AFLABS-URNIK:premaknjeno-srecanje:1576
ATTENDEE:1. letnik (M)
ATTENDEE:1. letnik (PM)
CATEGORIES:Entry,Standard
COLOR:darkgreen
DESCRIPTION:Predmet: Algebra 1 (MAT-1\, PM-1)\, Predavanja (P)\nLetniki: 1
 . letnik (M)\, 1. letnik (PM)\nIzvajalci: Primož Moravec\nProstor: 2.05
LOCATION:2.05
ORGANIZER:Primož Moravec
RELATED-TO:fmf-AFLABS-URNIK:srecanje:4654
X-WR-TIMEZONE:Europe/Ljubljana
END:VEVENT
BEGIN:VEVENT
SUMMARY:Matematika (LES) ()\, Predavanja (P)
DTSTART;TZID=Europe/Ljubljana:20201002T080000
DTEND;TZID=Europe/Ljubljana:20201002T110000
DTSTAMP:20260423T114236Z
UID:fmf-AFLABS-URNIK:premaknjeno-srecanje:62028
CATEGORIES:Entry,Standard
COLOR:darkgreen
DESCRIPTION:Predmet: Matematika (LES) ()\, Predavanja (P)\nLetniki: \nIzva
 jalci: Primož Moravec\nProstor: G6
LOCATION:G6
ORGANIZER:Primož Moravec
RELATED-TO:fmf-AFLABS-URNIK:srecanje:4965
X-WR-TIMEZONE:Europe/Ljubljana
END:VEVENT
BEGIN:VEVENT
SUMMARY:Matematika (LES) ()\, Predavanja (P)
DTSTART;TZID=Europe/Ljubljana:20201009T080000
DTEND;TZID=Europe/Ljubljana:20201009T110000
DTSTAMP:20260423T114236Z
UID:fmf-AFLABS-URNIK:premaknjeno-srecanje:62029
CATEGORIES:Entry,Standard
COLOR:darkgreen
DESCRIPTION:Predmet: Matematika (LES) ()\, Predavanja (P)\nLetniki: \nIzva
 jalci: Primož Moravec\nProstor: G6
LOCATION:G6
ORGANIZER:Primož Moravec
RELATED-TO:fmf-AFLABS-URNIK:srecanje:4965
X-WR-TIMEZONE:Europe/Ljubljana
END:VEVENT
BEGIN:VEVENT
SUMMARY:Matematika (LES) ()\, Predavanja (P)
DTSTART;TZID=Europe/Ljubljana:20201016T080000
DTEND;TZID=Europe/Ljubljana:20201016T110000
DTSTAMP:20260423T114236Z
UID:fmf-AFLABS-URNIK:premaknjeno-srecanje:62030
CATEGORIES:Entry,Standard
COLOR:darkgreen
DESCRIPTION:Predmet: Matematika (LES) ()\, Predavanja (P)\nLetniki: \nIzva
 jalci: Primož Moravec\nProstor: G6
LOCATION:G6
ORGANIZER:Primož Moravec
RELATED-TO:fmf-AFLABS-URNIK:srecanje:4965
X-WR-TIMEZONE:Europe/Ljubljana
END:VEVENT
BEGIN:VEVENT
SUMMARY:Matematika (LES) ()\, Predavanja (P)
DTSTART;TZID=Europe/Ljubljana:20201023T080000
DTEND;TZID=Europe/Ljubljana:20201023T110000
DTSTAMP:20260423T114236Z
UID:fmf-AFLABS-URNIK:premaknjeno-srecanje:62031
CATEGORIES:Entry,Standard
COLOR:darkgreen
DESCRIPTION:Predmet: Matematika (LES) ()\, Predavanja (P)\nLetniki: \nIzva
 jalci: Primož Moravec\nProstor: G6
LOCATION:G6
ORGANIZER:Primož Moravec
RELATED-TO:fmf-AFLABS-URNIK:srecanje:4965
X-WR-TIMEZONE:Europe/Ljubljana
END:VEVENT
BEGIN:VEVENT
SUMMARY:Matematika (LES) ()\, Predavanja (P)
DTSTART;TZID=Europe/Ljubljana:20201006T080000
DTEND;TZID=Europe/Ljubljana:20201006T100000
DTSTAMP:20260423T114236Z
UID:fmf-AFLABS-URNIK:premaknjeno-srecanje:61933
CATEGORIES:Entry,Standard
COLOR:darkgreen
DESCRIPTION:Predmet: Matematika (LES) ()\, Predavanja (P)\nLetniki: \nIzva
 jalci: Primož Moravec\nProstor: G6
LOCATION:G6
ORGANIZER:Primož Moravec
RELATED-TO:fmf-AFLABS-URNIK:srecanje:4964
X-WR-TIMEZONE:Europe/Ljubljana
END:VEVENT
BEGIN:VEVENT
SUMMARY:Matematika (LES) ()\, Predavanja (P)
DTSTART;TZID=Europe/Ljubljana:20201013T080000
DTEND;TZID=Europe/Ljubljana:20201013T100000
DTSTAMP:20260423T114236Z
UID:fmf-AFLABS-URNIK:premaknjeno-srecanje:61934
CATEGORIES:Entry,Standard
COLOR:darkgreen
DESCRIPTION:Predmet: Matematika (LES) ()\, Predavanja (P)\nLetniki: \nIzva
 jalci: Primož Moravec\nProstor: G6
LOCATION:G6
ORGANIZER:Primož Moravec
RELATED-TO:fmf-AFLABS-URNIK:srecanje:4964
X-WR-TIMEZONE:Europe/Ljubljana
END:VEVENT
BEGIN:VEVENT
SUMMARY:Matematika (LES) ()\, Predavanja (P)
DTSTART;TZID=Europe/Ljubljana:20201020T080000
DTEND;TZID=Europe/Ljubljana:20201020T100000
DTSTAMP:20260423T114236Z
UID:fmf-AFLABS-URNIK:premaknjeno-srecanje:61935
CATEGORIES:Entry,Standard
COLOR:darkgreen
DESCRIPTION:Predmet: Matematika (LES) ()\, Predavanja (P)\nLetniki: \nIzva
 jalci: Primož Moravec\nProstor: G6
LOCATION:G6
ORGANIZER:Primož Moravec
RELATED-TO:fmf-AFLABS-URNIK:srecanje:4964
X-WR-TIMEZONE:Europe/Ljubljana
END:VEVENT
BEGIN:VEVENT
SUMMARY:Rezervacija
DTSTART;TZID=Europe/Ljubljana:20200826T130000
DTEND;TZID=Europe/Ljubljana:20200826T160000
DTSTAMP:20260423T114236Z
UID:fmf-AFLABS-URNIK:rezervacija:6072
CATEGORIES:Reservation
COLOR:royalblue
DESCRIPTION:Predmeti: \nLetniki: \nIzvajalci: Primož Moravec\nProstori: 3
 .05
LOCATION:3.05
ORGANIZER:Primož Moravec
X-WR-TIMEZONE:Europe/Ljubljana
END:VEVENT
BEGIN:VEVENT
SUMMARY:Rezervacija
DTSTART;TZID=Europe/Ljubljana:20200826T160000
DTEND;TZID=Europe/Ljubljana:20200826T170000
DTSTAMP:20260423T114236Z
UID:fmf-AFLABS-URNIK:rezervacija:6076
CATEGORIES:Reservation
COLOR:royalblue
DESCRIPTION:Predmeti: \nLetniki: \nIzvajalci: Primož Moravec\nProstori: 3
 .05
LOCATION:3.05
ORGANIZER:Primož Moravec
X-WR-TIMEZONE:Europe/Ljubljana
END:VEVENT
BEGIN:VEVENT
SUMMARY:Rezervacija
DTSTART;TZID=Europe/Ljubljana:20200901T090000
DTEND;TZID=Europe/Ljubljana:20200901T100000
DTSTAMP:20260423T114236Z
UID:fmf-AFLABS-URNIK:rezervacija:6145
CATEGORIES:Reservation
COLOR:royalblue
DESCRIPTION:Predmeti: \nLetniki: \nIzvajalci: Primož Moravec\nProstori: 3
 .09
LOCATION:3.09
ORGANIZER:Primož Moravec
X-WR-TIMEZONE:Europe/Ljubljana
END:VEVENT
BEGIN:VEVENT
SUMMARY:Rezervacija
DTSTART;TZID=Europe/Ljubljana:20200901T130000
DTEND;TZID=Europe/Ljubljana:20200901T150000
DTSTAMP:20260423T114236Z
UID:fmf-AFLABS-URNIK:rezervacija:6172
ATTENDEE:1. letnik (M)
CATEGORIES:Reservation
COLOR:royalblue
DESCRIPTION:Predmeti: Proseminar B (MAT-1)\nLetniki: 1. letnik (M)\nIzvaja
 lci: Primož Moravec\nProstori: 2.02
LOCATION:2.02
ORGANIZER:Primož Moravec
X-WR-TIMEZONE:Europe/Ljubljana
END:VEVENT
BEGIN:VEVENT
SUMMARY:Rezervacija
DTSTART;TZID=Europe/Ljubljana:20200909T130000
DTEND;TZID=Europe/Ljubljana:20200909T160000
DTSTAMP:20260423T114236Z
UID:fmf-AFLABS-URNIK:rezervacija:6332
CATEGORIES:Reservation
COLOR:royalblue
DESCRIPTION:Predmeti: \nLetniki: \nIzvajalci: Primož Moravec\nProstori: 3
 .05
LOCATION:3.05
ORGANIZER:Primož Moravec
X-WR-TIMEZONE:Europe/Ljubljana
END:VEVENT
BEGIN:VEVENT
SUMMARY:Rezervacija
DTSTART;TZID=Europe/Ljubljana:20200910T110000
DTEND;TZID=Europe/Ljubljana:20200910T150000
DTSTAMP:20260423T114236Z
UID:fmf-AFLABS-URNIK:rezervacija:6357
CATEGORIES:Reservation
COLOR:royalblue
DESCRIPTION:Predmeti: \nLetniki: \nIzvajalci: Primož Moravec\nProstori: 2
 .03
LOCATION:2.03
ORGANIZER:Primož Moravec
X-WR-TIMEZONE:Europe/Ljubljana
END:VEVENT
BEGIN:VEVENT
SUMMARY:Rezervacija
DTSTART;TZID=Europe/Ljubljana:20200917T100000
DTEND;TZID=Europe/Ljubljana:20200917T130000
DTSTAMP:20260423T114236Z
UID:fmf-AFLABS-URNIK:rezervacija:6419
CATEGORIES:Reservation
COLOR:royalblue
DESCRIPTION:Predmeti: \nLetniki: \nIzvajalci: Primož Moravec\nProstori: 2
 .03
LOCATION:2.03
ORGANIZER:Primož Moravec
X-WR-TIMEZONE:Europe/Ljubljana
END:VEVENT
END:VCALENDAR
