BEGIN:VCALENDAR
VERSION:2.0
PRODID:-//AFLabs urnik izvoz - fmf//aflabs.si//SI
DTSTAMP:20260420T082734Z
NAME:UL FMF urnik
REFRESH-INTERVAL:PT1H
SOURCE:https://urnik.fmf.uni-lj.si/teacher/70?day=2021-06-21&export=1
URL:https://urnik.fmf.uni-lj.si/teacher/70?day=2021-06-21&export=1
X-PUBLISHED-TTL:PT1H
X-WR-CALNAME:UL FMF urnik
X-WR-TIMEZONE:Europe/Ljubljana
BEGIN:VTIMEZONE
TZID:Europe/Ljubljana
BEGIN:DAYLIGHT
DTSTART:20260329T020000
RDATE:20260329T020000
RDATE:20270328T020000
TZNAME:CEST
TZOFFSETFROM:+0100
TZOFFSETTO:+0200
END:DAYLIGHT
BEGIN:STANDARD
DTSTART:20261025T030000
RDATE:20261025T030000
RDATE:20271031T030000
TZNAME:CET
TZOFFSETFROM:+0200
TZOFFSETTO:+0100
END:STANDARD
END:VTIMEZONE
BEGIN:VEVENT
SUMMARY:Algebra 1 (MAT-1\, PM-1)\, Predavanja (P)
DTSTART;TZID=Europe/Ljubljana:20210520T100000
DTEND;TZID=Europe/Ljubljana:20210520T120000
DTSTAMP:20260420T082734Z
UID:fmf-AFLABS-URNIK:premaknjeno-srecanje:1399
ATTENDEE:1. letnik (M)
ATTENDEE:1. letnik (PM)
CATEGORIES:Entry,Standard
COLOR:darkgreen
DESCRIPTION:Predmet: Algebra 1 (MAT-1\, PM-1)\, Predavanja (P)\nLetniki: 1
 . letnik (M)\, 1. letnik (PM)\nIzvajalci: Primož Moravec\nProstor: 2.05
LOCATION:2.05
ORGANIZER:Primož Moravec
RELATED-TO:fmf-AFLABS-URNIK:srecanje:5435
X-WR-TIMEZONE:Europe/Ljubljana
END:VEVENT
BEGIN:VEVENT
SUMMARY:Algebra 1 (MAT-1\, PM-1)\, Predavanja (P)
DTSTART;TZID=Europe/Ljubljana:20210527T100000
DTEND;TZID=Europe/Ljubljana:20210527T120000
DTSTAMP:20260420T082734Z
UID:fmf-AFLABS-URNIK:premaknjeno-srecanje:1400
ATTENDEE:1. letnik (M)
ATTENDEE:1. letnik (PM)
CATEGORIES:Entry,Standard
COLOR:darkgreen
DESCRIPTION:Predmet: Algebra 1 (MAT-1\, PM-1)\, Predavanja (P)\nLetniki: 1
 . letnik (M)\, 1. letnik (PM)\nIzvajalci: Primož Moravec\nProstor: 2.05
LOCATION:2.05
ORGANIZER:Primož Moravec
RELATED-TO:fmf-AFLABS-URNIK:srecanje:5435
X-WR-TIMEZONE:Europe/Ljubljana
END:VEVENT
BEGIN:VEVENT
SUMMARY:Matematični kolokvij ()\, Predavanja (P)
DTSTART;TZID=Europe/Ljubljana:20210520T180000
DTEND;TZID=Europe/Ljubljana:20210520T200000
DTSTAMP:20260420T082734Z
UID:fmf-AFLABS-URNIK:premaknjeno-srecanje:68821
CATEGORIES:Entry,Standard
COLOR:darkgreen
DESCRIPTION:Predmet: Matematični kolokvij ()\, Predavanja (P)\nLetniki: \
 nIzvajalci: Primož Moravec\nProstor: 2.02
LOCATION:2.02
ORGANIZER:Primož Moravec
RELATED-TO:fmf-AFLABS-URNIK:srecanje:5728
X-WR-TIMEZONE:Europe/Ljubljana
END:VEVENT
BEGIN:VEVENT
SUMMARY:Matematični kolokvij ()\, Predavanja (P)
DTSTART;TZID=Europe/Ljubljana:20210527T180000
DTEND;TZID=Europe/Ljubljana:20210527T200000
DTSTAMP:20260420T082734Z
UID:fmf-AFLABS-URNIK:premaknjeno-srecanje:68822
CATEGORIES:Entry,Standard
COLOR:darkgreen
DESCRIPTION:Predmet: Matematični kolokvij ()\, Predavanja (P)\nLetniki: \
 nIzvajalci: Primož Moravec\nProstor: 2.02
LOCATION:2.02
ORGANIZER:Primož Moravec
RELATED-TO:fmf-AFLABS-URNIK:srecanje:5728
X-WR-TIMEZONE:Europe/Ljubljana
END:VEVENT
BEGIN:VEVENT
SUMMARY:Algebra 1 (MAT-1\, PM-1)\, Predavanja (P)
DTSTART;TZID=Europe/Ljubljana:20210521T090000
DTEND;TZID=Europe/Ljubljana:20210521T100000
DTSTAMP:20260420T082734Z
UID:fmf-AFLABS-URNIK:premaknjeno-srecanje:1476
ATTENDEE:1. letnik (M)
ATTENDEE:1. letnik (PM)
CATEGORIES:Entry,Standard
COLOR:darkgreen
DESCRIPTION:Predmet: Algebra 1 (MAT-1\, PM-1)\, Predavanja (P)\nLetniki: 1
 . letnik (M)\, 1. letnik (PM)\nIzvajalci: Primož Moravec\nProstor: 2.05
LOCATION:2.05
ORGANIZER:Primož Moravec
RELATED-TO:fmf-AFLABS-URNIK:srecanje:5436
X-WR-TIMEZONE:Europe/Ljubljana
END:VEVENT
BEGIN:VEVENT
SUMMARY:Algebra 1 (MAT-1\, PM-1)\, Predavanja (P)
DTSTART;TZID=Europe/Ljubljana:20210528T090000
DTEND;TZID=Europe/Ljubljana:20210528T100000
DTSTAMP:20260420T082734Z
UID:fmf-AFLABS-URNIK:premaknjeno-srecanje:1477
ATTENDEE:1. letnik (M)
ATTENDEE:1. letnik (PM)
CATEGORIES:Entry,Standard
COLOR:darkgreen
DESCRIPTION:Predmet: Algebra 1 (MAT-1\, PM-1)\, Predavanja (P)\nLetniki: 1
 . letnik (M)\, 1. letnik (PM)\nIzvajalci: Primož Moravec\nProstor: 2.05
LOCATION:2.05
ORGANIZER:Primož Moravec
RELATED-TO:fmf-AFLABS-URNIK:srecanje:5436
X-WR-TIMEZONE:Europe/Ljubljana
END:VEVENT
BEGIN:VEVENT
SUMMARY:Seminar 1/2 (MAT-2\, PM-3\, PM-4)\, Seminar (S)
DTSTART;TZID=Europe/Ljubljana:20210521T140000
DTEND;TZID=Europe/Ljubljana:20210521T160000
DTSTAMP:20260420T082734Z
UID:fmf-AFLABS-URNIK:premaknjeno-srecanje:101064
ATTENDEE:2. letnik (M)
ATTENDEE:3. letnik (PM)
ATTENDEE:4. letnik (PM)
CATEGORIES:Entry,Standard
COLOR:darkgreen
DESCRIPTION:Predmet: Seminar 1/2 (MAT-2\, PM-3\, PM-4)\, Seminar (S)\nLetn
 iki: 2. letnik (M)\, 3. letnik (PM)\, 4. letnik (PM)\nIzvajalci: Primož M
 oravec\nProstor: 2.02
LOCATION:2.02
ORGANIZER:Primož Moravec
RELATED-TO:fmf-AFLABS-URNIK:srecanje:5889
X-WR-TIMEZONE:Europe/Ljubljana
END:VEVENT
BEGIN:VEVENT
SUMMARY:Seminar 1/2 (MAT-2\, PM-3\, PM-4)\, Seminar (S)
DTSTART;TZID=Europe/Ljubljana:20210528T140000
DTEND;TZID=Europe/Ljubljana:20210528T160000
DTSTAMP:20260420T082734Z
UID:fmf-AFLABS-URNIK:premaknjeno-srecanje:101065
ATTENDEE:2. letnik (M)
ATTENDEE:3. letnik (PM)
ATTENDEE:4. letnik (PM)
CATEGORIES:Entry,Standard
COLOR:darkgreen
DESCRIPTION:Predmet: Seminar 1/2 (MAT-2\, PM-3\, PM-4)\, Seminar (S)\nLetn
 iki: 2. letnik (M)\, 3. letnik (PM)\, 4. letnik (PM)\nIzvajalci: Primož M
 oravec\nProstor: 2.02
LOCATION:2.02
ORGANIZER:Primož Moravec
RELATED-TO:fmf-AFLABS-URNIK:srecanje:5889
X-WR-TIMEZONE:Europe/Ljubljana
END:VEVENT
BEGIN:VEVENT
SUMMARY:Rezervacija
DTSTART;TZID=Europe/Ljubljana:20210603T120000
DTEND;TZID=Europe/Ljubljana:20210603T140000
DTSTAMP:20260420T082734Z
UID:fmf-AFLABS-URNIK:rezervacija:6730
ATTENDEE:doktorski študij (M)
CATEGORIES:Reservation
COLOR:royalblue
DESCRIPTION:Predmeti: Seminar SAFA (MAT-D)\nLetniki: doktorski študij (M)
 \nIzvajalci: Primož Moravec\nProstori: 2.04
LOCATION:2.04
ORGANIZER:Primož Moravec
X-WR-TIMEZONE:Europe/Ljubljana
END:VEVENT
BEGIN:VEVENT
SUMMARY:Rezervacija
DTSTART;TZID=Europe/Ljubljana:20210610T100000
DTEND;TZID=Europe/Ljubljana:20210610T140000
DTSTAMP:20260420T082734Z
UID:fmf-AFLABS-URNIK:rezervacija:6819
ATTENDEE:1. letnik (M)
ATTENDEE:1. letnik (PM)
CATEGORIES:Reservation
COLOR:royalblue
DESCRIPTION:Predmeti: Algebra 1 (MAT-1\, PM-1)\nLetniki: 1. letnik (M)\, 1
 . letnik (PM)\nIzvajalci: Primož Moravec\nProstori: 3.07
LOCATION:3.07
ORGANIZER:Primož Moravec
X-WR-TIMEZONE:Europe/Ljubljana
END:VEVENT
BEGIN:VEVENT
SUMMARY:Rezervacija
DTSTART;TZID=Europe/Ljubljana:20210611T100000
DTEND;TZID=Europe/Ljubljana:20210611T140000
DTSTAMP:20260420T082734Z
UID:fmf-AFLABS-URNIK:rezervacija:6841
ATTENDEE:1. letnik (M)
ATTENDEE:1. letnik (PM)
CATEGORIES:Reservation
COLOR:royalblue
DESCRIPTION:Predmeti: Algebra 1 (MAT-1\, PM-1)\nLetniki: 1. letnik (M)\, 1
 . letnik (PM)\nIzvajalci: Primož Moravec\nProstori: 3.07
LOCATION:3.07
ORGANIZER:Primož Moravec
X-WR-TIMEZONE:Europe/Ljubljana
END:VEVENT
BEGIN:VEVENT
SUMMARY:Rezervacija
DTSTART;TZID=Europe/Ljubljana:20210614T100000
DTEND;TZID=Europe/Ljubljana:20210614T140000
DTSTAMP:20260420T082734Z
UID:fmf-AFLABS-URNIK:rezervacija:6864
ATTENDEE:1. letnik (M)
ATTENDEE:1. letnik (PM)
CATEGORIES:Reservation
COLOR:royalblue
DESCRIPTION:Predmeti: Algebra 1 (MAT-1\, PM-1)\nLetniki: 1. letnik (M)\, 1
 . letnik (PM)\nIzvajalci: Primož Moravec\nProstori: 3.07
LOCATION:3.07
ORGANIZER:Primož Moravec
X-WR-TIMEZONE:Europe/Ljubljana
END:VEVENT
BEGIN:VEVENT
SUMMARY:Rezervacija
DTSTART;TZID=Europe/Ljubljana:20210615T100000
DTEND;TZID=Europe/Ljubljana:20210615T140000
DTSTAMP:20260420T082734Z
UID:fmf-AFLABS-URNIK:rezervacija:6892
ATTENDEE:1. letnik (M)
ATTENDEE:1. letnik (PM)
CATEGORIES:Reservation
COLOR:royalblue
DESCRIPTION:Predmeti: Algebra 1 (MAT-1\, PM-1)\nLetniki: 1. letnik (M)\, 1
 . letnik (PM)\nIzvajalci: Primož Moravec\nProstori: 3.07
LOCATION:3.07
ORGANIZER:Primož Moravec
X-WR-TIMEZONE:Europe/Ljubljana
END:VEVENT
BEGIN:VEVENT
SUMMARY:Rezervacija
DTSTART;TZID=Europe/Ljubljana:20210617T100000
DTEND;TZID=Europe/Ljubljana:20210617T140000
DTSTAMP:20260420T082734Z
UID:fmf-AFLABS-URNIK:rezervacija:6936
ATTENDEE:1. letnik (M)
ATTENDEE:1. letnik (PM)
CATEGORIES:Reservation
COLOR:royalblue
DESCRIPTION:Predmeti: Algebra 1 (MAT-1\, PM-1)\nLetniki: 1. letnik (M)\, 1
 . letnik (PM)\nIzvajalci: Primož Moravec\nProstori: 3.07
LOCATION:3.07
ORGANIZER:Primož Moravec
X-WR-TIMEZONE:Europe/Ljubljana
END:VEVENT
BEGIN:VEVENT
SUMMARY:Rezervacija
DTSTART;TZID=Europe/Ljubljana:20210618T100000
DTEND;TZID=Europe/Ljubljana:20210618T140000
DTSTAMP:20260420T082734Z
UID:fmf-AFLABS-URNIK:rezervacija:6961
ATTENDEE:1. letnik (M)
ATTENDEE:1. letnik (PM)
CATEGORIES:Reservation
COLOR:royalblue
DESCRIPTION:Predmeti: Algebra 1 (MAT-1\, PM-1)\nLetniki: 1. letnik (M)\, 1
 . letnik (PM)\nIzvajalci: Primož Moravec\nProstori: 3.07
LOCATION:3.07
ORGANIZER:Primož Moravec
X-WR-TIMEZONE:Europe/Ljubljana
END:VEVENT
BEGIN:VEVENT
SUMMARY:Rezervacija
DTSTART;TZID=Europe/Ljubljana:20210628T090000
DTEND;TZID=Europe/Ljubljana:20210628T100000
DTSTAMP:20260420T082734Z
UID:fmf-AFLABS-URNIK:rezervacija:7068
CATEGORIES:Reservation
COLOR:royalblue
DESCRIPTION:Predmeti: \nLetniki: \nIzvajalci: Primož Moravec\nProstori: 3
 .07
LOCATION:3.07
ORGANIZER:Primož Moravec
X-WR-TIMEZONE:Europe/Ljubljana
END:VEVENT
BEGIN:VEVENT
SUMMARY:Rezervacija
DTSTART;TZID=Europe/Ljubljana:20210628T100000
DTEND;TZID=Europe/Ljubljana:20210628T140000
DTSTAMP:20260420T082734Z
UID:fmf-AFLABS-URNIK:rezervacija:7081
ATTENDEE:1. letnik (M)
ATTENDEE:1. letnik (PM)
CATEGORIES:Reservation
COLOR:royalblue
DESCRIPTION:Predmeti: Algebra 1 (MAT-1\, PM-1)\nLetniki: 1. letnik (M)\, 1
 . letnik (PM)\nIzvajalci: Primož Moravec\nProstori: 3.07
LOCATION:3.07
ORGANIZER:Primož Moravec
X-WR-TIMEZONE:Europe/Ljubljana
END:VEVENT
BEGIN:VEVENT
SUMMARY:Rezervacija
DTSTART;TZID=Europe/Ljubljana:20210629T090000
DTEND;TZID=Europe/Ljubljana:20210629T100000
DTSTAMP:20260420T082734Z
UID:fmf-AFLABS-URNIK:rezervacija:7092
CATEGORIES:Reservation
COLOR:royalblue
DESCRIPTION:Predmeti: \nLetniki: \nIzvajalci: Primož Moravec\nProstori: 3
 .07
LOCATION:3.07
ORGANIZER:Primož Moravec
X-WR-TIMEZONE:Europe/Ljubljana
END:VEVENT
BEGIN:VEVENT
SUMMARY:Rezervacija
DTSTART;TZID=Europe/Ljubljana:20210629T100000
DTEND;TZID=Europe/Ljubljana:20210629T140000
DTSTAMP:20260420T082734Z
UID:fmf-AFLABS-URNIK:rezervacija:7111
ATTENDEE:1. letnik (M)
ATTENDEE:1. letnik (PM)
CATEGORIES:Reservation
COLOR:royalblue
DESCRIPTION:Predmeti: Algebra 1 (MAT-1\, PM-1)\nLetniki: 1. letnik (M)\, 1
 . letnik (PM)\nIzvajalci: Primož Moravec\nProstori: 3.07
LOCATION:3.07
ORGANIZER:Primož Moravec
X-WR-TIMEZONE:Europe/Ljubljana
END:VEVENT
BEGIN:VEVENT
SUMMARY:Rezervacija
DTSTART;TZID=Europe/Ljubljana:20210630T090000
DTEND;TZID=Europe/Ljubljana:20210630T100000
DTSTAMP:20260420T082734Z
UID:fmf-AFLABS-URNIK:rezervacija:7129
CATEGORIES:Reservation
COLOR:royalblue
DESCRIPTION:Predmeti: \nLetniki: \nIzvajalci: Primož Moravec\nProstori: 3
 .07
LOCATION:3.07
ORGANIZER:Primož Moravec
X-WR-TIMEZONE:Europe/Ljubljana
END:VEVENT
BEGIN:VEVENT
SUMMARY:Rezervacija
DTSTART;TZID=Europe/Ljubljana:20210630T100000
DTEND;TZID=Europe/Ljubljana:20210630T140000
DTSTAMP:20260420T082734Z
UID:fmf-AFLABS-URNIK:rezervacija:7145
ATTENDEE:1. letnik (M)
ATTENDEE:1. letnik (PM)
CATEGORIES:Reservation
COLOR:royalblue
DESCRIPTION:Predmeti: Algebra 1 (MAT-1\, PM-1)\nLetniki: 1. letnik (M)\, 1
 . letnik (PM)\nIzvajalci: Primož Moravec\nProstori: 3.07
LOCATION:3.07
ORGANIZER:Primož Moravec
X-WR-TIMEZONE:Europe/Ljubljana
END:VEVENT
BEGIN:VEVENT
SUMMARY:Rezervacija
DTSTART;TZID=Europe/Ljubljana:20210701T090000
DTEND;TZID=Europe/Ljubljana:20210701T100000
DTSTAMP:20260420T082734Z
UID:fmf-AFLABS-URNIK:rezervacija:7168
CATEGORIES:Reservation
COLOR:royalblue
DESCRIPTION:Predmeti: \nLetniki: \nIzvajalci: Primož Moravec\nProstori: 3
 .07
LOCATION:3.07
ORGANIZER:Primož Moravec
X-WR-TIMEZONE:Europe/Ljubljana
END:VEVENT
BEGIN:VEVENT
SUMMARY:Rezervacija
DTSTART;TZID=Europe/Ljubljana:20210701T100000
DTEND;TZID=Europe/Ljubljana:20210701T140000
DTSTAMP:20260420T082734Z
UID:fmf-AFLABS-URNIK:rezervacija:7183
ATTENDEE:1. letnik (M)
ATTENDEE:1. letnik (PM)
CATEGORIES:Reservation
COLOR:royalblue
DESCRIPTION:Predmeti: Algebra 1 (MAT-1\, PM-1)\nLetniki: 1. letnik (M)\, 1
 . letnik (PM)\nIzvajalci: Primož Moravec\nProstori: 3.07
LOCATION:3.07
ORGANIZER:Primož Moravec
X-WR-TIMEZONE:Europe/Ljubljana
END:VEVENT
BEGIN:VEVENT
SUMMARY:Rezervacija
DTSTART;TZID=Europe/Ljubljana:20210702T090000
DTEND;TZID=Europe/Ljubljana:20210702T100000
DTSTAMP:20260420T082734Z
UID:fmf-AFLABS-URNIK:rezervacija:7194
CATEGORIES:Reservation
COLOR:royalblue
DESCRIPTION:Predmeti: \nLetniki: \nIzvajalci: Primož Moravec\nProstori: 3
 .07
LOCATION:3.07
ORGANIZER:Primož Moravec
X-WR-TIMEZONE:Europe/Ljubljana
END:VEVENT
BEGIN:VEVENT
SUMMARY:Rezervacija
DTSTART;TZID=Europe/Ljubljana:20210702T100000
DTEND;TZID=Europe/Ljubljana:20210702T140000
DTSTAMP:20260420T082734Z
UID:fmf-AFLABS-URNIK:rezervacija:7202
ATTENDEE:1. letnik (M)
ATTENDEE:1. letnik (PM)
CATEGORIES:Reservation
COLOR:royalblue
DESCRIPTION:Predmeti: Algebra 1 (MAT-1\, PM-1)\nLetniki: 1. letnik (M)\, 1
 . letnik (PM)\nIzvajalci: Primož Moravec\nProstori: 3.07
LOCATION:3.07
ORGANIZER:Primož Moravec
X-WR-TIMEZONE:Europe/Ljubljana
END:VEVENT
BEGIN:VEVENT
SUMMARY:Rezervacija
DTSTART;TZID=Europe/Ljubljana:20210705T100000
DTEND;TZID=Europe/Ljubljana:20210705T120000
DTSTAMP:20260420T082734Z
UID:fmf-AFLABS-URNIK:rezervacija:7226
CATEGORIES:Reservation
COLOR:royalblue
DESCRIPTION:Predmeti: \nLetniki: \nIzvajalci: Primož Moravec\nProstori: 3
 .07
LOCATION:3.07
ORGANIZER:Primož Moravec
X-WR-TIMEZONE:Europe/Ljubljana
END:VEVENT
END:VCALENDAR
