BEGIN:VCALENDAR
VERSION:2.0
PRODID:-//AFLabs urnik izvoz - fmf//aflabs.si//SI
DTSTAMP:20260419T224126Z
NAME:UL FMF urnik
REFRESH-INTERVAL:PT1H
SOURCE:https://urnik.fmf.uni-lj.si/teacher/710?day=2023-11-20&export=1
URL:https://urnik.fmf.uni-lj.si/teacher/710?day=2023-11-20&export=1
X-PUBLISHED-TTL:PT1H
X-WR-CALNAME:UL FMF urnik
X-WR-TIMEZONE:Europe/Ljubljana
BEGIN:VTIMEZONE
TZID:Europe/Ljubljana
BEGIN:DAYLIGHT
DTSTART:20260329T020000
RDATE:20260329T020000
RDATE:20270328T020000
TZNAME:CEST
TZOFFSETFROM:+0100
TZOFFSETTO:+0200
END:DAYLIGHT
BEGIN:STANDARD
DTSTART:20261025T030000
RDATE:20261025T030000
RDATE:20271031T030000
TZNAME:CET
TZOFFSETFROM:+0200
TZOFFSETTO:+0100
END:STANDARD
END:VTIMEZONE
BEGIN:VEVENT
SUMMARY:Kombinatorika / Kombinatorika 2 (FM-M\, IŠRM-M\, MAT-M\, PM-5)\, 
 Vaje (V)
DTSTART;TZID=Europe/Ljubljana:20231003T160000
DTEND;TZID=Europe/Ljubljana:20231003T180000
DTSTAMP:20260419T224126Z
UID:fmf-AFLABS-URNIK:premaknjeno-srecanje:54647
ATTENDEE:5. letnik (PM)
ATTENDEE:magistrski študij (FM)
ATTENDEE:magistrski študij (IŠRM)
ATTENDEE:magistrski študij (M)
CATEGORIES:Entry,Standard
COLOR:darkgreen
DESCRIPTION:Predmet: Kombinatorika / Kombinatorika 2 (FM-M\, IŠRM-M\, MAT
 -M\, PM-5)\, Vaje (V)\nLetniki: magistrski študij (FM)\, magistrski štud
 ij (IŠRM)\, magistrski študij (M)\, 5. letnik (PM)\nIzvajalci: Tea Štre
 kelj\nProstor: P.01
LOCATION:P.01
ORGANIZER:Tea Štrekelj
RELATED-TO:fmf-AFLABS-URNIK:srecanje:9226
X-WR-TIMEZONE:Europe/Ljubljana
END:VEVENT
BEGIN:VEVENT
SUMMARY:Kombinatorika / Kombinatorika 2 (FM-M\, IŠRM-M\, MAT-M\, PM-5)\, 
 Vaje (V)
DTSTART;TZID=Europe/Ljubljana:20231010T160000
DTEND;TZID=Europe/Ljubljana:20231010T180000
DTSTAMP:20260419T224126Z
UID:fmf-AFLABS-URNIK:premaknjeno-srecanje:54648
ATTENDEE:5. letnik (PM)
ATTENDEE:magistrski študij (FM)
ATTENDEE:magistrski študij (IŠRM)
ATTENDEE:magistrski študij (M)
CATEGORIES:Entry,Standard
COLOR:darkgreen
DESCRIPTION:Predmet: Kombinatorika / Kombinatorika 2 (FM-M\, IŠRM-M\, MAT
 -M\, PM-5)\, Vaje (V)\nLetniki: magistrski študij (FM)\, magistrski štud
 ij (IŠRM)\, magistrski študij (M)\, 5. letnik (PM)\nIzvajalci: Tea Štre
 kelj\nProstor: P.01
LOCATION:P.01
ORGANIZER:Tea Štrekelj
RELATED-TO:fmf-AFLABS-URNIK:srecanje:9226
X-WR-TIMEZONE:Europe/Ljubljana
END:VEVENT
BEGIN:VEVENT
SUMMARY:Kombinatorika / Kombinatorika 2 (FM-M\, IŠRM-M\, MAT-M\, PM-5)\, 
 Vaje (V)
DTSTART;TZID=Europe/Ljubljana:20231017T160000
DTEND;TZID=Europe/Ljubljana:20231017T180000
DTSTAMP:20260419T224126Z
UID:fmf-AFLABS-URNIK:premaknjeno-srecanje:54649
ATTENDEE:5. letnik (PM)
ATTENDEE:magistrski študij (FM)
ATTENDEE:magistrski študij (IŠRM)
ATTENDEE:magistrski študij (M)
CATEGORIES:Entry,Standard
COLOR:darkgreen
DESCRIPTION:Predmet: Kombinatorika / Kombinatorika 2 (FM-M\, IŠRM-M\, MAT
 -M\, PM-5)\, Vaje (V)\nLetniki: magistrski študij (FM)\, magistrski štud
 ij (IŠRM)\, magistrski študij (M)\, 5. letnik (PM)\nIzvajalci: Tea Štre
 kelj\nProstor: P.01
LOCATION:P.01
ORGANIZER:Tea Štrekelj
RELATED-TO:fmf-AFLABS-URNIK:srecanje:9226
X-WR-TIMEZONE:Europe/Ljubljana
END:VEVENT
BEGIN:VEVENT
SUMMARY:Kombinatorika / Kombinatorika 2 (FM-M\, IŠRM-M\, MAT-M\, PM-5)\, 
 Vaje (V)
DTSTART;TZID=Europe/Ljubljana:20231024T160000
DTEND;TZID=Europe/Ljubljana:20231024T180000
DTSTAMP:20260419T224126Z
UID:fmf-AFLABS-URNIK:premaknjeno-srecanje:54650
ATTENDEE:5. letnik (PM)
ATTENDEE:magistrski študij (FM)
ATTENDEE:magistrski študij (IŠRM)
ATTENDEE:magistrski študij (M)
CATEGORIES:Entry,Standard
COLOR:darkgreen
DESCRIPTION:Predmet: Kombinatorika / Kombinatorika 2 (FM-M\, IŠRM-M\, MAT
 -M\, PM-5)\, Vaje (V)\nLetniki: magistrski študij (FM)\, magistrski štud
 ij (IŠRM)\, magistrski študij (M)\, 5. letnik (PM)\nIzvajalci: Tea Štre
 kelj\nProstor: P.01
LOCATION:P.01
ORGANIZER:Tea Štrekelj
RELATED-TO:fmf-AFLABS-URNIK:srecanje:9226
X-WR-TIMEZONE:Europe/Ljubljana
END:VEVENT
BEGIN:VEVENT
SUMMARY:Kombinatorika / Kombinatorika 2 (FM-M\, IŠRM-M\, MAT-M\, PM-5)\, 
 Vaje (V)
DTSTART;TZID=Europe/Ljubljana:20231031T160000
DTEND;TZID=Europe/Ljubljana:20231031T180000
DTSTAMP:20260419T224126Z
UID:fmf-AFLABS-URNIK:premaknjeno-srecanje:54651
ATTENDEE:5. letnik (PM)
ATTENDEE:magistrski študij (FM)
ATTENDEE:magistrski študij (IŠRM)
ATTENDEE:magistrski študij (M)
CATEGORIES:Entry,Standard
COLOR:darkgreen
DESCRIPTION:Predmet: Kombinatorika / Kombinatorika 2 (FM-M\, IŠRM-M\, MAT
 -M\, PM-5)\, Vaje (V)\nLetniki: magistrski študij (FM)\, magistrski štud
 ij (IŠRM)\, magistrski študij (M)\, 5. letnik (PM)\nIzvajalci: Tea Štre
 kelj\nProstor: P.01
LOCATION:P.01
ORGANIZER:Tea Štrekelj
RELATED-TO:fmf-AFLABS-URNIK:srecanje:9226
X-WR-TIMEZONE:Europe/Ljubljana
END:VEVENT
BEGIN:VEVENT
SUMMARY:Kombinatorika / Kombinatorika 2 (FM-M\, IŠRM-M\, MAT-M\, PM-5)\, 
 Vaje (V)
DTSTART;TZID=Europe/Ljubljana:20231107T160000
DTEND;TZID=Europe/Ljubljana:20231107T180000
DTSTAMP:20260419T224126Z
UID:fmf-AFLABS-URNIK:premaknjeno-srecanje:54652
ATTENDEE:5. letnik (PM)
ATTENDEE:magistrski študij (FM)
ATTENDEE:magistrski študij (IŠRM)
ATTENDEE:magistrski študij (M)
CATEGORIES:Entry,Standard
COLOR:darkgreen
DESCRIPTION:Predmet: Kombinatorika / Kombinatorika 2 (FM-M\, IŠRM-M\, MAT
 -M\, PM-5)\, Vaje (V)\nLetniki: magistrski študij (FM)\, magistrski štud
 ij (IŠRM)\, magistrski študij (M)\, 5. letnik (PM)\nIzvajalci: Tea Štre
 kelj\nProstor: P.01
LOCATION:P.01
ORGANIZER:Tea Štrekelj
RELATED-TO:fmf-AFLABS-URNIK:srecanje:9226
X-WR-TIMEZONE:Europe/Ljubljana
END:VEVENT
BEGIN:VEVENT
SUMMARY:Kombinatorika / Kombinatorika 2 (FM-M\, IŠRM-M\, MAT-M\, PM-5)\, 
 Vaje (V)
DTSTART;TZID=Europe/Ljubljana:20231114T160000
DTEND;TZID=Europe/Ljubljana:20231114T180000
DTSTAMP:20260419T224126Z
UID:fmf-AFLABS-URNIK:premaknjeno-srecanje:54653
ATTENDEE:5. letnik (PM)
ATTENDEE:magistrski študij (FM)
ATTENDEE:magistrski študij (IŠRM)
ATTENDEE:magistrski študij (M)
CATEGORIES:Entry,Standard
COLOR:darkgreen
DESCRIPTION:Predmet: Kombinatorika / Kombinatorika 2 (FM-M\, IŠRM-M\, MAT
 -M\, PM-5)\, Vaje (V)\nLetniki: magistrski študij (FM)\, magistrski štud
 ij (IŠRM)\, magistrski študij (M)\, 5. letnik (PM)\nIzvajalci: Tea Štre
 kelj\nProstor: P.01
LOCATION:P.01
ORGANIZER:Tea Štrekelj
RELATED-TO:fmf-AFLABS-URNIK:srecanje:9226
X-WR-TIMEZONE:Europe/Ljubljana
END:VEVENT
BEGIN:VEVENT
SUMMARY:Kombinatorika / Kombinatorika 2 (FM-M\, IŠRM-M\, MAT-M\, PM-5)\, 
 Vaje (V)
DTSTART;TZID=Europe/Ljubljana:20231121T160000
DTEND;TZID=Europe/Ljubljana:20231121T180000
DTSTAMP:20260419T224126Z
UID:fmf-AFLABS-URNIK:premaknjeno-srecanje:54654
ATTENDEE:5. letnik (PM)
ATTENDEE:magistrski študij (FM)
ATTENDEE:magistrski študij (IŠRM)
ATTENDEE:magistrski študij (M)
CATEGORIES:Entry,Standard
COLOR:darkgreen
DESCRIPTION:Predmet: Kombinatorika / Kombinatorika 2 (FM-M\, IŠRM-M\, MAT
 -M\, PM-5)\, Vaje (V)\nLetniki: magistrski študij (FM)\, magistrski štud
 ij (IŠRM)\, magistrski študij (M)\, 5. letnik (PM)\nIzvajalci: Tea Štre
 kelj\nProstor: P.01
LOCATION:P.01
ORGANIZER:Tea Štrekelj
RELATED-TO:fmf-AFLABS-URNIK:srecanje:9226
X-WR-TIMEZONE:Europe/Ljubljana
END:VEVENT
BEGIN:VEVENT
SUMMARY:Kombinatorika / Kombinatorika 2 (FM-M\, IŠRM-M\, MAT-M\, PM-5)\, 
 Vaje (V)
DTSTART;TZID=Europe/Ljubljana:20231128T160000
DTEND;TZID=Europe/Ljubljana:20231128T180000
DTSTAMP:20260419T224126Z
UID:fmf-AFLABS-URNIK:premaknjeno-srecanje:54655
ATTENDEE:5. letnik (PM)
ATTENDEE:magistrski študij (FM)
ATTENDEE:magistrski študij (IŠRM)
ATTENDEE:magistrski študij (M)
CATEGORIES:Entry,Standard
COLOR:darkgreen
DESCRIPTION:Predmet: Kombinatorika / Kombinatorika 2 (FM-M\, IŠRM-M\, MAT
 -M\, PM-5)\, Vaje (V)\nLetniki: magistrski študij (FM)\, magistrski štud
 ij (IŠRM)\, magistrski študij (M)\, 5. letnik (PM)\nIzvajalci: Tea Štre
 kelj\nProstor: P.01
LOCATION:P.01
ORGANIZER:Tea Štrekelj
RELATED-TO:fmf-AFLABS-URNIK:srecanje:9226
X-WR-TIMEZONE:Europe/Ljubljana
END:VEVENT
BEGIN:VEVENT
SUMMARY:Kombinatorika / Kombinatorika 2 (FM-M\, IŠRM-M\, MAT-M\, PM-5)\, 
 Vaje (V)
DTSTART;TZID=Europe/Ljubljana:20231205T160000
DTEND;TZID=Europe/Ljubljana:20231205T180000
DTSTAMP:20260419T224126Z
UID:fmf-AFLABS-URNIK:premaknjeno-srecanje:54656
ATTENDEE:5. letnik (PM)
ATTENDEE:magistrski študij (FM)
ATTENDEE:magistrski študij (IŠRM)
ATTENDEE:magistrski študij (M)
CATEGORIES:Entry,Standard
COLOR:darkgreen
DESCRIPTION:Predmet: Kombinatorika / Kombinatorika 2 (FM-M\, IŠRM-M\, MAT
 -M\, PM-5)\, Vaje (V)\nLetniki: magistrski študij (FM)\, magistrski štud
 ij (IŠRM)\, magistrski študij (M)\, 5. letnik (PM)\nIzvajalci: Tea Štre
 kelj\nProstor: P.01
LOCATION:P.01
ORGANIZER:Tea Štrekelj
RELATED-TO:fmf-AFLABS-URNIK:srecanje:9226
X-WR-TIMEZONE:Europe/Ljubljana
END:VEVENT
BEGIN:VEVENT
SUMMARY:Kombinatorika / Kombinatorika 2 (FM-M\, IŠRM-M\, MAT-M\, PM-5)\, 
 Vaje (V)
DTSTART;TZID=Europe/Ljubljana:20231212T160000
DTEND;TZID=Europe/Ljubljana:20231212T180000
DTSTAMP:20260419T224126Z
UID:fmf-AFLABS-URNIK:premaknjeno-srecanje:54657
ATTENDEE:5. letnik (PM)
ATTENDEE:magistrski študij (FM)
ATTENDEE:magistrski študij (IŠRM)
ATTENDEE:magistrski študij (M)
CATEGORIES:Entry,Standard
COLOR:darkgreen
DESCRIPTION:Predmet: Kombinatorika / Kombinatorika 2 (FM-M\, IŠRM-M\, MAT
 -M\, PM-5)\, Vaje (V)\nLetniki: magistrski študij (FM)\, magistrski štud
 ij (IŠRM)\, magistrski študij (M)\, 5. letnik (PM)\nIzvajalci: Tea Štre
 kelj\nProstor: P.01
LOCATION:P.01
ORGANIZER:Tea Štrekelj
RELATED-TO:fmf-AFLABS-URNIK:srecanje:9226
X-WR-TIMEZONE:Europe/Ljubljana
END:VEVENT
BEGIN:VEVENT
SUMMARY:Kombinatorika / Kombinatorika 2 (FM-M\, IŠRM-M\, MAT-M\, PM-5)\, 
 Vaje (V)
DTSTART;TZID=Europe/Ljubljana:20231219T160000
DTEND;TZID=Europe/Ljubljana:20231219T180000
DTSTAMP:20260419T224126Z
UID:fmf-AFLABS-URNIK:premaknjeno-srecanje:54658
ATTENDEE:5. letnik (PM)
ATTENDEE:magistrski študij (FM)
ATTENDEE:magistrski študij (IŠRM)
ATTENDEE:magistrski študij (M)
CATEGORIES:Entry,Standard
COLOR:darkgreen
DESCRIPTION:Predmet: Kombinatorika / Kombinatorika 2 (FM-M\, IŠRM-M\, MAT
 -M\, PM-5)\, Vaje (V)\nLetniki: magistrski študij (FM)\, magistrski štud
 ij (IŠRM)\, magistrski študij (M)\, 5. letnik (PM)\nIzvajalci: Tea Štre
 kelj\nProstor: P.01
LOCATION:P.01
ORGANIZER:Tea Štrekelj
RELATED-TO:fmf-AFLABS-URNIK:srecanje:9226
X-WR-TIMEZONE:Europe/Ljubljana
END:VEVENT
BEGIN:VEVENT
SUMMARY:Kombinatorika / Kombinatorika 2 (FM-M\, IŠRM-M\, MAT-M\, PM-5)\, 
 Vaje (V)
DTSTART;TZID=Europe/Ljubljana:20231226T160000
DTEND;TZID=Europe/Ljubljana:20231226T180000
DTSTAMP:20260419T224126Z
UID:fmf-AFLABS-URNIK:premaknjeno-srecanje:54659
ATTENDEE:5. letnik (PM)
ATTENDEE:magistrski študij (FM)
ATTENDEE:magistrski študij (IŠRM)
ATTENDEE:magistrski študij (M)
CATEGORIES:Entry,Standard
COLOR:darkgreen
DESCRIPTION:Predmet: Kombinatorika / Kombinatorika 2 (FM-M\, IŠRM-M\, MAT
 -M\, PM-5)\, Vaje (V)\nLetniki: magistrski študij (FM)\, magistrski štud
 ij (IŠRM)\, magistrski študij (M)\, 5. letnik (PM)\nIzvajalci: Tea Štre
 kelj\nProstor: P.01
LOCATION:P.01
ORGANIZER:Tea Štrekelj
RELATED-TO:fmf-AFLABS-URNIK:srecanje:9226
X-WR-TIMEZONE:Europe/Ljubljana
END:VEVENT
BEGIN:VEVENT
SUMMARY:Kombinatorika / Kombinatorika 2 (FM-M\, IŠRM-M\, MAT-M\, PM-5)\, 
 Vaje (V)
DTSTART;TZID=Europe/Ljubljana:20240102T160000
DTEND;TZID=Europe/Ljubljana:20240102T180000
DTSTAMP:20260419T224126Z
UID:fmf-AFLABS-URNIK:premaknjeno-srecanje:54660
ATTENDEE:5. letnik (PM)
ATTENDEE:magistrski študij (FM)
ATTENDEE:magistrski študij (IŠRM)
ATTENDEE:magistrski študij (M)
CATEGORIES:Entry,Standard
COLOR:darkgreen
DESCRIPTION:Predmet: Kombinatorika / Kombinatorika 2 (FM-M\, IŠRM-M\, MAT
 -M\, PM-5)\, Vaje (V)\nLetniki: magistrski študij (FM)\, magistrski štud
 ij (IŠRM)\, magistrski študij (M)\, 5. letnik (PM)\nIzvajalci: Tea Štre
 kelj\nProstor: P.01
LOCATION:P.01
ORGANIZER:Tea Štrekelj
RELATED-TO:fmf-AFLABS-URNIK:srecanje:9226
X-WR-TIMEZONE:Europe/Ljubljana
END:VEVENT
BEGIN:VEVENT
SUMMARY:Kombinatorika / Kombinatorika 2 (FM-M\, IŠRM-M\, MAT-M\, PM-5)\, 
 Vaje (V)
DTSTART;TZID=Europe/Ljubljana:20240109T160000
DTEND;TZID=Europe/Ljubljana:20240109T180000
DTSTAMP:20260419T224126Z
UID:fmf-AFLABS-URNIK:premaknjeno-srecanje:54661
ATTENDEE:5. letnik (PM)
ATTENDEE:magistrski študij (FM)
ATTENDEE:magistrski študij (IŠRM)
ATTENDEE:magistrski študij (M)
CATEGORIES:Entry,Standard
COLOR:darkgreen
DESCRIPTION:Predmet: Kombinatorika / Kombinatorika 2 (FM-M\, IŠRM-M\, MAT
 -M\, PM-5)\, Vaje (V)\nLetniki: magistrski študij (FM)\, magistrski štud
 ij (IŠRM)\, magistrski študij (M)\, 5. letnik (PM)\nIzvajalci: Tea Štre
 kelj\nProstor: P.01
LOCATION:P.01
ORGANIZER:Tea Štrekelj
RELATED-TO:fmf-AFLABS-URNIK:srecanje:9226
X-WR-TIMEZONE:Europe/Ljubljana
END:VEVENT
BEGIN:VEVENT
SUMMARY:Kombinatorika / Kombinatorika 2 (FM-M\, IŠRM-M\, MAT-M\, PM-5)\, 
 Vaje (V)
DTSTART;TZID=Europe/Ljubljana:20240116T160000
DTEND;TZID=Europe/Ljubljana:20240116T180000
DTSTAMP:20260419T224126Z
UID:fmf-AFLABS-URNIK:premaknjeno-srecanje:54662
ATTENDEE:5. letnik (PM)
ATTENDEE:magistrski študij (FM)
ATTENDEE:magistrski študij (IŠRM)
ATTENDEE:magistrski študij (M)
CATEGORIES:Entry,Standard
COLOR:darkgreen
DESCRIPTION:Predmet: Kombinatorika / Kombinatorika 2 (FM-M\, IŠRM-M\, MAT
 -M\, PM-5)\, Vaje (V)\nLetniki: magistrski študij (FM)\, magistrski štud
 ij (IŠRM)\, magistrski študij (M)\, 5. letnik (PM)\nIzvajalci: Tea Štre
 kelj\nProstor: P.01
LOCATION:P.01
ORGANIZER:Tea Štrekelj
RELATED-TO:fmf-AFLABS-URNIK:srecanje:9226
X-WR-TIMEZONE:Europe/Ljubljana
END:VEVENT
BEGIN:VEVENT
SUMMARY:Funkcionalna analiza (FM-M\, MAT-M\, PM-5)\, Vaje (V)
DTSTART;TZID=Europe/Ljubljana:20231004T160000
DTEND;TZID=Europe/Ljubljana:20231004T180000
DTSTAMP:20260419T224126Z
UID:fmf-AFLABS-URNIK:premaknjeno-srecanje:38095
ATTENDEE:5. letnik (PM)
ATTENDEE:magistrski študij (FM)
ATTENDEE:magistrski študij (M)
CATEGORIES:Entry,Standard
COLOR:darkgreen
DESCRIPTION:Predmet: Funkcionalna analiza (FM-M\, MAT-M\, PM-5)\, Vaje (V)
 \nLetniki: magistrski študij (FM)\, magistrski študij (M)\, 5. letnik (P
 M)\nIzvajalci: Tea Štrekelj\nProstor: 3.06
LOCATION:3.06
ORGANIZER:Tea Štrekelj
RELATED-TO:fmf-AFLABS-URNIK:srecanje:9510
X-WR-TIMEZONE:Europe/Ljubljana
END:VEVENT
BEGIN:VEVENT
SUMMARY:Funkcionalna analiza (FM-M\, MAT-M\, PM-5)\, Vaje (V)
DTSTART;TZID=Europe/Ljubljana:20231011T160000
DTEND;TZID=Europe/Ljubljana:20231011T180000
DTSTAMP:20260419T224126Z
UID:fmf-AFLABS-URNIK:premaknjeno-srecanje:38096
ATTENDEE:5. letnik (PM)
ATTENDEE:magistrski študij (FM)
ATTENDEE:magistrski študij (M)
CATEGORIES:Entry,Standard
COLOR:darkgreen
DESCRIPTION:Predmet: Funkcionalna analiza (FM-M\, MAT-M\, PM-5)\, Vaje (V)
 \nLetniki: magistrski študij (FM)\, magistrski študij (M)\, 5. letnik (P
 M)\nIzvajalci: Tea Štrekelj\nProstor: 3.06
LOCATION:3.06
ORGANIZER:Tea Štrekelj
RELATED-TO:fmf-AFLABS-URNIK:srecanje:9510
X-WR-TIMEZONE:Europe/Ljubljana
END:VEVENT
BEGIN:VEVENT
SUMMARY:Funkcionalna analiza (FM-M\, MAT-M\, PM-5)\, Vaje (V)
DTSTART;TZID=Europe/Ljubljana:20231018T160000
DTEND;TZID=Europe/Ljubljana:20231018T180000
DTSTAMP:20260419T224126Z
UID:fmf-AFLABS-URNIK:premaknjeno-srecanje:38097
ATTENDEE:5. letnik (PM)
ATTENDEE:magistrski študij (FM)
ATTENDEE:magistrski študij (M)
CATEGORIES:Entry,Standard
COLOR:darkgreen
DESCRIPTION:Predmet: Funkcionalna analiza (FM-M\, MAT-M\, PM-5)\, Vaje (V)
 \nLetniki: magistrski študij (FM)\, magistrski študij (M)\, 5. letnik (P
 M)\nIzvajalci: Tea Štrekelj\nProstor: 3.06
LOCATION:3.06
ORGANIZER:Tea Štrekelj
RELATED-TO:fmf-AFLABS-URNIK:srecanje:9510
X-WR-TIMEZONE:Europe/Ljubljana
END:VEVENT
BEGIN:VEVENT
SUMMARY:Funkcionalna analiza (FM-M\, MAT-M\, PM-5)\, Vaje (V)
DTSTART;TZID=Europe/Ljubljana:20231025T160000
DTEND;TZID=Europe/Ljubljana:20231025T180000
DTSTAMP:20260419T224126Z
UID:fmf-AFLABS-URNIK:premaknjeno-srecanje:38098
ATTENDEE:5. letnik (PM)
ATTENDEE:magistrski študij (FM)
ATTENDEE:magistrski študij (M)
CATEGORIES:Entry,Standard
COLOR:darkgreen
DESCRIPTION:Predmet: Funkcionalna analiza (FM-M\, MAT-M\, PM-5)\, Vaje (V)
 \nLetniki: magistrski študij (FM)\, magistrski študij (M)\, 5. letnik (P
 M)\nIzvajalci: Tea Štrekelj\nProstor: 3.06
LOCATION:3.06
ORGANIZER:Tea Štrekelj
RELATED-TO:fmf-AFLABS-URNIK:srecanje:9510
X-WR-TIMEZONE:Europe/Ljubljana
END:VEVENT
BEGIN:VEVENT
SUMMARY:Funkcionalna analiza (FM-M\, MAT-M\, PM-5)\, Vaje (V)
DTSTART;TZID=Europe/Ljubljana:20231101T160000
DTEND;TZID=Europe/Ljubljana:20231101T180000
DTSTAMP:20260419T224126Z
UID:fmf-AFLABS-URNIK:premaknjeno-srecanje:38099
ATTENDEE:5. letnik (PM)
ATTENDEE:magistrski študij (FM)
ATTENDEE:magistrski študij (M)
CATEGORIES:Entry,Standard
COLOR:darkgreen
DESCRIPTION:Predmet: Funkcionalna analiza (FM-M\, MAT-M\, PM-5)\, Vaje (V)
 \nLetniki: magistrski študij (FM)\, magistrski študij (M)\, 5. letnik (P
 M)\nIzvajalci: Tea Štrekelj\nProstor: 3.06
LOCATION:3.06
ORGANIZER:Tea Štrekelj
RELATED-TO:fmf-AFLABS-URNIK:srecanje:9510
X-WR-TIMEZONE:Europe/Ljubljana
END:VEVENT
BEGIN:VEVENT
SUMMARY:Funkcionalna analiza (FM-M\, MAT-M\, PM-5)\, Vaje (V)
DTSTART;TZID=Europe/Ljubljana:20231108T160000
DTEND;TZID=Europe/Ljubljana:20231108T180000
DTSTAMP:20260419T224126Z
UID:fmf-AFLABS-URNIK:premaknjeno-srecanje:38100
ATTENDEE:5. letnik (PM)
ATTENDEE:magistrski študij (FM)
ATTENDEE:magistrski študij (M)
CATEGORIES:Entry,Standard
COLOR:darkgreen
DESCRIPTION:Predmet: Funkcionalna analiza (FM-M\, MAT-M\, PM-5)\, Vaje (V)
 \nLetniki: magistrski študij (FM)\, magistrski študij (M)\, 5. letnik (P
 M)\nIzvajalci: Tea Štrekelj\nProstor: 3.06
LOCATION:3.06
ORGANIZER:Tea Štrekelj
RELATED-TO:fmf-AFLABS-URNIK:srecanje:9510
X-WR-TIMEZONE:Europe/Ljubljana
END:VEVENT
BEGIN:VEVENT
SUMMARY:Funkcionalna analiza (FM-M\, MAT-M\, PM-5)\, Vaje (V)
DTSTART;TZID=Europe/Ljubljana:20231115T160000
DTEND;TZID=Europe/Ljubljana:20231115T180000
DTSTAMP:20260419T224126Z
UID:fmf-AFLABS-URNIK:premaknjeno-srecanje:38101
ATTENDEE:5. letnik (PM)
ATTENDEE:magistrski študij (FM)
ATTENDEE:magistrski študij (M)
CATEGORIES:Entry,Standard
COLOR:darkgreen
DESCRIPTION:Predmet: Funkcionalna analiza (FM-M\, MAT-M\, PM-5)\, Vaje (V)
 \nLetniki: magistrski študij (FM)\, magistrski študij (M)\, 5. letnik (P
 M)\nIzvajalci: Tea Štrekelj\nProstor: 3.06
LOCATION:3.06
ORGANIZER:Tea Štrekelj
RELATED-TO:fmf-AFLABS-URNIK:srecanje:9510
X-WR-TIMEZONE:Europe/Ljubljana
END:VEVENT
BEGIN:VEVENT
SUMMARY:Funkcionalna analiza (FM-M\, MAT-M\, PM-5)\, Vaje (V)
DTSTART;TZID=Europe/Ljubljana:20231122T160000
DTEND;TZID=Europe/Ljubljana:20231122T180000
DTSTAMP:20260419T224126Z
UID:fmf-AFLABS-URNIK:premaknjeno-srecanje:38102
ATTENDEE:5. letnik (PM)
ATTENDEE:magistrski študij (FM)
ATTENDEE:magistrski študij (M)
CATEGORIES:Entry,Standard
COLOR:darkgreen
DESCRIPTION:Predmet: Funkcionalna analiza (FM-M\, MAT-M\, PM-5)\, Vaje (V)
 \nLetniki: magistrski študij (FM)\, magistrski študij (M)\, 5. letnik (P
 M)\nIzvajalci: Tea Štrekelj\nProstor: 3.06
LOCATION:3.06
ORGANIZER:Tea Štrekelj
RELATED-TO:fmf-AFLABS-URNIK:srecanje:9510
X-WR-TIMEZONE:Europe/Ljubljana
END:VEVENT
BEGIN:VEVENT
SUMMARY:Funkcionalna analiza (FM-M\, MAT-M\, PM-5)\, Vaje (V)
DTSTART;TZID=Europe/Ljubljana:20231129T160000
DTEND;TZID=Europe/Ljubljana:20231129T180000
DTSTAMP:20260419T224126Z
UID:fmf-AFLABS-URNIK:premaknjeno-srecanje:38103
ATTENDEE:5. letnik (PM)
ATTENDEE:magistrski študij (FM)
ATTENDEE:magistrski študij (M)
CATEGORIES:Entry,Standard
COLOR:darkgreen
DESCRIPTION:Predmet: Funkcionalna analiza (FM-M\, MAT-M\, PM-5)\, Vaje (V)
 \nLetniki: magistrski študij (FM)\, magistrski študij (M)\, 5. letnik (P
 M)\nIzvajalci: Tea Štrekelj\nProstor: 3.06
LOCATION:3.06
ORGANIZER:Tea Štrekelj
RELATED-TO:fmf-AFLABS-URNIK:srecanje:9510
X-WR-TIMEZONE:Europe/Ljubljana
END:VEVENT
BEGIN:VEVENT
SUMMARY:Funkcionalna analiza (FM-M\, MAT-M\, PM-5)\, Vaje (V)
DTSTART;TZID=Europe/Ljubljana:20231206T160000
DTEND;TZID=Europe/Ljubljana:20231206T180000
DTSTAMP:20260419T224126Z
UID:fmf-AFLABS-URNIK:premaknjeno-srecanje:38104
ATTENDEE:5. letnik (PM)
ATTENDEE:magistrski študij (FM)
ATTENDEE:magistrski študij (M)
CATEGORIES:Entry,Standard
COLOR:darkgreen
DESCRIPTION:Predmet: Funkcionalna analiza (FM-M\, MAT-M\, PM-5)\, Vaje (V)
 \nLetniki: magistrski študij (FM)\, magistrski študij (M)\, 5. letnik (P
 M)\nIzvajalci: Tea Štrekelj\nProstor: 3.06
LOCATION:3.06
ORGANIZER:Tea Štrekelj
RELATED-TO:fmf-AFLABS-URNIK:srecanje:9510
X-WR-TIMEZONE:Europe/Ljubljana
END:VEVENT
BEGIN:VEVENT
SUMMARY:Funkcionalna analiza (FM-M\, MAT-M\, PM-5)\, Vaje (V)
DTSTART;TZID=Europe/Ljubljana:20231213T160000
DTEND;TZID=Europe/Ljubljana:20231213T180000
DTSTAMP:20260419T224126Z
UID:fmf-AFLABS-URNIK:premaknjeno-srecanje:38105
ATTENDEE:5. letnik (PM)
ATTENDEE:magistrski študij (FM)
ATTENDEE:magistrski študij (M)
CATEGORIES:Entry,Standard
COLOR:darkgreen
DESCRIPTION:Predmet: Funkcionalna analiza (FM-M\, MAT-M\, PM-5)\, Vaje (V)
 \nLetniki: magistrski študij (FM)\, magistrski študij (M)\, 5. letnik (P
 M)\nIzvajalci: Tea Štrekelj\nProstor: 3.06
LOCATION:3.06
ORGANIZER:Tea Štrekelj
RELATED-TO:fmf-AFLABS-URNIK:srecanje:9510
X-WR-TIMEZONE:Europe/Ljubljana
END:VEVENT
BEGIN:VEVENT
SUMMARY:Funkcionalna analiza (FM-M\, MAT-M\, PM-5)\, Vaje (V)
DTSTART;TZID=Europe/Ljubljana:20231220T160000
DTEND;TZID=Europe/Ljubljana:20231220T180000
DTSTAMP:20260419T224126Z
UID:fmf-AFLABS-URNIK:premaknjeno-srecanje:38106
ATTENDEE:5. letnik (PM)
ATTENDEE:magistrski študij (FM)
ATTENDEE:magistrski študij (M)
CATEGORIES:Entry,Standard
COLOR:darkgreen
DESCRIPTION:Predmet: Funkcionalna analiza (FM-M\, MAT-M\, PM-5)\, Vaje (V)
 \nLetniki: magistrski študij (FM)\, magistrski študij (M)\, 5. letnik (P
 M)\nIzvajalci: Tea Štrekelj\nProstor: 3.06
LOCATION:3.06
ORGANIZER:Tea Štrekelj
RELATED-TO:fmf-AFLABS-URNIK:srecanje:9510
X-WR-TIMEZONE:Europe/Ljubljana
END:VEVENT
BEGIN:VEVENT
SUMMARY:Funkcionalna analiza (FM-M\, MAT-M\, PM-5)\, Vaje (V)
DTSTART;TZID=Europe/Ljubljana:20231227T160000
DTEND;TZID=Europe/Ljubljana:20231227T180000
DTSTAMP:20260419T224126Z
UID:fmf-AFLABS-URNIK:premaknjeno-srecanje:38107
ATTENDEE:5. letnik (PM)
ATTENDEE:magistrski študij (FM)
ATTENDEE:magistrski študij (M)
CATEGORIES:Entry,Standard
COLOR:darkgreen
DESCRIPTION:Predmet: Funkcionalna analiza (FM-M\, MAT-M\, PM-5)\, Vaje (V)
 \nLetniki: magistrski študij (FM)\, magistrski študij (M)\, 5. letnik (P
 M)\nIzvajalci: Tea Štrekelj\nProstor: 3.06
LOCATION:3.06
ORGANIZER:Tea Štrekelj
RELATED-TO:fmf-AFLABS-URNIK:srecanje:9510
X-WR-TIMEZONE:Europe/Ljubljana
END:VEVENT
BEGIN:VEVENT
SUMMARY:Funkcionalna analiza (FM-M\, MAT-M\, PM-5)\, Vaje (V)
DTSTART;TZID=Europe/Ljubljana:20240103T160000
DTEND;TZID=Europe/Ljubljana:20240103T180000
DTSTAMP:20260419T224126Z
UID:fmf-AFLABS-URNIK:premaknjeno-srecanje:38108
ATTENDEE:5. letnik (PM)
ATTENDEE:magistrski študij (FM)
ATTENDEE:magistrski študij (M)
CATEGORIES:Entry,Standard
COLOR:darkgreen
DESCRIPTION:Predmet: Funkcionalna analiza (FM-M\, MAT-M\, PM-5)\, Vaje (V)
 \nLetniki: magistrski študij (FM)\, magistrski študij (M)\, 5. letnik (P
 M)\nIzvajalci: Tea Štrekelj\nProstor: 3.06
LOCATION:3.06
ORGANIZER:Tea Štrekelj
RELATED-TO:fmf-AFLABS-URNIK:srecanje:9510
X-WR-TIMEZONE:Europe/Ljubljana
END:VEVENT
BEGIN:VEVENT
SUMMARY:Funkcionalna analiza (FM-M\, MAT-M\, PM-5)\, Vaje (V)
DTSTART;TZID=Europe/Ljubljana:20240110T160000
DTEND;TZID=Europe/Ljubljana:20240110T180000
DTSTAMP:20260419T224126Z
UID:fmf-AFLABS-URNIK:premaknjeno-srecanje:38109
ATTENDEE:5. letnik (PM)
ATTENDEE:magistrski študij (FM)
ATTENDEE:magistrski študij (M)
CATEGORIES:Entry,Standard
COLOR:darkgreen
DESCRIPTION:Predmet: Funkcionalna analiza (FM-M\, MAT-M\, PM-5)\, Vaje (V)
 \nLetniki: magistrski študij (FM)\, magistrski študij (M)\, 5. letnik (P
 M)\nIzvajalci: Tea Štrekelj\nProstor: 3.06
LOCATION:3.06
ORGANIZER:Tea Štrekelj
RELATED-TO:fmf-AFLABS-URNIK:srecanje:9510
X-WR-TIMEZONE:Europe/Ljubljana
END:VEVENT
BEGIN:VEVENT
SUMMARY:Funkcionalna analiza (FM-M\, MAT-M\, PM-5)\, Vaje (V)
DTSTART;TZID=Europe/Ljubljana:20240117T160000
DTEND;TZID=Europe/Ljubljana:20240117T180000
DTSTAMP:20260419T224126Z
UID:fmf-AFLABS-URNIK:premaknjeno-srecanje:38110
ATTENDEE:5. letnik (PM)
ATTENDEE:magistrski študij (FM)
ATTENDEE:magistrski študij (M)
CATEGORIES:Entry,Standard
COLOR:darkgreen
DESCRIPTION:Predmet: Funkcionalna analiza (FM-M\, MAT-M\, PM-5)\, Vaje (V)
 \nLetniki: magistrski študij (FM)\, magistrski študij (M)\, 5. letnik (P
 M)\nIzvajalci: Tea Štrekelj\nProstor: 3.06
LOCATION:3.06
ORGANIZER:Tea Štrekelj
RELATED-TO:fmf-AFLABS-URNIK:srecanje:9510
X-WR-TIMEZONE:Europe/Ljubljana
END:VEVENT
BEGIN:VEVENT
SUMMARY:Rezervacija
DTSTART;TZID=Europe/Ljubljana:20231102T160000
DTEND;TZID=Europe/Ljubljana:20231102T170000
DTSTAMP:20260419T224126Z
UID:fmf-AFLABS-URNIK:rezervacija:13519
CATEGORIES:Reservation
COLOR:royalblue
DESCRIPTION:Predmeti: \nLetniki: \nIzvajalci: Tea Štrekelj\nProstori: 2.0
 4
LOCATION:2.04
ORGANIZER:Tea Štrekelj
X-WR-TIMEZONE:Europe/Ljubljana
END:VEVENT
BEGIN:VEVENT
SUMMARY:Rezervacija
DTSTART;TZID=Europe/Ljubljana:20231102T170000
DTEND;TZID=Europe/Ljubljana:20231102T180000
DTSTAMP:20260419T224126Z
UID:fmf-AFLABS-URNIK:rezervacija:13521
CATEGORIES:Reservation
COLOR:royalblue
DESCRIPTION:Predmeti: \nLetniki: \nIzvajalci: Tea Štrekelj\nProstori: 2.0
 2
LOCATION:2.02
ORGANIZER:Tea Štrekelj
X-WR-TIMEZONE:Europe/Ljubljana
END:VEVENT
BEGIN:VEVENT
SUMMARY:Rezervacija
DTSTART;TZID=Europe/Ljubljana:20231204T170000
DTEND;TZID=Europe/Ljubljana:20231204T190000
DTSTAMP:20260419T224126Z
UID:fmf-AFLABS-URNIK:rezervacija:13704
CATEGORIES:Reservation
COLOR:royalblue
DESCRIPTION:Predmeti: \nLetniki: \nIzvajalci: Matjaž Konvalinka\, Tea Št
 rekelj\nProstori: P.02
LOCATION:P.02
ORGANIZER:Matjaž Konvalinka, Tea Štrekelj
X-WR-TIMEZONE:Europe/Ljubljana
END:VEVENT
BEGIN:VEVENT
SUMMARY:Rezervacija
DTSTART;TZID=Europe/Ljubljana:20240118T170000
DTEND;TZID=Europe/Ljubljana:20240118T190000
DTSTAMP:20260419T224126Z
UID:fmf-AFLABS-URNIK:rezervacija:13872
CATEGORIES:Reservation
COLOR:royalblue
DESCRIPTION:Predmeti: \nLetniki: \nIzvajalci: Matjaž Konvalinka\, Tea Št
 rekelj\nProstori: 2.02
LOCATION:2.02
ORGANIZER:Matjaž Konvalinka, Tea Štrekelj
X-WR-TIMEZONE:Europe/Ljubljana
END:VEVENT
END:VCALENDAR
