BEGIN:VCALENDAR
VERSION:2.0
PRODID:-//AFLabs urnik izvoz - fmf//aflabs.si//SI
DTSTAMP:20260425T121932Z
NAME:UL FMF urnik
REFRESH-INTERVAL:PT1H
SOURCE:https://urnik.fmf.uni-lj.si/teacher/712?day=2021-04-19&export=1
URL:https://urnik.fmf.uni-lj.si/teacher/712?day=2021-04-19&export=1
X-PUBLISHED-TTL:PT1H
X-WR-CALNAME:UL FMF urnik
X-WR-TIMEZONE:Europe/Ljubljana
BEGIN:VTIMEZONE
TZID:Europe/Ljubljana
BEGIN:DAYLIGHT
DTSTART:20260329T020000
RDATE:20260329T020000
RDATE:20270328T020000
TZNAME:CEST
TZOFFSETFROM:+0100
TZOFFSETTO:+0200
END:DAYLIGHT
BEGIN:STANDARD
DTSTART:20261025T030000
RDATE:20261025T030000
RDATE:20271031T030000
TZNAME:CET
TZOFFSETFROM:+0200
TZOFFSETTO:+0100
END:STANDARD
END:VTIMEZONE
BEGIN:VEVENT
SUMMARY:Moderna fizika II (FIZ-2\, FIZ-3\, PEF-1\, PEF-2)\, Vaje (V)\, [1]
DTSTART;TZID=Europe/Ljubljana:20210216T080000
DTEND;TZID=Europe/Ljubljana:20210216T100000
DTSTAMP:20260425T121932Z
UID:fmf-AFLABS-URNIK:premaknjeno-srecanje:74928
ATTENDEE:1. letnik (Pedagoška fizika, 2. stopnja)
ATTENDEE:2. letnik (Fizika, 1. stopnja)
ATTENDEE:2. letnik (Pedagoška fizika, 2. stopnja)
ATTENDEE:3. letnik (Fizika, 1. stopnja)
CATEGORIES:Entry,Standard
COLOR:darkgreen
DESCRIPTION:Predmet: Moderna fizika II (FIZ-2\, FIZ-3\, PEF-1\, PEF-2)\, V
 aje (V)\, [1]\nLetniki: 2. letnik (Fizika\, 1. stopnja)\, 3. letnik (Fizik
 a\, 1. stopnja)\, 1. letnik (Pedagoška fizika\, 2. stopnja)\, 2. letnik (
 Pedagoška fizika\, 2. stopnja)\nIzvajalci: Mitja Šadl\nProstor: F1
LOCATION:F1
ORGANIZER:Mitja Šadl
RELATED-TO:fmf-AFLABS-URNIK:srecanje:5765
X-WR-TIMEZONE:Europe/Ljubljana
END:VEVENT
BEGIN:VEVENT
SUMMARY:Moderna fizika II (FIZ-2\, FIZ-3\, PEF-1\, PEF-2)\, Vaje (V)\, [1]
DTSTART;TZID=Europe/Ljubljana:20210223T080000
DTEND;TZID=Europe/Ljubljana:20210223T100000
DTSTAMP:20260425T121932Z
UID:fmf-AFLABS-URNIK:premaknjeno-srecanje:74929
ATTENDEE:1. letnik (Pedagoška fizika, 2. stopnja)
ATTENDEE:2. letnik (Fizika, 1. stopnja)
ATTENDEE:2. letnik (Pedagoška fizika, 2. stopnja)
ATTENDEE:3. letnik (Fizika, 1. stopnja)
CATEGORIES:Entry,Standard
COLOR:darkgreen
DESCRIPTION:Predmet: Moderna fizika II (FIZ-2\, FIZ-3\, PEF-1\, PEF-2)\, V
 aje (V)\, [1]\nLetniki: 2. letnik (Fizika\, 1. stopnja)\, 3. letnik (Fizik
 a\, 1. stopnja)\, 1. letnik (Pedagoška fizika\, 2. stopnja)\, 2. letnik (
 Pedagoška fizika\, 2. stopnja)\nIzvajalci: Mitja Šadl\nProstor: F1
LOCATION:F1
ORGANIZER:Mitja Šadl
RELATED-TO:fmf-AFLABS-URNIK:srecanje:5765
X-WR-TIMEZONE:Europe/Ljubljana
END:VEVENT
BEGIN:VEVENT
SUMMARY:Moderna fizika II (FIZ-2\, FIZ-3\, PEF-1\, PEF-2)\, Vaje (V)\, [1]
DTSTART;TZID=Europe/Ljubljana:20210302T080000
DTEND;TZID=Europe/Ljubljana:20210302T100000
DTSTAMP:20260425T121932Z
UID:fmf-AFLABS-URNIK:premaknjeno-srecanje:74930
ATTENDEE:1. letnik (Pedagoška fizika, 2. stopnja)
ATTENDEE:2. letnik (Fizika, 1. stopnja)
ATTENDEE:2. letnik (Pedagoška fizika, 2. stopnja)
ATTENDEE:3. letnik (Fizika, 1. stopnja)
CATEGORIES:Entry,Standard
COLOR:darkgreen
DESCRIPTION:Predmet: Moderna fizika II (FIZ-2\, FIZ-3\, PEF-1\, PEF-2)\, V
 aje (V)\, [1]\nLetniki: 2. letnik (Fizika\, 1. stopnja)\, 3. letnik (Fizik
 a\, 1. stopnja)\, 1. letnik (Pedagoška fizika\, 2. stopnja)\, 2. letnik (
 Pedagoška fizika\, 2. stopnja)\nIzvajalci: Mitja Šadl\nProstor: F1
LOCATION:F1
ORGANIZER:Mitja Šadl
RELATED-TO:fmf-AFLABS-URNIK:srecanje:5765
X-WR-TIMEZONE:Europe/Ljubljana
END:VEVENT
BEGIN:VEVENT
SUMMARY:Moderna fizika II (FIZ-2\, FIZ-3\, PEF-1\, PEF-2)\, Vaje (V)\, [1]
DTSTART;TZID=Europe/Ljubljana:20210309T080000
DTEND;TZID=Europe/Ljubljana:20210309T100000
DTSTAMP:20260425T121932Z
UID:fmf-AFLABS-URNIK:premaknjeno-srecanje:74931
ATTENDEE:1. letnik (Pedagoška fizika, 2. stopnja)
ATTENDEE:2. letnik (Fizika, 1. stopnja)
ATTENDEE:2. letnik (Pedagoška fizika, 2. stopnja)
ATTENDEE:3. letnik (Fizika, 1. stopnja)
CATEGORIES:Entry,Standard
COLOR:darkgreen
DESCRIPTION:Predmet: Moderna fizika II (FIZ-2\, FIZ-3\, PEF-1\, PEF-2)\, V
 aje (V)\, [1]\nLetniki: 2. letnik (Fizika\, 1. stopnja)\, 3. letnik (Fizik
 a\, 1. stopnja)\, 1. letnik (Pedagoška fizika\, 2. stopnja)\, 2. letnik (
 Pedagoška fizika\, 2. stopnja)\nIzvajalci: Mitja Šadl\nProstor: F1
LOCATION:F1
ORGANIZER:Mitja Šadl
RELATED-TO:fmf-AFLABS-URNIK:srecanje:5765
X-WR-TIMEZONE:Europe/Ljubljana
END:VEVENT
BEGIN:VEVENT
SUMMARY:Moderna fizika II (FIZ-2\, FIZ-3\, PEF-1\, PEF-2)\, Vaje (V)\, [1]
DTSTART;TZID=Europe/Ljubljana:20210316T080000
DTEND;TZID=Europe/Ljubljana:20210316T100000
DTSTAMP:20260425T121932Z
UID:fmf-AFLABS-URNIK:premaknjeno-srecanje:74932
ATTENDEE:1. letnik (Pedagoška fizika, 2. stopnja)
ATTENDEE:2. letnik (Fizika, 1. stopnja)
ATTENDEE:2. letnik (Pedagoška fizika, 2. stopnja)
ATTENDEE:3. letnik (Fizika, 1. stopnja)
CATEGORIES:Entry,Standard
COLOR:darkgreen
DESCRIPTION:Predmet: Moderna fizika II (FIZ-2\, FIZ-3\, PEF-1\, PEF-2)\, V
 aje (V)\, [1]\nLetniki: 2. letnik (Fizika\, 1. stopnja)\, 3. letnik (Fizik
 a\, 1. stopnja)\, 1. letnik (Pedagoška fizika\, 2. stopnja)\, 2. letnik (
 Pedagoška fizika\, 2. stopnja)\nIzvajalci: Mitja Šadl\nProstor: F1
LOCATION:F1
ORGANIZER:Mitja Šadl
RELATED-TO:fmf-AFLABS-URNIK:srecanje:5765
X-WR-TIMEZONE:Europe/Ljubljana
END:VEVENT
BEGIN:VEVENT
SUMMARY:Moderna fizika II (FIZ-2\, FIZ-3\, PEF-1\, PEF-2)\, Vaje (V)\, [1]
DTSTART;TZID=Europe/Ljubljana:20210323T080000
DTEND;TZID=Europe/Ljubljana:20210323T100000
DTSTAMP:20260425T121932Z
UID:fmf-AFLABS-URNIK:premaknjeno-srecanje:74933
ATTENDEE:1. letnik (Pedagoška fizika, 2. stopnja)
ATTENDEE:2. letnik (Fizika, 1. stopnja)
ATTENDEE:2. letnik (Pedagoška fizika, 2. stopnja)
ATTENDEE:3. letnik (Fizika, 1. stopnja)
CATEGORIES:Entry,Standard
COLOR:darkgreen
DESCRIPTION:Predmet: Moderna fizika II (FIZ-2\, FIZ-3\, PEF-1\, PEF-2)\, V
 aje (V)\, [1]\nLetniki: 2. letnik (Fizika\, 1. stopnja)\, 3. letnik (Fizik
 a\, 1. stopnja)\, 1. letnik (Pedagoška fizika\, 2. stopnja)\, 2. letnik (
 Pedagoška fizika\, 2. stopnja)\nIzvajalci: Mitja Šadl\nProstor: F1
LOCATION:F1
ORGANIZER:Mitja Šadl
RELATED-TO:fmf-AFLABS-URNIK:srecanje:5765
X-WR-TIMEZONE:Europe/Ljubljana
END:VEVENT
BEGIN:VEVENT
SUMMARY:Moderna fizika II (FIZ-2\, FIZ-3\, PEF-1\, PEF-2)\, Vaje (V)\, [1]
DTSTART;TZID=Europe/Ljubljana:20210330T080000
DTEND;TZID=Europe/Ljubljana:20210330T100000
DTSTAMP:20260425T121932Z
UID:fmf-AFLABS-URNIK:premaknjeno-srecanje:74934
ATTENDEE:1. letnik (Pedagoška fizika, 2. stopnja)
ATTENDEE:2. letnik (Fizika, 1. stopnja)
ATTENDEE:2. letnik (Pedagoška fizika, 2. stopnja)
ATTENDEE:3. letnik (Fizika, 1. stopnja)
CATEGORIES:Entry,Standard
COLOR:darkgreen
DESCRIPTION:Predmet: Moderna fizika II (FIZ-2\, FIZ-3\, PEF-1\, PEF-2)\, V
 aje (V)\, [1]\nLetniki: 2. letnik (Fizika\, 1. stopnja)\, 3. letnik (Fizik
 a\, 1. stopnja)\, 1. letnik (Pedagoška fizika\, 2. stopnja)\, 2. letnik (
 Pedagoška fizika\, 2. stopnja)\nIzvajalci: Mitja Šadl\nProstor: F1
LOCATION:F1
ORGANIZER:Mitja Šadl
RELATED-TO:fmf-AFLABS-URNIK:srecanje:5765
X-WR-TIMEZONE:Europe/Ljubljana
END:VEVENT
BEGIN:VEVENT
SUMMARY:Moderna fizika II (FIZ-2\, FIZ-3\, PEF-1\, PEF-2)\, Vaje (V)\, [1]
DTSTART;TZID=Europe/Ljubljana:20210406T080000
DTEND;TZID=Europe/Ljubljana:20210406T100000
DTSTAMP:20260425T121932Z
UID:fmf-AFLABS-URNIK:premaknjeno-srecanje:74935
ATTENDEE:1. letnik (Pedagoška fizika, 2. stopnja)
ATTENDEE:2. letnik (Fizika, 1. stopnja)
ATTENDEE:2. letnik (Pedagoška fizika, 2. stopnja)
ATTENDEE:3. letnik (Fizika, 1. stopnja)
CATEGORIES:Entry,Standard
COLOR:darkgreen
DESCRIPTION:Predmet: Moderna fizika II (FIZ-2\, FIZ-3\, PEF-1\, PEF-2)\, V
 aje (V)\, [1]\nLetniki: 2. letnik (Fizika\, 1. stopnja)\, 3. letnik (Fizik
 a\, 1. stopnja)\, 1. letnik (Pedagoška fizika\, 2. stopnja)\, 2. letnik (
 Pedagoška fizika\, 2. stopnja)\nIzvajalci: Mitja Šadl\nProstor: F1
LOCATION:F1
ORGANIZER:Mitja Šadl
RELATED-TO:fmf-AFLABS-URNIK:srecanje:5765
X-WR-TIMEZONE:Europe/Ljubljana
END:VEVENT
BEGIN:VEVENT
SUMMARY:Moderna fizika II (FIZ-2\, FIZ-3\, PEF-1\, PEF-2)\, Vaje (V)\, [1]
DTSTART;TZID=Europe/Ljubljana:20210413T080000
DTEND;TZID=Europe/Ljubljana:20210413T100000
DTSTAMP:20260425T121932Z
UID:fmf-AFLABS-URNIK:premaknjeno-srecanje:74936
ATTENDEE:1. letnik (Pedagoška fizika, 2. stopnja)
ATTENDEE:2. letnik (Fizika, 1. stopnja)
ATTENDEE:2. letnik (Pedagoška fizika, 2. stopnja)
ATTENDEE:3. letnik (Fizika, 1. stopnja)
CATEGORIES:Entry,Standard
COLOR:darkgreen
DESCRIPTION:Predmet: Moderna fizika II (FIZ-2\, FIZ-3\, PEF-1\, PEF-2)\, V
 aje (V)\, [1]\nLetniki: 2. letnik (Fizika\, 1. stopnja)\, 3. letnik (Fizik
 a\, 1. stopnja)\, 1. letnik (Pedagoška fizika\, 2. stopnja)\, 2. letnik (
 Pedagoška fizika\, 2. stopnja)\nIzvajalci: Mitja Šadl\nProstor: F1
LOCATION:F1
ORGANIZER:Mitja Šadl
RELATED-TO:fmf-AFLABS-URNIK:srecanje:5765
X-WR-TIMEZONE:Europe/Ljubljana
END:VEVENT
BEGIN:VEVENT
SUMMARY:Moderna fizika II (FIZ-2\, FIZ-3\, PEF-1\, PEF-2)\, Vaje (V)\, [1]
DTSTART;TZID=Europe/Ljubljana:20210420T080000
DTEND;TZID=Europe/Ljubljana:20210420T100000
DTSTAMP:20260425T121932Z
UID:fmf-AFLABS-URNIK:premaknjeno-srecanje:74937
ATTENDEE:1. letnik (Pedagoška fizika, 2. stopnja)
ATTENDEE:2. letnik (Fizika, 1. stopnja)
ATTENDEE:2. letnik (Pedagoška fizika, 2. stopnja)
ATTENDEE:3. letnik (Fizika, 1. stopnja)
CATEGORIES:Entry,Standard
COLOR:darkgreen
DESCRIPTION:Predmet: Moderna fizika II (FIZ-2\, FIZ-3\, PEF-1\, PEF-2)\, V
 aje (V)\, [1]\nLetniki: 2. letnik (Fizika\, 1. stopnja)\, 3. letnik (Fizik
 a\, 1. stopnja)\, 1. letnik (Pedagoška fizika\, 2. stopnja)\, 2. letnik (
 Pedagoška fizika\, 2. stopnja)\nIzvajalci: Mitja Šadl\nProstor: F1
LOCATION:F1
ORGANIZER:Mitja Šadl
RELATED-TO:fmf-AFLABS-URNIK:srecanje:5765
X-WR-TIMEZONE:Europe/Ljubljana
END:VEVENT
BEGIN:VEVENT
SUMMARY:Moderna fizika II (FIZ-2\, FIZ-3\, PEF-1\, PEF-2)\, Vaje (V)\, [1]
DTSTART;TZID=Europe/Ljubljana:20210427T080000
DTEND;TZID=Europe/Ljubljana:20210427T100000
DTSTAMP:20260425T121932Z
UID:fmf-AFLABS-URNIK:premaknjeno-srecanje:74938
ATTENDEE:1. letnik (Pedagoška fizika, 2. stopnja)
ATTENDEE:2. letnik (Fizika, 1. stopnja)
ATTENDEE:2. letnik (Pedagoška fizika, 2. stopnja)
ATTENDEE:3. letnik (Fizika, 1. stopnja)
CATEGORIES:Entry,Standard
COLOR:darkgreen
DESCRIPTION:Predmet: Moderna fizika II (FIZ-2\, FIZ-3\, PEF-1\, PEF-2)\, V
 aje (V)\, [1]\nLetniki: 2. letnik (Fizika\, 1. stopnja)\, 3. letnik (Fizik
 a\, 1. stopnja)\, 1. letnik (Pedagoška fizika\, 2. stopnja)\, 2. letnik (
 Pedagoška fizika\, 2. stopnja)\nIzvajalci: Mitja Šadl\nProstor: F1
LOCATION:F1
ORGANIZER:Mitja Šadl
RELATED-TO:fmf-AFLABS-URNIK:srecanje:5765
X-WR-TIMEZONE:Europe/Ljubljana
END:VEVENT
BEGIN:VEVENT
SUMMARY:Moderna fizika II (FIZ-2\, FIZ-3\, PEF-1\, PEF-2)\, Vaje (V)\, [1]
DTSTART;TZID=Europe/Ljubljana:20210504T080000
DTEND;TZID=Europe/Ljubljana:20210504T100000
DTSTAMP:20260425T121932Z
UID:fmf-AFLABS-URNIK:premaknjeno-srecanje:74939
ATTENDEE:1. letnik (Pedagoška fizika, 2. stopnja)
ATTENDEE:2. letnik (Fizika, 1. stopnja)
ATTENDEE:2. letnik (Pedagoška fizika, 2. stopnja)
ATTENDEE:3. letnik (Fizika, 1. stopnja)
CATEGORIES:Entry,Standard
COLOR:darkgreen
DESCRIPTION:Predmet: Moderna fizika II (FIZ-2\, FIZ-3\, PEF-1\, PEF-2)\, V
 aje (V)\, [1]\nLetniki: 2. letnik (Fizika\, 1. stopnja)\, 3. letnik (Fizik
 a\, 1. stopnja)\, 1. letnik (Pedagoška fizika\, 2. stopnja)\, 2. letnik (
 Pedagoška fizika\, 2. stopnja)\nIzvajalci: Mitja Šadl\nProstor: F1
LOCATION:F1
ORGANIZER:Mitja Šadl
RELATED-TO:fmf-AFLABS-URNIK:srecanje:5765
X-WR-TIMEZONE:Europe/Ljubljana
END:VEVENT
BEGIN:VEVENT
SUMMARY:Moderna fizika II (FIZ-2\, FIZ-3\, PEF-1\, PEF-2)\, Vaje (V)\, [1]
DTSTART;TZID=Europe/Ljubljana:20210511T080000
DTEND;TZID=Europe/Ljubljana:20210511T100000
DTSTAMP:20260425T121932Z
UID:fmf-AFLABS-URNIK:premaknjeno-srecanje:74940
ATTENDEE:1. letnik (Pedagoška fizika, 2. stopnja)
ATTENDEE:2. letnik (Fizika, 1. stopnja)
ATTENDEE:2. letnik (Pedagoška fizika, 2. stopnja)
ATTENDEE:3. letnik (Fizika, 1. stopnja)
CATEGORIES:Entry,Standard
COLOR:darkgreen
DESCRIPTION:Predmet: Moderna fizika II (FIZ-2\, FIZ-3\, PEF-1\, PEF-2)\, V
 aje (V)\, [1]\nLetniki: 2. letnik (Fizika\, 1. stopnja)\, 3. letnik (Fizik
 a\, 1. stopnja)\, 1. letnik (Pedagoška fizika\, 2. stopnja)\, 2. letnik (
 Pedagoška fizika\, 2. stopnja)\nIzvajalci: Mitja Šadl\nProstor: F1
LOCATION:F1
ORGANIZER:Mitja Šadl
RELATED-TO:fmf-AFLABS-URNIK:srecanje:5765
X-WR-TIMEZONE:Europe/Ljubljana
END:VEVENT
BEGIN:VEVENT
SUMMARY:Moderna fizika II (FIZ-2\, FIZ-3\, PEF-1\, PEF-2)\, Vaje (V)\, [1]
DTSTART;TZID=Europe/Ljubljana:20210518T080000
DTEND;TZID=Europe/Ljubljana:20210518T100000
DTSTAMP:20260425T121932Z
UID:fmf-AFLABS-URNIK:premaknjeno-srecanje:74941
ATTENDEE:1. letnik (Pedagoška fizika, 2. stopnja)
ATTENDEE:2. letnik (Fizika, 1. stopnja)
ATTENDEE:2. letnik (Pedagoška fizika, 2. stopnja)
ATTENDEE:3. letnik (Fizika, 1. stopnja)
CATEGORIES:Entry,Standard
COLOR:darkgreen
DESCRIPTION:Predmet: Moderna fizika II (FIZ-2\, FIZ-3\, PEF-1\, PEF-2)\, V
 aje (V)\, [1]\nLetniki: 2. letnik (Fizika\, 1. stopnja)\, 3. letnik (Fizik
 a\, 1. stopnja)\, 1. letnik (Pedagoška fizika\, 2. stopnja)\, 2. letnik (
 Pedagoška fizika\, 2. stopnja)\nIzvajalci: Mitja Šadl\nProstor: F1
LOCATION:F1
ORGANIZER:Mitja Šadl
RELATED-TO:fmf-AFLABS-URNIK:srecanje:5765
X-WR-TIMEZONE:Europe/Ljubljana
END:VEVENT
BEGIN:VEVENT
SUMMARY:Moderna fizika II (FIZ-2\, FIZ-3\, PEF-1\, PEF-2)\, Vaje (V)\, [1]
DTSTART;TZID=Europe/Ljubljana:20210525T080000
DTEND;TZID=Europe/Ljubljana:20210525T100000
DTSTAMP:20260425T121932Z
UID:fmf-AFLABS-URNIK:premaknjeno-srecanje:74942
ATTENDEE:1. letnik (Pedagoška fizika, 2. stopnja)
ATTENDEE:2. letnik (Fizika, 1. stopnja)
ATTENDEE:2. letnik (Pedagoška fizika, 2. stopnja)
ATTENDEE:3. letnik (Fizika, 1. stopnja)
CATEGORIES:Entry,Standard
COLOR:darkgreen
DESCRIPTION:Predmet: Moderna fizika II (FIZ-2\, FIZ-3\, PEF-1\, PEF-2)\, V
 aje (V)\, [1]\nLetniki: 2. letnik (Fizika\, 1. stopnja)\, 3. letnik (Fizik
 a\, 1. stopnja)\, 1. letnik (Pedagoška fizika\, 2. stopnja)\, 2. letnik (
 Pedagoška fizika\, 2. stopnja)\nIzvajalci: Mitja Šadl\nProstor: F1
LOCATION:F1
ORGANIZER:Mitja Šadl
RELATED-TO:fmf-AFLABS-URNIK:srecanje:5765
X-WR-TIMEZONE:Europe/Ljubljana
END:VEVENT
BEGIN:VEVENT
SUMMARY:Rezervacija
DTSTART;TZID=Europe/Ljubljana:20210507T170000
DTEND;TZID=Europe/Ljubljana:20210507T190000
DTSTAMP:20260425T121932Z
UID:fmf-AFLABS-URNIK:rezervacija:6630
CATEGORIES:Reservation
COLOR:royalblue
DESCRIPTION:Predmeti: \nLetniki: \nIzvajalci: Mitja Šadl\nProstori: F1
LOCATION:F1
ORGANIZER:Mitja Šadl
X-WR-TIMEZONE:Europe/Ljubljana
END:VEVENT
END:VCALENDAR
