BEGIN:VCALENDAR
VERSION:2.0
PRODID:-//AFLabs urnik izvoz - fmf//aflabs.si//SI
DTSTAMP:20260423T181725Z
NAME:UL FMF urnik
REFRESH-INTERVAL:PT1H
SOURCE:https://urnik.fmf.uni-lj.si/teacher/712?day=2022-06-06&export=1
URL:https://urnik.fmf.uni-lj.si/teacher/712?day=2022-06-06&export=1
X-PUBLISHED-TTL:PT1H
X-WR-CALNAME:UL FMF urnik
X-WR-TIMEZONE:Europe/Ljubljana
BEGIN:VTIMEZONE
TZID:Europe/Ljubljana
BEGIN:DAYLIGHT
DTSTART:20260329T020000
RDATE:20260329T020000
RDATE:20270328T020000
TZNAME:CEST
TZOFFSETFROM:+0100
TZOFFSETTO:+0200
END:DAYLIGHT
BEGIN:STANDARD
DTSTART:20261025T030000
RDATE:20261025T030000
RDATE:20271031T030000
TZNAME:CET
TZOFFSETFROM:+0200
TZOFFSETTO:+0100
END:STANDARD
END:VTIMEZONE
BEGIN:VEVENT
SUMMARY:Moderna fizika II (FIZ-2\, FIZ-3\, PEF-1\, PEF-2)\, Vaje (V)\, [2]
DTSTART;TZID=Europe/Ljubljana:20220502T080000
DTEND;TZID=Europe/Ljubljana:20220502T100000
DTSTAMP:20260423T181725Z
UID:fmf-AFLABS-URNIK:premaknjeno-srecanje:74969
ATTENDEE:1. letnik (Pedagoška fizika, 2. stopnja)
ATTENDEE:2. letnik (Fizika, 1. stopnja)
ATTENDEE:2. letnik (Pedagoška fizika, 2. stopnja)
ATTENDEE:3. letnik (Fizika, 1. stopnja)
CATEGORIES:Entry,Standard
COLOR:darkgreen
DESCRIPTION:Predmet: Moderna fizika II (FIZ-2\, FIZ-3\, PEF-1\, PEF-2)\, V
 aje (V)\, [2]\nLetniki: 2. letnik (Fizika\, 1. stopnja)\, 3. letnik (Fizik
 a\, 1. stopnja)\, 1. letnik (Pedagoška fizika\, 2. stopnja)\, 2. letnik (
 Pedagoška fizika\, 2. stopnja)\nIzvajalci: Mitja Šadl\nProstor: F3
LOCATION:F3
ORGANIZER:Mitja Šadl
RELATED-TO:fmf-AFLABS-URNIK:srecanje:7142
X-WR-TIMEZONE:Europe/Ljubljana
END:VEVENT
BEGIN:VEVENT
SUMMARY:Moderna fizika II (FIZ-2\, FIZ-3\, PEF-1\, PEF-2)\, Vaje (V)\, [2]
DTSTART;TZID=Europe/Ljubljana:20220509T080000
DTEND;TZID=Europe/Ljubljana:20220509T100000
DTSTAMP:20260423T181725Z
UID:fmf-AFLABS-URNIK:premaknjeno-srecanje:74970
ATTENDEE:1. letnik (Pedagoška fizika, 2. stopnja)
ATTENDEE:2. letnik (Fizika, 1. stopnja)
ATTENDEE:2. letnik (Pedagoška fizika, 2. stopnja)
ATTENDEE:3. letnik (Fizika, 1. stopnja)
CATEGORIES:Entry,Standard
COLOR:darkgreen
DESCRIPTION:Predmet: Moderna fizika II (FIZ-2\, FIZ-3\, PEF-1\, PEF-2)\, V
 aje (V)\, [2]\nLetniki: 2. letnik (Fizika\, 1. stopnja)\, 3. letnik (Fizik
 a\, 1. stopnja)\, 1. letnik (Pedagoška fizika\, 2. stopnja)\, 2. letnik (
 Pedagoška fizika\, 2. stopnja)\nIzvajalci: Mitja Šadl\nProstor: F3
LOCATION:F3
ORGANIZER:Mitja Šadl
RELATED-TO:fmf-AFLABS-URNIK:srecanje:7142
X-WR-TIMEZONE:Europe/Ljubljana
END:VEVENT
BEGIN:VEVENT
SUMMARY:Moderna fizika II (FIZ-2\, FIZ-3\, PEF-1\, PEF-2)\, Vaje (V)\, [2]
DTSTART;TZID=Europe/Ljubljana:20220516T080000
DTEND;TZID=Europe/Ljubljana:20220516T100000
DTSTAMP:20260423T181725Z
UID:fmf-AFLABS-URNIK:premaknjeno-srecanje:74971
ATTENDEE:1. letnik (Pedagoška fizika, 2. stopnja)
ATTENDEE:2. letnik (Fizika, 1. stopnja)
ATTENDEE:2. letnik (Pedagoška fizika, 2. stopnja)
ATTENDEE:3. letnik (Fizika, 1. stopnja)
CATEGORIES:Entry,Standard
COLOR:darkgreen
DESCRIPTION:Predmet: Moderna fizika II (FIZ-2\, FIZ-3\, PEF-1\, PEF-2)\, V
 aje (V)\, [2]\nLetniki: 2. letnik (Fizika\, 1. stopnja)\, 3. letnik (Fizik
 a\, 1. stopnja)\, 1. letnik (Pedagoška fizika\, 2. stopnja)\, 2. letnik (
 Pedagoška fizika\, 2. stopnja)\nIzvajalci: Mitja Šadl\nProstor: F3
LOCATION:F3
ORGANIZER:Mitja Šadl
RELATED-TO:fmf-AFLABS-URNIK:srecanje:7142
X-WR-TIMEZONE:Europe/Ljubljana
END:VEVENT
BEGIN:VEVENT
SUMMARY:Moderna fizika II (FIZ-2\, FIZ-3\, PEF-1\, PEF-2)\, Vaje (V)\, [2]
DTSTART;TZID=Europe/Ljubljana:20220523T080000
DTEND;TZID=Europe/Ljubljana:20220523T100000
DTSTAMP:20260423T181725Z
UID:fmf-AFLABS-URNIK:premaknjeno-srecanje:74972
ATTENDEE:1. letnik (Pedagoška fizika, 2. stopnja)
ATTENDEE:2. letnik (Fizika, 1. stopnja)
ATTENDEE:2. letnik (Pedagoška fizika, 2. stopnja)
ATTENDEE:3. letnik (Fizika, 1. stopnja)
CATEGORIES:Entry,Standard
COLOR:darkgreen
DESCRIPTION:Predmet: Moderna fizika II (FIZ-2\, FIZ-3\, PEF-1\, PEF-2)\, V
 aje (V)\, [2]\nLetniki: 2. letnik (Fizika\, 1. stopnja)\, 3. letnik (Fizik
 a\, 1. stopnja)\, 1. letnik (Pedagoška fizika\, 2. stopnja)\, 2. letnik (
 Pedagoška fizika\, 2. stopnja)\nIzvajalci: Mitja Šadl\nProstor: F3
LOCATION:F3
ORGANIZER:Mitja Šadl
RELATED-TO:fmf-AFLABS-URNIK:srecanje:7142
X-WR-TIMEZONE:Europe/Ljubljana
END:VEVENT
BEGIN:VEVENT
SUMMARY:Moderna fizika II (FIZ-2\, FIZ-3\, PEF-1\, PEF-2)\, Vaje (V)\, [2]
DTSTART;TZID=Europe/Ljubljana:20220530T080000
DTEND;TZID=Europe/Ljubljana:20220530T100000
DTSTAMP:20260423T181725Z
UID:fmf-AFLABS-URNIK:premaknjeno-srecanje:74973
ATTENDEE:1. letnik (Pedagoška fizika, 2. stopnja)
ATTENDEE:2. letnik (Fizika, 1. stopnja)
ATTENDEE:2. letnik (Pedagoška fizika, 2. stopnja)
ATTENDEE:3. letnik (Fizika, 1. stopnja)
CATEGORIES:Entry,Standard
COLOR:darkgreen
DESCRIPTION:Predmet: Moderna fizika II (FIZ-2\, FIZ-3\, PEF-1\, PEF-2)\, V
 aje (V)\, [2]\nLetniki: 2. letnik (Fizika\, 1. stopnja)\, 3. letnik (Fizik
 a\, 1. stopnja)\, 1. letnik (Pedagoška fizika\, 2. stopnja)\, 2. letnik (
 Pedagoška fizika\, 2. stopnja)\nIzvajalci: Mitja Šadl\nProstor: F3
LOCATION:F3
ORGANIZER:Mitja Šadl
RELATED-TO:fmf-AFLABS-URNIK:srecanje:7142
X-WR-TIMEZONE:Europe/Ljubljana
END:VEVENT
BEGIN:VEVENT
SUMMARY:Rezervacija
DTSTART;TZID=Europe/Ljubljana:20220506T140000
DTEND;TZID=Europe/Ljubljana:20220506T160000
DTSTAMP:20260423T181725Z
UID:fmf-AFLABS-URNIK:rezervacija:8980
ATTENDEE:1. letnik (Pedagoška fizika, 2. stopnja)
ATTENDEE:2. letnik (Fizika, 1. stopnja)
ATTENDEE:2. letnik (Pedagoška fizika, 2. stopnja)
ATTENDEE:3. letnik (Fizika, 1. stopnja)
CATEGORIES:Reservation
COLOR:royalblue
DESCRIPTION:Predmeti: Moderna fizika II (FIZ-2\, FIZ-3\, PEF-1\, PEF-2)\nL
 etniki: 2. letnik (Fizika\, 1. stopnja)\, 3. letnik (Fizika\, 1. stopnja)\
 , 1. letnik (Pedagoška fizika\, 2. stopnja)\, 2. letnik (Pedagoška fizik
 a\, 2. stopnja)\nIzvajalci: Denis Golež\, Mitja Šadl\nProstori: F1
LOCATION:F1
ORGANIZER:Denis Golež, Mitja Šadl
X-WR-TIMEZONE:Europe/Ljubljana
END:VEVENT
BEGIN:VEVENT
SUMMARY:Rezervacija
DTSTART;TZID=Europe/Ljubljana:20220506T180000
DTEND;TZID=Europe/Ljubljana:20220506T200000
DTSTAMP:20260423T181725Z
UID:fmf-AFLABS-URNIK:rezervacija:8982
CATEGORIES:Reservation
COLOR:royalblue
DESCRIPTION:Predmeti: Fizika (FFA - EM Farmacija) ()\nLetniki: \nIzvajalci
 : Denis Golež\, Mitja Šadl\nProstori: VFP
LOCATION:VFP
ORGANIZER:Denis Golež, Mitja Šadl
X-WR-TIMEZONE:Europe/Ljubljana
END:VEVENT
BEGIN:VEVENT
SUMMARY:Rezervacija
DTSTART;TZID=Europe/Ljubljana:20220524T080000
DTEND;TZID=Europe/Ljubljana:20220524T100000
DTSTAMP:20260423T181725Z
UID:fmf-AFLABS-URNIK:rezervacija:9058
ATTENDEE:1. letnik (Pedagoška fizika, 2. stopnja)
ATTENDEE:2. letnik (Fizika, 1. stopnja)
ATTENDEE:2. letnik (Pedagoška fizika, 2. stopnja)
ATTENDEE:3. letnik (Fizika, 1. stopnja)
CATEGORIES:Reservation
COLOR:royalblue
DESCRIPTION:Predmeti: Moderna fizika II (FIZ-2\, FIZ-3\, PEF-1\, PEF-2)\nL
 etniki: 2. letnik (Fizika\, 1. stopnja)\, 3. letnik (Fizika\, 1. stopnja)\
 , 1. letnik (Pedagoška fizika\, 2. stopnja)\, 2. letnik (Pedagoška fizik
 a\, 2. stopnja)\nIzvajalci: Denis Golež\, Mitja Šadl\nProstori: F5
LOCATION:F5
ORGANIZER:Denis Golež, Mitja Šadl
X-WR-TIMEZONE:Europe/Ljubljana
END:VEVENT
BEGIN:VEVENT
SUMMARY:Rezervacija
DTSTART;TZID=Europe/Ljubljana:20220531T080000
DTEND;TZID=Europe/Ljubljana:20220531T100000
DTSTAMP:20260423T181725Z
UID:fmf-AFLABS-URNIK:rezervacija:9117
ATTENDEE:1. letnik (Pedagoška fizika, 2. stopnja)
ATTENDEE:2. letnik (Fizika, 1. stopnja)
ATTENDEE:2. letnik (Pedagoška fizika, 2. stopnja)
ATTENDEE:3. letnik (Fizika, 1. stopnja)
CATEGORIES:Reservation
COLOR:royalblue
DESCRIPTION:Predmeti: Moderna fizika II (FIZ-2\, FIZ-3\, PEF-1\, PEF-2)\nL
 etniki: 2. letnik (Fizika\, 1. stopnja)\, 3. letnik (Fizika\, 1. stopnja)\
 , 1. letnik (Pedagoška fizika\, 2. stopnja)\, 2. letnik (Pedagoška fizik
 a\, 2. stopnja)\nIzvajalci: Denis Golež\, Mitja Šadl\nProstori: F5
LOCATION:F5
ORGANIZER:Denis Golež, Mitja Šadl
X-WR-TIMEZONE:Europe/Ljubljana
END:VEVENT
BEGIN:VEVENT
SUMMARY:Rezervacija
DTSTART;TZID=Europe/Ljubljana:20220613T100000
DTEND;TZID=Europe/Ljubljana:20220613T110000
DTSTAMP:20260423T181725Z
UID:fmf-AFLABS-URNIK:rezervacija:9285
ATTENDEE:1. letnik (Pedagoška fizika, 2. stopnja)
ATTENDEE:2. letnik (Fizika, 1. stopnja)
ATTENDEE:2. letnik (Pedagoška fizika, 2. stopnja)
ATTENDEE:3. letnik (Fizika, 1. stopnja)
CATEGORIES:Reservation
COLOR:royalblue
DESCRIPTION:Predmeti: Moderna fizika II (FIZ-2\, FIZ-3\, PEF-1\, PEF-2)\nL
 etniki: 2. letnik (Fizika\, 1. stopnja)\, 3. letnik (Fizika\, 1. stopnja)\
 , 1. letnik (Pedagoška fizika\, 2. stopnja)\, 2. letnik (Pedagoška fizik
 a\, 2. stopnja)\nIzvajalci: Denis Golež\, Mitja Šadl\nProstori: F2
LOCATION:F2
ORGANIZER:Denis Golež, Mitja Šadl
X-WR-TIMEZONE:Europe/Ljubljana
END:VEVENT
END:VCALENDAR
