BEGIN:VCALENDAR
VERSION:2.0
PRODID:-//AFLabs urnik izvoz - fmf//aflabs.si//SI
DTSTAMP:20260425T102522Z
NAME:UL FMF urnik
REFRESH-INTERVAL:PT1H
SOURCE:https://urnik.fmf.uni-lj.si/teacher/72?day=2020-09-07&export=1
URL:https://urnik.fmf.uni-lj.si/teacher/72?day=2020-09-07&export=1
X-PUBLISHED-TTL:PT1H
X-WR-CALNAME:UL FMF urnik
X-WR-TIMEZONE:Europe/Ljubljana
BEGIN:VTIMEZONE
TZID:Europe/Ljubljana
BEGIN:DAYLIGHT
DTSTART:20260329T020000
RDATE:20260329T020000
RDATE:20270328T020000
TZNAME:CEST
TZOFFSETFROM:+0100
TZOFFSETTO:+0200
END:DAYLIGHT
BEGIN:STANDARD
DTSTART:20261025T030000
RDATE:20261025T030000
RDATE:20271031T030000
TZNAME:CET
TZOFFSETFROM:+0200
TZOFFSETTO:+0100
END:STANDARD
END:VTIMEZONE
BEGIN:VEVENT
SUMMARY:Teorija iger (FM-3\, IŠRM-3\, MAT-3)\, Vaje (V)
DTSTART;TZID=Europe/Ljubljana:20201001T160000
DTEND;TZID=Europe/Ljubljana:20201001T190000
DTSTAMP:20260425T102522Z
UID:fmf-AFLABS-URNIK:premaknjeno-srecanje:109365
ATTENDEE:3. letnik (FM)
ATTENDEE:3. letnik (IŠRM)
ATTENDEE:3. letnik (M)
CATEGORIES:Entry,Standard
COLOR:darkgreen
DESCRIPTION:Predmet: Teorija iger (FM-3\, IŠRM-3\, MAT-3)\, Vaje (V)\nLet
 niki: 3. letnik (FM)\, 3. letnik (IŠRM)\, 3. letnik (M)\nIzvajalci: Marti
 n Raič\nProstor: 2.05
LOCATION:2.05
ORGANIZER:Martin Raič
RELATED-TO:fmf-AFLABS-URNIK:srecanje:5308
X-WR-TIMEZONE:Europe/Ljubljana
END:VEVENT
BEGIN:VEVENT
SUMMARY:Teorija iger (FM-3\, IŠRM-3\, MAT-3)\, Vaje (V)
DTSTART;TZID=Europe/Ljubljana:20201008T160000
DTEND;TZID=Europe/Ljubljana:20201008T190000
DTSTAMP:20260425T102522Z
UID:fmf-AFLABS-URNIK:premaknjeno-srecanje:109366
ATTENDEE:3. letnik (FM)
ATTENDEE:3. letnik (IŠRM)
ATTENDEE:3. letnik (M)
CATEGORIES:Entry,Standard
COLOR:darkgreen
DESCRIPTION:Predmet: Teorija iger (FM-3\, IŠRM-3\, MAT-3)\, Vaje (V)\nLet
 niki: 3. letnik (FM)\, 3. letnik (IŠRM)\, 3. letnik (M)\nIzvajalci: Marti
 n Raič\nProstor: 2.05
LOCATION:2.05
ORGANIZER:Martin Raič
RELATED-TO:fmf-AFLABS-URNIK:srecanje:5308
X-WR-TIMEZONE:Europe/Ljubljana
END:VEVENT
BEGIN:VEVENT
SUMMARY:Verjetnostni račun in statistika (IŠRM-3)\, Vaje (V)
DTSTART;TZID=Europe/Ljubljana:20201002T120000
DTEND;TZID=Europe/Ljubljana:20201002T140000
DTSTAMP:20260425T102522Z
UID:fmf-AFLABS-URNIK:premaknjeno-srecanje:120089
ATTENDEE:3. letnik (IŠRM)
CATEGORIES:Entry,Standard
COLOR:darkgreen
DESCRIPTION:Predmet: Verjetnostni račun in statistika (IŠRM-3)\, Vaje (V
 )\nLetniki: 3. letnik (IŠRM)\nIzvajalci: Martin Raič\nProstor: 3.06
LOCATION:3.06
ORGANIZER:Martin Raič
RELATED-TO:fmf-AFLABS-URNIK:srecanje:5281
X-WR-TIMEZONE:Europe/Ljubljana
END:VEVENT
BEGIN:VEVENT
SUMMARY:Verjetnostni račun in statistika (IŠRM-3)\, Vaje (V)
DTSTART;TZID=Europe/Ljubljana:20201009T120000
DTEND;TZID=Europe/Ljubljana:20201009T140000
DTSTAMP:20260425T102522Z
UID:fmf-AFLABS-URNIK:premaknjeno-srecanje:120090
ATTENDEE:3. letnik (IŠRM)
CATEGORIES:Entry,Standard
COLOR:darkgreen
DESCRIPTION:Predmet: Verjetnostni račun in statistika (IŠRM-3)\, Vaje (V
 )\nLetniki: 3. letnik (IŠRM)\nIzvajalci: Martin Raič\nProstor: 3.06
LOCATION:3.06
ORGANIZER:Martin Raič
RELATED-TO:fmf-AFLABS-URNIK:srecanje:5281
X-WR-TIMEZONE:Europe/Ljubljana
END:VEVENT
BEGIN:VEVENT
SUMMARY:Statistika v šoli (PM-4\, PM-5)\, Vaje (V)
DTSTART;TZID=Europe/Ljubljana:20201005T140000
DTEND;TZID=Europe/Ljubljana:20201005T160000
DTSTAMP:20260425T102522Z
UID:fmf-AFLABS-URNIK:premaknjeno-srecanje:106176
ATTENDEE:4. letnik (PM)
ATTENDEE:5. letnik (PM)
CATEGORIES:Entry,Standard
COLOR:darkgreen
DESCRIPTION:Predmet: Statistika v šoli (PM-4\, PM-5)\, Vaje (V)\nLetniki:
  4. letnik (PM)\, 5. letnik (PM)\nIzvajalci: Martin Raič\nProstor: 2.01
LOCATION:2.01
ORGANIZER:Martin Raič
RELATED-TO:fmf-AFLABS-URNIK:srecanje:5199
X-WR-TIMEZONE:Europe/Ljubljana
END:VEVENT
BEGIN:VEVENT
SUMMARY:Statistika v šoli (PM-4\, PM-5)\, Vaje (V)
DTSTART;TZID=Europe/Ljubljana:20201012T140000
DTEND;TZID=Europe/Ljubljana:20201012T160000
DTSTAMP:20260425T102522Z
UID:fmf-AFLABS-URNIK:premaknjeno-srecanje:106177
ATTENDEE:4. letnik (PM)
ATTENDEE:5. letnik (PM)
CATEGORIES:Entry,Standard
COLOR:darkgreen
DESCRIPTION:Predmet: Statistika v šoli (PM-4\, PM-5)\, Vaje (V)\nLetniki:
  4. letnik (PM)\, 5. letnik (PM)\nIzvajalci: Martin Raič\nProstor: 2.01
LOCATION:2.01
ORGANIZER:Martin Raič
RELATED-TO:fmf-AFLABS-URNIK:srecanje:5199
X-WR-TIMEZONE:Europe/Ljubljana
END:VEVENT
BEGIN:VEVENT
SUMMARY:Verjetnost (MAT-3\, PM-3)\, Vaje (V)
DTSTART;TZID=Europe/Ljubljana:20201006T100000
DTEND;TZID=Europe/Ljubljana:20201006T120000
DTSTAMP:20260425T102522Z
UID:fmf-AFLABS-URNIK:premaknjeno-srecanje:118512
ATTENDEE:3. letnik (M)
ATTENDEE:3. letnik (PM)
CATEGORIES:Entry,Standard
COLOR:darkgreen
DESCRIPTION:Predmet: Verjetnost (MAT-3\, PM-3)\, Vaje (V)\nLetniki: 3. let
 nik (M)\, 3. letnik (PM)\nIzvajalci: Martin Raič\nProstor: 2.02
LOCATION:2.02
ORGANIZER:Martin Raič
RELATED-TO:fmf-AFLABS-URNIK:srecanje:5270
X-WR-TIMEZONE:Europe/Ljubljana
END:VEVENT
BEGIN:VEVENT
SUMMARY:Verjetnost z mero (FM-3)\, Vaje (V)
DTSTART;TZID=Europe/Ljubljana:20201006T120000
DTEND;TZID=Europe/Ljubljana:20201006T140000
DTSTAMP:20260425T102522Z
UID:fmf-AFLABS-URNIK:premaknjeno-srecanje:119700
ATTENDEE:3. letnik (FM)
CATEGORIES:Entry,Standard
COLOR:darkgreen
DESCRIPTION:Predmet: Verjetnost z mero (FM-3)\, Vaje (V)\nLetniki: 3. letn
 ik (FM)\nIzvajalci: Martin Raič\nProstor: 2.04
LOCATION:2.04
ORGANIZER:Martin Raič
RELATED-TO:fmf-AFLABS-URNIK:srecanje:5279
X-WR-TIMEZONE:Europe/Ljubljana
END:VEVENT
BEGIN:VEVENT
SUMMARY:Verjetnost (MAT-3\, PM-3)\, Vaje (V)
DTSTART;TZID=Europe/Ljubljana:20201007T160000
DTEND;TZID=Europe/Ljubljana:20201007T170000
DTSTAMP:20260425T102522Z
UID:fmf-AFLABS-URNIK:premaknjeno-srecanje:118619
ATTENDEE:3. letnik (M)
ATTENDEE:3. letnik (PM)
CATEGORIES:Entry,Standard
COLOR:darkgreen
DESCRIPTION:Predmet: Verjetnost (MAT-3\, PM-3)\, Vaje (V)\nLetniki: 3. let
 nik (M)\, 3. letnik (PM)\nIzvajalci: Martin Raič\nProstor: 2.04
LOCATION:2.04
ORGANIZER:Martin Raič
RELATED-TO:fmf-AFLABS-URNIK:srecanje:5370
X-WR-TIMEZONE:Europe/Ljubljana
END:VEVENT
BEGIN:VEVENT
SUMMARY:Rezervacija
DTSTART;TZID=Europe/Ljubljana:20200818T120000
DTEND;TZID=Europe/Ljubljana:20200818T140000
DTSTAMP:20260425T102522Z
UID:fmf-AFLABS-URNIK:rezervacija:5949
CATEGORIES:Reservation
COLOR:royalblue
DESCRIPTION:Predmeti: \nLetniki: \nIzvajalci: Martin Raič\nProstori: 2.01
LOCATION:2.01
ORGANIZER:Martin Raič
X-WR-TIMEZONE:Europe/Ljubljana
END:VEVENT
BEGIN:VEVENT
SUMMARY:Rezervacija
DTSTART;TZID=Europe/Ljubljana:20200818T140000
DTEND;TZID=Europe/Ljubljana:20200818T150000
DTSTAMP:20260425T102522Z
UID:fmf-AFLABS-URNIK:rezervacija:5955
CATEGORIES:Reservation
COLOR:royalblue
DESCRIPTION:Predmeti: \nLetniki: \nIzvajalci: Martin Raič\nProstori: 2.01
LOCATION:2.01
ORGANIZER:Martin Raič
X-WR-TIMEZONE:Europe/Ljubljana
END:VEVENT
BEGIN:VEVENT
SUMMARY:Rezervacija
DTSTART;TZID=Europe/Ljubljana:20200827T090000
DTEND;TZID=Europe/Ljubljana:20200827T100000
DTSTAMP:20260425T102522Z
UID:fmf-AFLABS-URNIK:rezervacija:6079
CATEGORIES:Reservation
COLOR:royalblue
DESCRIPTION:Predmeti: \nLetniki: \nIzvajalci: Martin Raič\nProstori: 2.04
LOCATION:2.04
ORGANIZER:Martin Raič
X-WR-TIMEZONE:Europe/Ljubljana
END:VEVENT
BEGIN:VEVENT
SUMMARY:Rezervacija
DTSTART;TZID=Europe/Ljubljana:20200827T100000
DTEND;TZID=Europe/Ljubljana:20200827T130000
DTSTAMP:20260425T102522Z
UID:fmf-AFLABS-URNIK:rezervacija:6087
CATEGORIES:Reservation
COLOR:royalblue
DESCRIPTION:Predmeti: \nLetniki: \nIzvajalci: Martin Raič\nProstori: 2.01
LOCATION:2.01
ORGANIZER:Martin Raič
X-WR-TIMEZONE:Europe/Ljubljana
END:VEVENT
BEGIN:VEVENT
SUMMARY:Rezervacija
DTSTART;TZID=Europe/Ljubljana:20200827T140000
DTEND;TZID=Europe/Ljubljana:20200827T170000
DTSTAMP:20260425T102522Z
UID:fmf-AFLABS-URNIK:rezervacija:6095
CATEGORIES:Reservation
COLOR:royalblue
DESCRIPTION:Predmeti: \nLetniki: \nIzvajalci: Martin Raič\nProstori: 2.01
LOCATION:2.01
ORGANIZER:Martin Raič
X-WR-TIMEZONE:Europe/Ljubljana
END:VEVENT
BEGIN:VEVENT
SUMMARY:Rezervacija
DTSTART;TZID=Europe/Ljubljana:20200908T090000
DTEND;TZID=Europe/Ljubljana:20200908T120000
DTSTAMP:20260425T102522Z
UID:fmf-AFLABS-URNIK:rezervacija:6295
CATEGORIES:Reservation
COLOR:royalblue
DESCRIPTION:Predmeti: \nLetniki: \nIzvajalci: Martin Raič\nProstori: 2.01
LOCATION:2.01
ORGANIZER:Martin Raič
X-WR-TIMEZONE:Europe/Ljubljana
END:VEVENT
END:VCALENDAR
