BEGIN:VCALENDAR
VERSION:2.0
PRODID:-//AFLabs urnik izvoz - fmf//aflabs.si//SI
DTSTAMP:20260424T090433Z
NAME:UL FMF urnik
REFRESH-INTERVAL:PT1H
SOURCE:https://urnik.fmf.uni-lj.si/teacher/72?day=2021-01-25&export=1
URL:https://urnik.fmf.uni-lj.si/teacher/72?day=2021-01-25&export=1
X-PUBLISHED-TTL:PT1H
X-WR-CALNAME:UL FMF urnik
X-WR-TIMEZONE:Europe/Ljubljana
BEGIN:VTIMEZONE
TZID:Europe/Ljubljana
BEGIN:DAYLIGHT
DTSTART:20260329T020000
RDATE:20260329T020000
RDATE:20270328T020000
TZNAME:CEST
TZOFFSETFROM:+0100
TZOFFSETTO:+0200
END:DAYLIGHT
BEGIN:STANDARD
DTSTART:20261025T030000
RDATE:20261025T030000
RDATE:20271031T030000
TZNAME:CET
TZOFFSETFROM:+0200
TZOFFSETTO:+0100
END:STANDARD
END:VTIMEZONE
BEGIN:VEVENT
SUMMARY:Statistika v šoli (PM-4\, PM-5)\, Vaje (V)
DTSTART;TZID=Europe/Ljubljana:20201221T140000
DTEND;TZID=Europe/Ljubljana:20201221T160000
DTSTAMP:20260424T090433Z
UID:fmf-AFLABS-URNIK:premaknjeno-srecanje:106187
ATTENDEE:4. letnik (PM)
ATTENDEE:5. letnik (PM)
CATEGORIES:Entry,Standard
COLOR:darkgreen
DESCRIPTION:Predmet: Statistika v šoli (PM-4\, PM-5)\, Vaje (V)\nLetniki:
  4. letnik (PM)\, 5. letnik (PM)\nIzvajalci: Martin Raič\nProstor: 2.01
LOCATION:2.01
ORGANIZER:Martin Raič
RELATED-TO:fmf-AFLABS-URNIK:srecanje:5199
X-WR-TIMEZONE:Europe/Ljubljana
END:VEVENT
BEGIN:VEVENT
SUMMARY:Statistika v šoli (PM-4\, PM-5)\, Vaje (V)
DTSTART;TZID=Europe/Ljubljana:20201228T140000
DTEND;TZID=Europe/Ljubljana:20201228T160000
DTSTAMP:20260424T090433Z
UID:fmf-AFLABS-URNIK:premaknjeno-srecanje:106188
ATTENDEE:4. letnik (PM)
ATTENDEE:5. letnik (PM)
CATEGORIES:Entry,Standard
COLOR:darkgreen
DESCRIPTION:Predmet: Statistika v šoli (PM-4\, PM-5)\, Vaje (V)\nLetniki:
  4. letnik (PM)\, 5. letnik (PM)\nIzvajalci: Martin Raič\nProstor: 2.01
LOCATION:2.01
ORGANIZER:Martin Raič
RELATED-TO:fmf-AFLABS-URNIK:srecanje:5199
X-WR-TIMEZONE:Europe/Ljubljana
END:VEVENT
BEGIN:VEVENT
SUMMARY:Statistika v šoli (PM-4\, PM-5)\, Vaje (V)
DTSTART;TZID=Europe/Ljubljana:20210104T140000
DTEND;TZID=Europe/Ljubljana:20210104T160000
DTSTAMP:20260424T090433Z
UID:fmf-AFLABS-URNIK:premaknjeno-srecanje:106189
ATTENDEE:4. letnik (PM)
ATTENDEE:5. letnik (PM)
CATEGORIES:Entry,Standard
COLOR:darkgreen
DESCRIPTION:Predmet: Statistika v šoli (PM-4\, PM-5)\, Vaje (V)\nLetniki:
  4. letnik (PM)\, 5. letnik (PM)\nIzvajalci: Martin Raič\nProstor: 2.01
LOCATION:2.01
ORGANIZER:Martin Raič
RELATED-TO:fmf-AFLABS-URNIK:srecanje:5199
X-WR-TIMEZONE:Europe/Ljubljana
END:VEVENT
BEGIN:VEVENT
SUMMARY:Statistika v šoli (PM-4\, PM-5)\, Vaje (V)
DTSTART;TZID=Europe/Ljubljana:20210111T140000
DTEND;TZID=Europe/Ljubljana:20210111T160000
DTSTAMP:20260424T090433Z
UID:fmf-AFLABS-URNIK:premaknjeno-srecanje:106190
ATTENDEE:4. letnik (PM)
ATTENDEE:5. letnik (PM)
CATEGORIES:Entry,Standard
COLOR:darkgreen
DESCRIPTION:Predmet: Statistika v šoli (PM-4\, PM-5)\, Vaje (V)\nLetniki:
  4. letnik (PM)\, 5. letnik (PM)\nIzvajalci: Martin Raič\nProstor: 2.01
LOCATION:2.01
ORGANIZER:Martin Raič
RELATED-TO:fmf-AFLABS-URNIK:srecanje:5199
X-WR-TIMEZONE:Europe/Ljubljana
END:VEVENT
BEGIN:VEVENT
SUMMARY:Verjetnost (MAT-3\, PM-3)\, Vaje (V)
DTSTART;TZID=Europe/Ljubljana:20201222T100000
DTEND;TZID=Europe/Ljubljana:20201222T120000
DTSTAMP:20260424T090433Z
UID:fmf-AFLABS-URNIK:premaknjeno-srecanje:118523
ATTENDEE:3. letnik (M)
ATTENDEE:3. letnik (PM)
CATEGORIES:Entry,Standard
COLOR:darkgreen
DESCRIPTION:Predmet: Verjetnost (MAT-3\, PM-3)\, Vaje (V)\nLetniki: 3. let
 nik (M)\, 3. letnik (PM)\nIzvajalci: Martin Raič\nProstor: 2.02
LOCATION:2.02
ORGANIZER:Martin Raič
RELATED-TO:fmf-AFLABS-URNIK:srecanje:5270
X-WR-TIMEZONE:Europe/Ljubljana
END:VEVENT
BEGIN:VEVENT
SUMMARY:Verjetnost (MAT-3\, PM-3)\, Vaje (V)
DTSTART;TZID=Europe/Ljubljana:20201229T100000
DTEND;TZID=Europe/Ljubljana:20201229T120000
DTSTAMP:20260424T090433Z
UID:fmf-AFLABS-URNIK:premaknjeno-srecanje:118524
ATTENDEE:3. letnik (M)
ATTENDEE:3. letnik (PM)
CATEGORIES:Entry,Standard
COLOR:darkgreen
DESCRIPTION:Predmet: Verjetnost (MAT-3\, PM-3)\, Vaje (V)\nLetniki: 3. let
 nik (M)\, 3. letnik (PM)\nIzvajalci: Martin Raič\nProstor: 2.02
LOCATION:2.02
ORGANIZER:Martin Raič
RELATED-TO:fmf-AFLABS-URNIK:srecanje:5270
X-WR-TIMEZONE:Europe/Ljubljana
END:VEVENT
BEGIN:VEVENT
SUMMARY:Verjetnost (MAT-3\, PM-3)\, Vaje (V)
DTSTART;TZID=Europe/Ljubljana:20210105T100000
DTEND;TZID=Europe/Ljubljana:20210105T120000
DTSTAMP:20260424T090433Z
UID:fmf-AFLABS-URNIK:premaknjeno-srecanje:118525
ATTENDEE:3. letnik (M)
ATTENDEE:3. letnik (PM)
CATEGORIES:Entry,Standard
COLOR:darkgreen
DESCRIPTION:Predmet: Verjetnost (MAT-3\, PM-3)\, Vaje (V)\nLetniki: 3. let
 nik (M)\, 3. letnik (PM)\nIzvajalci: Martin Raič\nProstor: 2.02
LOCATION:2.02
ORGANIZER:Martin Raič
RELATED-TO:fmf-AFLABS-URNIK:srecanje:5270
X-WR-TIMEZONE:Europe/Ljubljana
END:VEVENT
BEGIN:VEVENT
SUMMARY:Verjetnost (MAT-3\, PM-3)\, Vaje (V)
DTSTART;TZID=Europe/Ljubljana:20210112T100000
DTEND;TZID=Europe/Ljubljana:20210112T120000
DTSTAMP:20260424T090433Z
UID:fmf-AFLABS-URNIK:premaknjeno-srecanje:118526
ATTENDEE:3. letnik (M)
ATTENDEE:3. letnik (PM)
CATEGORIES:Entry,Standard
COLOR:darkgreen
DESCRIPTION:Predmet: Verjetnost (MAT-3\, PM-3)\, Vaje (V)\nLetniki: 3. let
 nik (M)\, 3. letnik (PM)\nIzvajalci: Martin Raič\nProstor: 2.02
LOCATION:2.02
ORGANIZER:Martin Raič
RELATED-TO:fmf-AFLABS-URNIK:srecanje:5270
X-WR-TIMEZONE:Europe/Ljubljana
END:VEVENT
BEGIN:VEVENT
SUMMARY:Verjetnost z mero (FM-3)\, Vaje (V)
DTSTART;TZID=Europe/Ljubljana:20201222T120000
DTEND;TZID=Europe/Ljubljana:20201222T140000
DTSTAMP:20260424T090433Z
UID:fmf-AFLABS-URNIK:premaknjeno-srecanje:119711
ATTENDEE:3. letnik (FM)
CATEGORIES:Entry,Standard
COLOR:darkgreen
DESCRIPTION:Predmet: Verjetnost z mero (FM-3)\, Vaje (V)\nLetniki: 3. letn
 ik (FM)\nIzvajalci: Martin Raič\nProstor: 2.04
LOCATION:2.04
ORGANIZER:Martin Raič
RELATED-TO:fmf-AFLABS-URNIK:srecanje:5279
X-WR-TIMEZONE:Europe/Ljubljana
END:VEVENT
BEGIN:VEVENT
SUMMARY:Verjetnost z mero (FM-3)\, Vaje (V)
DTSTART;TZID=Europe/Ljubljana:20201229T120000
DTEND;TZID=Europe/Ljubljana:20201229T140000
DTSTAMP:20260424T090433Z
UID:fmf-AFLABS-URNIK:premaknjeno-srecanje:119712
ATTENDEE:3. letnik (FM)
CATEGORIES:Entry,Standard
COLOR:darkgreen
DESCRIPTION:Predmet: Verjetnost z mero (FM-3)\, Vaje (V)\nLetniki: 3. letn
 ik (FM)\nIzvajalci: Martin Raič\nProstor: 2.04
LOCATION:2.04
ORGANIZER:Martin Raič
RELATED-TO:fmf-AFLABS-URNIK:srecanje:5279
X-WR-TIMEZONE:Europe/Ljubljana
END:VEVENT
BEGIN:VEVENT
SUMMARY:Verjetnost z mero (FM-3)\, Vaje (V)
DTSTART;TZID=Europe/Ljubljana:20210105T120000
DTEND;TZID=Europe/Ljubljana:20210105T140000
DTSTAMP:20260424T090433Z
UID:fmf-AFLABS-URNIK:premaknjeno-srecanje:119713
ATTENDEE:3. letnik (FM)
CATEGORIES:Entry,Standard
COLOR:darkgreen
DESCRIPTION:Predmet: Verjetnost z mero (FM-3)\, Vaje (V)\nLetniki: 3. letn
 ik (FM)\nIzvajalci: Martin Raič\nProstor: 2.04
LOCATION:2.04
ORGANIZER:Martin Raič
RELATED-TO:fmf-AFLABS-URNIK:srecanje:5279
X-WR-TIMEZONE:Europe/Ljubljana
END:VEVENT
BEGIN:VEVENT
SUMMARY:Verjetnost z mero (FM-3)\, Vaje (V)
DTSTART;TZID=Europe/Ljubljana:20210112T120000
DTEND;TZID=Europe/Ljubljana:20210112T140000
DTSTAMP:20260424T090433Z
UID:fmf-AFLABS-URNIK:premaknjeno-srecanje:119714
ATTENDEE:3. letnik (FM)
CATEGORIES:Entry,Standard
COLOR:darkgreen
DESCRIPTION:Predmet: Verjetnost z mero (FM-3)\, Vaje (V)\nLetniki: 3. letn
 ik (FM)\nIzvajalci: Martin Raič\nProstor: 2.04
LOCATION:2.04
ORGANIZER:Martin Raič
RELATED-TO:fmf-AFLABS-URNIK:srecanje:5279
X-WR-TIMEZONE:Europe/Ljubljana
END:VEVENT
BEGIN:VEVENT
SUMMARY:Verjetnost (MAT-3\, PM-3)\, Vaje (V)
DTSTART;TZID=Europe/Ljubljana:20201223T160000
DTEND;TZID=Europe/Ljubljana:20201223T170000
DTSTAMP:20260424T090433Z
UID:fmf-AFLABS-URNIK:premaknjeno-srecanje:118630
ATTENDEE:3. letnik (M)
ATTENDEE:3. letnik (PM)
CATEGORIES:Entry,Standard
COLOR:darkgreen
DESCRIPTION:Predmet: Verjetnost (MAT-3\, PM-3)\, Vaje (V)\nLetniki: 3. let
 nik (M)\, 3. letnik (PM)\nIzvajalci: Martin Raič\nProstor: 2.04
LOCATION:2.04
ORGANIZER:Martin Raič
RELATED-TO:fmf-AFLABS-URNIK:srecanje:5370
X-WR-TIMEZONE:Europe/Ljubljana
END:VEVENT
BEGIN:VEVENT
SUMMARY:Verjetnost (MAT-3\, PM-3)\, Vaje (V)
DTSTART;TZID=Europe/Ljubljana:20201230T160000
DTEND;TZID=Europe/Ljubljana:20201230T170000
DTSTAMP:20260424T090433Z
UID:fmf-AFLABS-URNIK:premaknjeno-srecanje:118631
ATTENDEE:3. letnik (M)
ATTENDEE:3. letnik (PM)
CATEGORIES:Entry,Standard
COLOR:darkgreen
DESCRIPTION:Predmet: Verjetnost (MAT-3\, PM-3)\, Vaje (V)\nLetniki: 3. let
 nik (M)\, 3. letnik (PM)\nIzvajalci: Martin Raič\nProstor: 2.04
LOCATION:2.04
ORGANIZER:Martin Raič
RELATED-TO:fmf-AFLABS-URNIK:srecanje:5370
X-WR-TIMEZONE:Europe/Ljubljana
END:VEVENT
BEGIN:VEVENT
SUMMARY:Verjetnost (MAT-3\, PM-3)\, Vaje (V)
DTSTART;TZID=Europe/Ljubljana:20210106T160000
DTEND;TZID=Europe/Ljubljana:20210106T170000
DTSTAMP:20260424T090433Z
UID:fmf-AFLABS-URNIK:premaknjeno-srecanje:118632
ATTENDEE:3. letnik (M)
ATTENDEE:3. letnik (PM)
CATEGORIES:Entry,Standard
COLOR:darkgreen
DESCRIPTION:Predmet: Verjetnost (MAT-3\, PM-3)\, Vaje (V)\nLetniki: 3. let
 nik (M)\, 3. letnik (PM)\nIzvajalci: Martin Raič\nProstor: 2.04
LOCATION:2.04
ORGANIZER:Martin Raič
RELATED-TO:fmf-AFLABS-URNIK:srecanje:5370
X-WR-TIMEZONE:Europe/Ljubljana
END:VEVENT
BEGIN:VEVENT
SUMMARY:Verjetnost (MAT-3\, PM-3)\, Vaje (V)
DTSTART;TZID=Europe/Ljubljana:20210113T160000
DTEND;TZID=Europe/Ljubljana:20210113T170000
DTSTAMP:20260424T090433Z
UID:fmf-AFLABS-URNIK:premaknjeno-srecanje:118633
ATTENDEE:3. letnik (M)
ATTENDEE:3. letnik (PM)
CATEGORIES:Entry,Standard
COLOR:darkgreen
DESCRIPTION:Predmet: Verjetnost (MAT-3\, PM-3)\, Vaje (V)\nLetniki: 3. let
 nik (M)\, 3. letnik (PM)\nIzvajalci: Martin Raič\nProstor: 2.04
LOCATION:2.04
ORGANIZER:Martin Raič
RELATED-TO:fmf-AFLABS-URNIK:srecanje:5370
X-WR-TIMEZONE:Europe/Ljubljana
END:VEVENT
BEGIN:VEVENT
SUMMARY:Teorija iger (FM-3\, IŠRM-3\, MAT-3)\, Vaje (V)
DTSTART;TZID=Europe/Ljubljana:20201224T160000
DTEND;TZID=Europe/Ljubljana:20201224T190000
DTSTAMP:20260424T090433Z
UID:fmf-AFLABS-URNIK:premaknjeno-srecanje:109377
ATTENDEE:3. letnik (FM)
ATTENDEE:3. letnik (IŠRM)
ATTENDEE:3. letnik (M)
CATEGORIES:Entry,Standard
COLOR:darkgreen
DESCRIPTION:Predmet: Teorija iger (FM-3\, IŠRM-3\, MAT-3)\, Vaje (V)\nLet
 niki: 3. letnik (FM)\, 3. letnik (IŠRM)\, 3. letnik (M)\nIzvajalci: Marti
 n Raič\nProstor: 2.05
LOCATION:2.05
ORGANIZER:Martin Raič
RELATED-TO:fmf-AFLABS-URNIK:srecanje:5308
X-WR-TIMEZONE:Europe/Ljubljana
END:VEVENT
BEGIN:VEVENT
SUMMARY:Teorija iger (FM-3\, IŠRM-3\, MAT-3)\, Vaje (V)
DTSTART;TZID=Europe/Ljubljana:20201231T160000
DTEND;TZID=Europe/Ljubljana:20201231T190000
DTSTAMP:20260424T090433Z
UID:fmf-AFLABS-URNIK:premaknjeno-srecanje:109378
ATTENDEE:3. letnik (FM)
ATTENDEE:3. letnik (IŠRM)
ATTENDEE:3. letnik (M)
CATEGORIES:Entry,Standard
COLOR:darkgreen
DESCRIPTION:Predmet: Teorija iger (FM-3\, IŠRM-3\, MAT-3)\, Vaje (V)\nLet
 niki: 3. letnik (FM)\, 3. letnik (IŠRM)\, 3. letnik (M)\nIzvajalci: Marti
 n Raič\nProstor: 2.05
LOCATION:2.05
ORGANIZER:Martin Raič
RELATED-TO:fmf-AFLABS-URNIK:srecanje:5308
X-WR-TIMEZONE:Europe/Ljubljana
END:VEVENT
BEGIN:VEVENT
SUMMARY:Teorija iger (FM-3\, IŠRM-3\, MAT-3)\, Vaje (V)
DTSTART;TZID=Europe/Ljubljana:20210107T160000
DTEND;TZID=Europe/Ljubljana:20210107T190000
DTSTAMP:20260424T090433Z
UID:fmf-AFLABS-URNIK:premaknjeno-srecanje:109379
ATTENDEE:3. letnik (FM)
ATTENDEE:3. letnik (IŠRM)
ATTENDEE:3. letnik (M)
CATEGORIES:Entry,Standard
COLOR:darkgreen
DESCRIPTION:Predmet: Teorija iger (FM-3\, IŠRM-3\, MAT-3)\, Vaje (V)\nLet
 niki: 3. letnik (FM)\, 3. letnik (IŠRM)\, 3. letnik (M)\nIzvajalci: Marti
 n Raič\nProstor: 2.05
LOCATION:2.05
ORGANIZER:Martin Raič
RELATED-TO:fmf-AFLABS-URNIK:srecanje:5308
X-WR-TIMEZONE:Europe/Ljubljana
END:VEVENT
BEGIN:VEVENT
SUMMARY:Teorija iger (FM-3\, IŠRM-3\, MAT-3)\, Vaje (V)
DTSTART;TZID=Europe/Ljubljana:20210114T160000
DTEND;TZID=Europe/Ljubljana:20210114T190000
DTSTAMP:20260424T090433Z
UID:fmf-AFLABS-URNIK:premaknjeno-srecanje:109380
ATTENDEE:3. letnik (FM)
ATTENDEE:3. letnik (IŠRM)
ATTENDEE:3. letnik (M)
CATEGORIES:Entry,Standard
COLOR:darkgreen
DESCRIPTION:Predmet: Teorija iger (FM-3\, IŠRM-3\, MAT-3)\, Vaje (V)\nLet
 niki: 3. letnik (FM)\, 3. letnik (IŠRM)\, 3. letnik (M)\nIzvajalci: Marti
 n Raič\nProstor: 2.05
LOCATION:2.05
ORGANIZER:Martin Raič
RELATED-TO:fmf-AFLABS-URNIK:srecanje:5308
X-WR-TIMEZONE:Europe/Ljubljana
END:VEVENT
BEGIN:VEVENT
SUMMARY:Verjetnostni račun in statistika (IŠRM-3)\, Vaje (V)
DTSTART;TZID=Europe/Ljubljana:20201225T120000
DTEND;TZID=Europe/Ljubljana:20201225T140000
DTSTAMP:20260424T090433Z
UID:fmf-AFLABS-URNIK:premaknjeno-srecanje:120101
ATTENDEE:3. letnik (IŠRM)
CATEGORIES:Entry,Standard
COLOR:darkgreen
DESCRIPTION:Predmet: Verjetnostni račun in statistika (IŠRM-3)\, Vaje (V
 )\nLetniki: 3. letnik (IŠRM)\nIzvajalci: Martin Raič\nProstor: 3.06
LOCATION:3.06
ORGANIZER:Martin Raič
RELATED-TO:fmf-AFLABS-URNIK:srecanje:5281
X-WR-TIMEZONE:Europe/Ljubljana
END:VEVENT
BEGIN:VEVENT
SUMMARY:Verjetnostni račun in statistika (IŠRM-3)\, Vaje (V)
DTSTART;TZID=Europe/Ljubljana:20210101T120000
DTEND;TZID=Europe/Ljubljana:20210101T140000
DTSTAMP:20260424T090433Z
UID:fmf-AFLABS-URNIK:premaknjeno-srecanje:120102
ATTENDEE:3. letnik (IŠRM)
CATEGORIES:Entry,Standard
COLOR:darkgreen
DESCRIPTION:Predmet: Verjetnostni račun in statistika (IŠRM-3)\, Vaje (V
 )\nLetniki: 3. letnik (IŠRM)\nIzvajalci: Martin Raič\nProstor: 3.06
LOCATION:3.06
ORGANIZER:Martin Raič
RELATED-TO:fmf-AFLABS-URNIK:srecanje:5281
X-WR-TIMEZONE:Europe/Ljubljana
END:VEVENT
BEGIN:VEVENT
SUMMARY:Verjetnostni račun in statistika (IŠRM-3)\, Vaje (V)
DTSTART;TZID=Europe/Ljubljana:20210108T120000
DTEND;TZID=Europe/Ljubljana:20210108T140000
DTSTAMP:20260424T090433Z
UID:fmf-AFLABS-URNIK:premaknjeno-srecanje:120103
ATTENDEE:3. letnik (IŠRM)
CATEGORIES:Entry,Standard
COLOR:darkgreen
DESCRIPTION:Predmet: Verjetnostni račun in statistika (IŠRM-3)\, Vaje (V
 )\nLetniki: 3. letnik (IŠRM)\nIzvajalci: Martin Raič\nProstor: 3.06
LOCATION:3.06
ORGANIZER:Martin Raič
RELATED-TO:fmf-AFLABS-URNIK:srecanje:5281
X-WR-TIMEZONE:Europe/Ljubljana
END:VEVENT
BEGIN:VEVENT
SUMMARY:Verjetnostni račun in statistika (IŠRM-3)\, Vaje (V)
DTSTART;TZID=Europe/Ljubljana:20210115T120000
DTEND;TZID=Europe/Ljubljana:20210115T140000
DTSTAMP:20260424T090433Z
UID:fmf-AFLABS-URNIK:premaknjeno-srecanje:120104
ATTENDEE:3. letnik (IŠRM)
CATEGORIES:Entry,Standard
COLOR:darkgreen
DESCRIPTION:Predmet: Verjetnostni račun in statistika (IŠRM-3)\, Vaje (V
 )\nLetniki: 3. letnik (IŠRM)\nIzvajalci: Martin Raič\nProstor: 3.06
LOCATION:3.06
ORGANIZER:Martin Raič
RELATED-TO:fmf-AFLABS-URNIK:srecanje:5281
X-WR-TIMEZONE:Europe/Ljubljana
END:VEVENT
BEGIN:VEVENT
SUMMARY:Slučajni procesi 1 (FM-3\, MAT-3)\, Vaje (V)
DTSTART;TZID=Europe/Ljubljana:20210215T100000
DTEND;TZID=Europe/Ljubljana:20210215T120000
DTSTAMP:20260424T090433Z
UID:fmf-AFLABS-URNIK:premaknjeno-srecanje:103982
ATTENDEE:3. letnik (FM)
ATTENDEE:3. letnik (M)
CATEGORIES:Entry,Standard
COLOR:darkgreen
DESCRIPTION:Predmet: Slučajni procesi 1 (FM-3\, MAT-3)\, Vaje (V)\nLetnik
 i: 3. letnik (FM)\, 3. letnik (M)\nIzvajalci: Martin Raič\nProstor: 2.03
LOCATION:2.03
ORGANIZER:Martin Raič
RELATED-TO:fmf-AFLABS-URNIK:srecanje:5909
X-WR-TIMEZONE:Europe/Ljubljana
END:VEVENT
BEGIN:VEVENT
SUMMARY:Slučajni procesi 1 (FM-3\, MAT-3)\, Vaje (V)
DTSTART;TZID=Europe/Ljubljana:20210222T100000
DTEND;TZID=Europe/Ljubljana:20210222T120000
DTSTAMP:20260424T090433Z
UID:fmf-AFLABS-URNIK:premaknjeno-srecanje:103983
ATTENDEE:3. letnik (FM)
ATTENDEE:3. letnik (M)
CATEGORIES:Entry,Standard
COLOR:darkgreen
DESCRIPTION:Predmet: Slučajni procesi 1 (FM-3\, MAT-3)\, Vaje (V)\nLetnik
 i: 3. letnik (FM)\, 3. letnik (M)\nIzvajalci: Martin Raič\nProstor: 2.03
LOCATION:2.03
ORGANIZER:Martin Raič
RELATED-TO:fmf-AFLABS-URNIK:srecanje:5909
X-WR-TIMEZONE:Europe/Ljubljana
END:VEVENT
BEGIN:VEVENT
SUMMARY:Slučajni procesi 1 (FM-3\, MAT-3)\, Vaje (V)
DTSTART;TZID=Europe/Ljubljana:20210301T100000
DTEND;TZID=Europe/Ljubljana:20210301T120000
DTSTAMP:20260424T090433Z
UID:fmf-AFLABS-URNIK:premaknjeno-srecanje:103984
ATTENDEE:3. letnik (FM)
ATTENDEE:3. letnik (M)
CATEGORIES:Entry,Standard
COLOR:darkgreen
DESCRIPTION:Predmet: Slučajni procesi 1 (FM-3\, MAT-3)\, Vaje (V)\nLetnik
 i: 3. letnik (FM)\, 3. letnik (M)\nIzvajalci: Martin Raič\nProstor: 2.03
LOCATION:2.03
ORGANIZER:Martin Raič
RELATED-TO:fmf-AFLABS-URNIK:srecanje:5909
X-WR-TIMEZONE:Europe/Ljubljana
END:VEVENT
BEGIN:VEVENT
SUMMARY:Statistika (MAT-3)\, Predavanja (P)
DTSTART;TZID=Europe/Ljubljana:20210215T080000
DTEND;TZID=Europe/Ljubljana:20210215T100000
DTSTAMP:20260424T090433Z
UID:fmf-AFLABS-URNIK:premaknjeno-srecanje:105538
ATTENDEE:3. letnik (M)
CATEGORIES:Entry,Standard
COLOR:darkgreen
DESCRIPTION:Predmet: Statistika (MAT-3)\, Predavanja (P)\nLetniki: 3. letn
 ik (M)\nIzvajalci: Martin Raič\nProstor: 3.06
LOCATION:3.06
ORGANIZER:Martin Raič
RELATED-TO:fmf-AFLABS-URNIK:srecanje:5913
X-WR-TIMEZONE:Europe/Ljubljana
END:VEVENT
BEGIN:VEVENT
SUMMARY:Statistika (MAT-3)\, Predavanja (P)
DTSTART;TZID=Europe/Ljubljana:20210222T080000
DTEND;TZID=Europe/Ljubljana:20210222T100000
DTSTAMP:20260424T090433Z
UID:fmf-AFLABS-URNIK:premaknjeno-srecanje:105539
ATTENDEE:3. letnik (M)
CATEGORIES:Entry,Standard
COLOR:darkgreen
DESCRIPTION:Predmet: Statistika (MAT-3)\, Predavanja (P)\nLetniki: 3. letn
 ik (M)\nIzvajalci: Martin Raič\nProstor: 3.06
LOCATION:3.06
ORGANIZER:Martin Raič
RELATED-TO:fmf-AFLABS-URNIK:srecanje:5913
X-WR-TIMEZONE:Europe/Ljubljana
END:VEVENT
BEGIN:VEVENT
SUMMARY:Statistika (MAT-3)\, Predavanja (P)
DTSTART;TZID=Europe/Ljubljana:20210301T080000
DTEND;TZID=Europe/Ljubljana:20210301T100000
DTSTAMP:20260424T090433Z
UID:fmf-AFLABS-URNIK:premaknjeno-srecanje:105540
ATTENDEE:3. letnik (M)
CATEGORIES:Entry,Standard
COLOR:darkgreen
DESCRIPTION:Predmet: Statistika (MAT-3)\, Predavanja (P)\nLetniki: 3. letn
 ik (M)\nIzvajalci: Martin Raič\nProstor: 3.06
LOCATION:3.06
ORGANIZER:Martin Raič
RELATED-TO:fmf-AFLABS-URNIK:srecanje:5913
X-WR-TIMEZONE:Europe/Ljubljana
END:VEVENT
BEGIN:VEVENT
SUMMARY:Statistika (MAT-3)\, Predavanja (P)
DTSTART;TZID=Europe/Ljubljana:20210215T160000
DTEND;TZID=Europe/Ljubljana:20210215T170000
DTSTAMP:20260424T090433Z
UID:fmf-AFLABS-URNIK:premaknjeno-srecanje:105601
ATTENDEE:3. letnik (M)
CATEGORIES:Entry,Standard
COLOR:darkgreen
DESCRIPTION:Predmet: Statistika (MAT-3)\, Predavanja (P)\nLetniki: 3. letn
 ik (M)\nIzvajalci: Martin Raič\nProstor: 3.07
LOCATION:3.07
ORGANIZER:Martin Raič
RELATED-TO:fmf-AFLABS-URNIK:srecanje:6063
X-WR-TIMEZONE:Europe/Ljubljana
END:VEVENT
BEGIN:VEVENT
SUMMARY:Statistika (MAT-3)\, Predavanja (P)
DTSTART;TZID=Europe/Ljubljana:20210222T160000
DTEND;TZID=Europe/Ljubljana:20210222T170000
DTSTAMP:20260424T090433Z
UID:fmf-AFLABS-URNIK:premaknjeno-srecanje:105602
ATTENDEE:3. letnik (M)
CATEGORIES:Entry,Standard
COLOR:darkgreen
DESCRIPTION:Predmet: Statistika (MAT-3)\, Predavanja (P)\nLetniki: 3. letn
 ik (M)\nIzvajalci: Martin Raič\nProstor: 3.07
LOCATION:3.07
ORGANIZER:Martin Raič
RELATED-TO:fmf-AFLABS-URNIK:srecanje:6063
X-WR-TIMEZONE:Europe/Ljubljana
END:VEVENT
BEGIN:VEVENT
SUMMARY:Statistika (MAT-3)\, Predavanja (P)
DTSTART;TZID=Europe/Ljubljana:20210301T160000
DTEND;TZID=Europe/Ljubljana:20210301T170000
DTSTAMP:20260424T090433Z
UID:fmf-AFLABS-URNIK:premaknjeno-srecanje:105603
ATTENDEE:3. letnik (M)
CATEGORIES:Entry,Standard
COLOR:darkgreen
DESCRIPTION:Predmet: Statistika (MAT-3)\, Predavanja (P)\nLetniki: 3. letn
 ik (M)\nIzvajalci: Martin Raič\nProstor: 3.07
LOCATION:3.07
ORGANIZER:Martin Raič
RELATED-TO:fmf-AFLABS-URNIK:srecanje:6063
X-WR-TIMEZONE:Europe/Ljubljana
END:VEVENT
BEGIN:VEVENT
SUMMARY:Statistika (APM-2)\, Vaje (V)
DTSTART;TZID=Europe/Ljubljana:20210216T120000
DTEND;TZID=Europe/Ljubljana:20210216T140000
DTSTAMP:20260424T090433Z
UID:fmf-AFLABS-URNIK:premaknjeno-srecanje:105836
ATTENDEE:2. letnik (APM)
CATEGORIES:Entry,Standard
COLOR:darkgreen
DESCRIPTION:Predmet: Statistika (APM-2)\, Vaje (V)\nLetniki: 2. letnik (AP
 M)\nIzvajalci: Martin Raič\nProstor: 3.11
LOCATION:3.11
ORGANIZER:Martin Raič
RELATED-TO:fmf-AFLABS-URNIK:srecanje:5915
X-WR-TIMEZONE:Europe/Ljubljana
END:VEVENT
BEGIN:VEVENT
SUMMARY:Statistika (APM-2)\, Vaje (V)
DTSTART;TZID=Europe/Ljubljana:20210223T120000
DTEND;TZID=Europe/Ljubljana:20210223T140000
DTSTAMP:20260424T090433Z
UID:fmf-AFLABS-URNIK:premaknjeno-srecanje:105837
ATTENDEE:2. letnik (APM)
CATEGORIES:Entry,Standard
COLOR:darkgreen
DESCRIPTION:Predmet: Statistika (APM-2)\, Vaje (V)\nLetniki: 2. letnik (AP
 M)\nIzvajalci: Martin Raič\nProstor: 3.11
LOCATION:3.11
ORGANIZER:Martin Raič
RELATED-TO:fmf-AFLABS-URNIK:srecanje:5915
X-WR-TIMEZONE:Europe/Ljubljana
END:VEVENT
BEGIN:VEVENT
SUMMARY:Statistika 1 (FM-3)\, Vaje (V)
DTSTART;TZID=Europe/Ljubljana:20210217T100000
DTEND;TZID=Europe/Ljubljana:20210217T120000
DTSTAMP:20260424T090433Z
UID:fmf-AFLABS-URNIK:premaknjeno-srecanje:106037
ATTENDEE:3. letnik (FM)
CATEGORIES:Entry,Standard
COLOR:darkgreen
DESCRIPTION:Predmet: Statistika 1 (FM-3)\, Vaje (V)\nLetniki: 3. letnik (F
 M)\nIzvajalci: Martin Raič\nProstor: 2.03
LOCATION:2.03
ORGANIZER:Martin Raič
RELATED-TO:fmf-AFLABS-URNIK:srecanje:5917
X-WR-TIMEZONE:Europe/Ljubljana
END:VEVENT
BEGIN:VEVENT
SUMMARY:Statistika 1 (FM-3)\, Vaje (V)
DTSTART;TZID=Europe/Ljubljana:20210224T100000
DTEND;TZID=Europe/Ljubljana:20210224T120000
DTSTAMP:20260424T090433Z
UID:fmf-AFLABS-URNIK:premaknjeno-srecanje:106038
ATTENDEE:3. letnik (FM)
CATEGORIES:Entry,Standard
COLOR:darkgreen
DESCRIPTION:Predmet: Statistika 1 (FM-3)\, Vaje (V)\nLetniki: 3. letnik (F
 M)\nIzvajalci: Martin Raič\nProstor: 2.03
LOCATION:2.03
ORGANIZER:Martin Raič
RELATED-TO:fmf-AFLABS-URNIK:srecanje:5917
X-WR-TIMEZONE:Europe/Ljubljana
END:VEVENT
BEGIN:VEVENT
SUMMARY:Verjetnostni račun in statistika (IŠRM-3)\, Vaje (V)
DTSTART;TZID=Europe/Ljubljana:20210219T100000
DTEND;TZID=Europe/Ljubljana:20210219T120000
DTSTAMP:20260424T090433Z
UID:fmf-AFLABS-URNIK:premaknjeno-srecanje:120026
ATTENDEE:3. letnik (IŠRM)
CATEGORIES:Entry,Standard
COLOR:darkgreen
DESCRIPTION:Predmet: Verjetnostni račun in statistika (IŠRM-3)\, Vaje (V
 )\nLetniki: 3. letnik (IŠRM)\nIzvajalci: Martin Raič\nProstor: 3.07
LOCATION:3.07
ORGANIZER:Martin Raič
RELATED-TO:fmf-AFLABS-URNIK:srecanje:5974
X-WR-TIMEZONE:Europe/Ljubljana
END:VEVENT
BEGIN:VEVENT
SUMMARY:Verjetnostni račun in statistika (IŠRM-3)\, Vaje (V)
DTSTART;TZID=Europe/Ljubljana:20210226T100000
DTEND;TZID=Europe/Ljubljana:20210226T120000
DTSTAMP:20260424T090433Z
UID:fmf-AFLABS-URNIK:premaknjeno-srecanje:120027
ATTENDEE:3. letnik (IŠRM)
CATEGORIES:Entry,Standard
COLOR:darkgreen
DESCRIPTION:Predmet: Verjetnostni račun in statistika (IŠRM-3)\, Vaje (V
 )\nLetniki: 3. letnik (IŠRM)\nIzvajalci: Martin Raič\nProstor: 3.07
LOCATION:3.07
ORGANIZER:Martin Raič
RELATED-TO:fmf-AFLABS-URNIK:srecanje:5974
X-WR-TIMEZONE:Europe/Ljubljana
END:VEVENT
END:VCALENDAR
