BEGIN:VCALENDAR
VERSION:2.0
PRODID:-//AFLabs urnik izvoz - fmf//aflabs.si//SI
DTSTAMP:20260421T030332Z
NAME:UL FMF urnik
REFRESH-INTERVAL:PT1H
SOURCE:https://urnik.fmf.uni-lj.si/teacher/72?day=2022-06-06&export=1
URL:https://urnik.fmf.uni-lj.si/teacher/72?day=2022-06-06&export=1
X-PUBLISHED-TTL:PT1H
X-WR-CALNAME:UL FMF urnik
X-WR-TIMEZONE:Europe/Ljubljana
BEGIN:VTIMEZONE
TZID:Europe/Ljubljana
BEGIN:DAYLIGHT
DTSTART:20260329T020000
RDATE:20260329T020000
RDATE:20270328T020000
TZNAME:CEST
TZOFFSETFROM:+0100
TZOFFSETTO:+0200
END:DAYLIGHT
BEGIN:STANDARD
DTSTART:20261025T030000
RDATE:20261025T030000
RDATE:20271031T030000
TZNAME:CET
TZOFFSETFROM:+0200
TZOFFSETTO:+0100
END:STANDARD
END:VTIMEZONE
BEGIN:VEVENT
SUMMARY:Seminar (FM-2)\, Seminar (S)
DTSTART;TZID=Europe/Ljubljana:20220502T100000
DTEND;TZID=Europe/Ljubljana:20220502T120000
DTSTAMP:20260421T030332Z
UID:fmf-AFLABS-URNIK:premaknjeno-srecanje:100644
ATTENDEE:2. letnik (FM)
CATEGORIES:Entry,Standard
COLOR:darkgreen
DESCRIPTION:Predmet: Seminar (FM-2)\, Seminar (S)\nLetniki: 2. letnik (FM)
 \nIzvajalci: Martin Raič\nProstor: 3.04
LOCATION:3.04
ORGANIZER:Martin Raič
RELATED-TO:fmf-AFLABS-URNIK:srecanje:7266
X-WR-TIMEZONE:Europe/Ljubljana
END:VEVENT
BEGIN:VEVENT
SUMMARY:Seminar (FM-2)\, Seminar (S)
DTSTART;TZID=Europe/Ljubljana:20220509T100000
DTEND;TZID=Europe/Ljubljana:20220509T120000
DTSTAMP:20260421T030332Z
UID:fmf-AFLABS-URNIK:premaknjeno-srecanje:100645
ATTENDEE:2. letnik (FM)
CATEGORIES:Entry,Standard
COLOR:darkgreen
DESCRIPTION:Predmet: Seminar (FM-2)\, Seminar (S)\nLetniki: 2. letnik (FM)
 \nIzvajalci: Martin Raič\nProstor: 3.04
LOCATION:3.04
ORGANIZER:Martin Raič
RELATED-TO:fmf-AFLABS-URNIK:srecanje:7266
X-WR-TIMEZONE:Europe/Ljubljana
END:VEVENT
BEGIN:VEVENT
SUMMARY:Seminar (FM-2)\, Seminar (S)
DTSTART;TZID=Europe/Ljubljana:20220516T100000
DTEND;TZID=Europe/Ljubljana:20220516T120000
DTSTAMP:20260421T030332Z
UID:fmf-AFLABS-URNIK:premaknjeno-srecanje:100646
ATTENDEE:2. letnik (FM)
CATEGORIES:Entry,Standard
COLOR:darkgreen
DESCRIPTION:Predmet: Seminar (FM-2)\, Seminar (S)\nLetniki: 2. letnik (FM)
 \nIzvajalci: Martin Raič\nProstor: 3.04
LOCATION:3.04
ORGANIZER:Martin Raič
RELATED-TO:fmf-AFLABS-URNIK:srecanje:7266
X-WR-TIMEZONE:Europe/Ljubljana
END:VEVENT
BEGIN:VEVENT
SUMMARY:Seminar (FM-2)\, Seminar (S)
DTSTART;TZID=Europe/Ljubljana:20220523T100000
DTEND;TZID=Europe/Ljubljana:20220523T120000
DTSTAMP:20260421T030332Z
UID:fmf-AFLABS-URNIK:premaknjeno-srecanje:100647
ATTENDEE:2. letnik (FM)
CATEGORIES:Entry,Standard
COLOR:darkgreen
DESCRIPTION:Predmet: Seminar (FM-2)\, Seminar (S)\nLetniki: 2. letnik (FM)
 \nIzvajalci: Martin Raič\nProstor: 3.04
LOCATION:3.04
ORGANIZER:Martin Raič
RELATED-TO:fmf-AFLABS-URNIK:srecanje:7266
X-WR-TIMEZONE:Europe/Ljubljana
END:VEVENT
BEGIN:VEVENT
SUMMARY:Seminar (FM-2)\, Seminar (S)
DTSTART;TZID=Europe/Ljubljana:20220530T100000
DTEND;TZID=Europe/Ljubljana:20220530T120000
DTSTAMP:20260421T030332Z
UID:fmf-AFLABS-URNIK:premaknjeno-srecanje:100648
ATTENDEE:2. letnik (FM)
CATEGORIES:Entry,Standard
COLOR:darkgreen
DESCRIPTION:Predmet: Seminar (FM-2)\, Seminar (S)\nLetniki: 2. letnik (FM)
 \nIzvajalci: Martin Raič\nProstor: 3.04
LOCATION:3.04
ORGANIZER:Martin Raič
RELATED-TO:fmf-AFLABS-URNIK:srecanje:7266
X-WR-TIMEZONE:Europe/Ljubljana
END:VEVENT
BEGIN:VEVENT
SUMMARY:Statistika (APM-2)\, Predavanja (P)
DTSTART;TZID=Europe/Ljubljana:20220502T080000
DTEND;TZID=Europe/Ljubljana:20220502T100000
DTSTAMP:20260421T030332Z
UID:fmf-AFLABS-URNIK:premaknjeno-srecanje:105565
ATTENDEE:2. letnik (APM)
CATEGORIES:Entry,Standard
COLOR:darkgreen
DESCRIPTION:Predmet: Statistika (APM-2)\, Predavanja (P)\nLetniki: 2. letn
 ik (APM)\nIzvajalci: Martin Raič\nProstor: 3.04
LOCATION:3.04
ORGANIZER:Martin Raič
RELATED-TO:fmf-AFLABS-URNIK:srecanje:7302
X-WR-TIMEZONE:Europe/Ljubljana
END:VEVENT
BEGIN:VEVENT
SUMMARY:Statistika (APM-2)\, Predavanja (P)
DTSTART;TZID=Europe/Ljubljana:20220509T080000
DTEND;TZID=Europe/Ljubljana:20220509T100000
DTSTAMP:20260421T030332Z
UID:fmf-AFLABS-URNIK:premaknjeno-srecanje:105566
ATTENDEE:2. letnik (APM)
CATEGORIES:Entry,Standard
COLOR:darkgreen
DESCRIPTION:Predmet: Statistika (APM-2)\, Predavanja (P)\nLetniki: 2. letn
 ik (APM)\nIzvajalci: Martin Raič\nProstor: 3.04
LOCATION:3.04
ORGANIZER:Martin Raič
RELATED-TO:fmf-AFLABS-URNIK:srecanje:7302
X-WR-TIMEZONE:Europe/Ljubljana
END:VEVENT
BEGIN:VEVENT
SUMMARY:Statistika (APM-2)\, Predavanja (P)
DTSTART;TZID=Europe/Ljubljana:20220516T080000
DTEND;TZID=Europe/Ljubljana:20220516T100000
DTSTAMP:20260421T030332Z
UID:fmf-AFLABS-URNIK:premaknjeno-srecanje:105567
ATTENDEE:2. letnik (APM)
CATEGORIES:Entry,Standard
COLOR:darkgreen
DESCRIPTION:Predmet: Statistika (APM-2)\, Predavanja (P)\nLetniki: 2. letn
 ik (APM)\nIzvajalci: Martin Raič\nProstor: 3.04
LOCATION:3.04
ORGANIZER:Martin Raič
RELATED-TO:fmf-AFLABS-URNIK:srecanje:7302
X-WR-TIMEZONE:Europe/Ljubljana
END:VEVENT
BEGIN:VEVENT
SUMMARY:Statistika (APM-2)\, Predavanja (P)
DTSTART;TZID=Europe/Ljubljana:20220523T080000
DTEND;TZID=Europe/Ljubljana:20220523T100000
DTSTAMP:20260421T030332Z
UID:fmf-AFLABS-URNIK:premaknjeno-srecanje:105568
ATTENDEE:2. letnik (APM)
CATEGORIES:Entry,Standard
COLOR:darkgreen
DESCRIPTION:Predmet: Statistika (APM-2)\, Predavanja (P)\nLetniki: 2. letn
 ik (APM)\nIzvajalci: Martin Raič\nProstor: 3.04
LOCATION:3.04
ORGANIZER:Martin Raič
RELATED-TO:fmf-AFLABS-URNIK:srecanje:7302
X-WR-TIMEZONE:Europe/Ljubljana
END:VEVENT
BEGIN:VEVENT
SUMMARY:Statistika (APM-2)\, Predavanja (P)
DTSTART;TZID=Europe/Ljubljana:20220530T080000
DTEND;TZID=Europe/Ljubljana:20220530T100000
DTSTAMP:20260421T030332Z
UID:fmf-AFLABS-URNIK:premaknjeno-srecanje:105569
ATTENDEE:2. letnik (APM)
CATEGORIES:Entry,Standard
COLOR:darkgreen
DESCRIPTION:Predmet: Statistika (APM-2)\, Predavanja (P)\nLetniki: 2. letn
 ik (APM)\nIzvajalci: Martin Raič\nProstor: 3.04
LOCATION:3.04
ORGANIZER:Martin Raič
RELATED-TO:fmf-AFLABS-URNIK:srecanje:7302
X-WR-TIMEZONE:Europe/Ljubljana
END:VEVENT
BEGIN:VEVENT
SUMMARY:Statistika (MAT-3)\, Ostalo (O)
DTSTART;TZID=Europe/Ljubljana:20220505T070000
DTEND;TZID=Europe/Ljubljana:20220505T080000
DTSTAMP:20260421T030332Z
UID:fmf-AFLABS-URNIK:premaknjeno-srecanje:105424
ATTENDEE:3. letnik (M)
CATEGORIES:Entry,Standard
COLOR:darkgreen
DESCRIPTION:Predmet: Statistika (MAT-3)\, Ostalo (O)\nLetniki: 3. letnik (
 M)\nIzvajalci: Martin Raič\, Jan Rems\nProstor: P.02
LOCATION:P.02
ORGANIZER:Martin Raič, Jan Rems
RELATED-TO:fmf-AFLABS-URNIK:srecanje:7300
X-WR-TIMEZONE:Europe/Ljubljana
END:VEVENT
BEGIN:VEVENT
SUMMARY:Statistika (MAT-3)\, Ostalo (O)
DTSTART;TZID=Europe/Ljubljana:20220512T070000
DTEND;TZID=Europe/Ljubljana:20220512T080000
DTSTAMP:20260421T030332Z
UID:fmf-AFLABS-URNIK:premaknjeno-srecanje:105425
ATTENDEE:3. letnik (M)
CATEGORIES:Entry,Standard
COLOR:darkgreen
DESCRIPTION:Predmet: Statistika (MAT-3)\, Ostalo (O)\nLetniki: 3. letnik (
 M)\nIzvajalci: Martin Raič\, Jan Rems\nProstor: P.02
LOCATION:P.02
ORGANIZER:Martin Raič, Jan Rems
RELATED-TO:fmf-AFLABS-URNIK:srecanje:7300
X-WR-TIMEZONE:Europe/Ljubljana
END:VEVENT
BEGIN:VEVENT
SUMMARY:Statistika (MAT-3)\, Ostalo (O)
DTSTART;TZID=Europe/Ljubljana:20220519T070000
DTEND;TZID=Europe/Ljubljana:20220519T080000
DTSTAMP:20260421T030332Z
UID:fmf-AFLABS-URNIK:premaknjeno-srecanje:105426
ATTENDEE:3. letnik (M)
CATEGORIES:Entry,Standard
COLOR:darkgreen
DESCRIPTION:Predmet: Statistika (MAT-3)\, Ostalo (O)\nLetniki: 3. letnik (
 M)\nIzvajalci: Martin Raič\, Jan Rems\nProstor: P.02
LOCATION:P.02
ORGANIZER:Martin Raič, Jan Rems
RELATED-TO:fmf-AFLABS-URNIK:srecanje:7300
X-WR-TIMEZONE:Europe/Ljubljana
END:VEVENT
BEGIN:VEVENT
SUMMARY:Statistika (MAT-3)\, Ostalo (O)
DTSTART;TZID=Europe/Ljubljana:20220526T070000
DTEND;TZID=Europe/Ljubljana:20220526T080000
DTSTAMP:20260421T030332Z
UID:fmf-AFLABS-URNIK:premaknjeno-srecanje:105427
ATTENDEE:3. letnik (M)
CATEGORIES:Entry,Standard
COLOR:darkgreen
DESCRIPTION:Predmet: Statistika (MAT-3)\, Ostalo (O)\nLetniki: 3. letnik (
 M)\nIzvajalci: Martin Raič\, Jan Rems\nProstor: P.02
LOCATION:P.02
ORGANIZER:Martin Raič, Jan Rems
RELATED-TO:fmf-AFLABS-URNIK:srecanje:7300
X-WR-TIMEZONE:Europe/Ljubljana
END:VEVENT
BEGIN:VEVENT
SUMMARY:Statistika (MAT-3)\, Predavanja (P)
DTSTART;TZID=Europe/Ljubljana:20220505T080000
DTEND;TZID=Europe/Ljubljana:20220505T100000
DTSTAMP:20260421T030332Z
UID:fmf-AFLABS-URNIK:premaknjeno-srecanje:105644
ATTENDEE:3. letnik (M)
CATEGORIES:Entry,Standard
COLOR:darkgreen
DESCRIPTION:Predmet: Statistika (MAT-3)\, Predavanja (P)\nLetniki: 3. letn
 ik (M)\nIzvajalci: Martin Raič\nProstor: P.02
LOCATION:P.02
ORGANIZER:Martin Raič
RELATED-TO:fmf-AFLABS-URNIK:srecanje:7301
X-WR-TIMEZONE:Europe/Ljubljana
END:VEVENT
BEGIN:VEVENT
SUMMARY:Statistika (MAT-3)\, Predavanja (P)
DTSTART;TZID=Europe/Ljubljana:20220512T080000
DTEND;TZID=Europe/Ljubljana:20220512T100000
DTSTAMP:20260421T030332Z
UID:fmf-AFLABS-URNIK:premaknjeno-srecanje:105645
ATTENDEE:3. letnik (M)
CATEGORIES:Entry,Standard
COLOR:darkgreen
DESCRIPTION:Predmet: Statistika (MAT-3)\, Predavanja (P)\nLetniki: 3. letn
 ik (M)\nIzvajalci: Martin Raič\nProstor: P.02
LOCATION:P.02
ORGANIZER:Martin Raič
RELATED-TO:fmf-AFLABS-URNIK:srecanje:7301
X-WR-TIMEZONE:Europe/Ljubljana
END:VEVENT
BEGIN:VEVENT
SUMMARY:Statistika (MAT-3)\, Predavanja (P)
DTSTART;TZID=Europe/Ljubljana:20220519T080000
DTEND;TZID=Europe/Ljubljana:20220519T100000
DTSTAMP:20260421T030332Z
UID:fmf-AFLABS-URNIK:premaknjeno-srecanje:105646
ATTENDEE:3. letnik (M)
CATEGORIES:Entry,Standard
COLOR:darkgreen
DESCRIPTION:Predmet: Statistika (MAT-3)\, Predavanja (P)\nLetniki: 3. letn
 ik (M)\nIzvajalci: Martin Raič\nProstor: P.02
LOCATION:P.02
ORGANIZER:Martin Raič
RELATED-TO:fmf-AFLABS-URNIK:srecanje:7301
X-WR-TIMEZONE:Europe/Ljubljana
END:VEVENT
BEGIN:VEVENT
SUMMARY:Statistika (MAT-3)\, Predavanja (P)
DTSTART;TZID=Europe/Ljubljana:20220526T080000
DTEND;TZID=Europe/Ljubljana:20220526T100000
DTSTAMP:20260421T030332Z
UID:fmf-AFLABS-URNIK:premaknjeno-srecanje:105647
ATTENDEE:3. letnik (M)
CATEGORIES:Entry,Standard
COLOR:darkgreen
DESCRIPTION:Predmet: Statistika (MAT-3)\, Predavanja (P)\nLetniki: 3. letn
 ik (M)\nIzvajalci: Martin Raič\nProstor: P.02
LOCATION:P.02
ORGANIZER:Martin Raič
RELATED-TO:fmf-AFLABS-URNIK:srecanje:7301
X-WR-TIMEZONE:Europe/Ljubljana
END:VEVENT
BEGIN:VEVENT
SUMMARY:Verjetnostni račun in statistika (IŠRM-3)\, Vaje (V)
DTSTART;TZID=Europe/Ljubljana:20220506T120000
DTEND;TZID=Europe/Ljubljana:20220506T140000
DTSTAMP:20260421T030332Z
UID:fmf-AFLABS-URNIK:premaknjeno-srecanje:120116
ATTENDEE:3. letnik (IŠRM)
CATEGORIES:Entry,Standard
COLOR:darkgreen
DESCRIPTION:Predmet: Verjetnostni račun in statistika (IŠRM-3)\, Vaje (V
 )\nLetniki: 3. letnik (IŠRM)\nIzvajalci: Martin Raič\nProstor: 3.06
LOCATION:3.06
ORGANIZER:Martin Raič
RELATED-TO:fmf-AFLABS-URNIK:srecanje:7355
X-WR-TIMEZONE:Europe/Ljubljana
END:VEVENT
BEGIN:VEVENT
SUMMARY:Verjetnostni račun in statistika (IŠRM-3)\, Vaje (V)
DTSTART;TZID=Europe/Ljubljana:20220513T120000
DTEND;TZID=Europe/Ljubljana:20220513T140000
DTSTAMP:20260421T030332Z
UID:fmf-AFLABS-URNIK:premaknjeno-srecanje:120117
ATTENDEE:3. letnik (IŠRM)
CATEGORIES:Entry,Standard
COLOR:darkgreen
DESCRIPTION:Predmet: Verjetnostni račun in statistika (IŠRM-3)\, Vaje (V
 )\nLetniki: 3. letnik (IŠRM)\nIzvajalci: Martin Raič\nProstor: 3.06
LOCATION:3.06
ORGANIZER:Martin Raič
RELATED-TO:fmf-AFLABS-URNIK:srecanje:7355
X-WR-TIMEZONE:Europe/Ljubljana
END:VEVENT
BEGIN:VEVENT
SUMMARY:Verjetnostni račun in statistika (IŠRM-3)\, Vaje (V)
DTSTART;TZID=Europe/Ljubljana:20220520T120000
DTEND;TZID=Europe/Ljubljana:20220520T140000
DTSTAMP:20260421T030332Z
UID:fmf-AFLABS-URNIK:premaknjeno-srecanje:120118
ATTENDEE:3. letnik (IŠRM)
CATEGORIES:Entry,Standard
COLOR:darkgreen
DESCRIPTION:Predmet: Verjetnostni račun in statistika (IŠRM-3)\, Vaje (V
 )\nLetniki: 3. letnik (IŠRM)\nIzvajalci: Martin Raič\nProstor: 3.06
LOCATION:3.06
ORGANIZER:Martin Raič
RELATED-TO:fmf-AFLABS-URNIK:srecanje:7355
X-WR-TIMEZONE:Europe/Ljubljana
END:VEVENT
BEGIN:VEVENT
SUMMARY:Verjetnostni račun in statistika (IŠRM-3)\, Vaje (V)
DTSTART;TZID=Europe/Ljubljana:20220527T120000
DTEND;TZID=Europe/Ljubljana:20220527T140000
DTSTAMP:20260421T030332Z
UID:fmf-AFLABS-URNIK:premaknjeno-srecanje:120119
ATTENDEE:3. letnik (IŠRM)
CATEGORIES:Entry,Standard
COLOR:darkgreen
DESCRIPTION:Predmet: Verjetnostni račun in statistika (IŠRM-3)\, Vaje (V
 )\nLetniki: 3. letnik (IŠRM)\nIzvajalci: Martin Raič\nProstor: 3.06
LOCATION:3.06
ORGANIZER:Martin Raič
RELATED-TO:fmf-AFLABS-URNIK:srecanje:7355
X-WR-TIMEZONE:Europe/Ljubljana
END:VEVENT
BEGIN:VEVENT
SUMMARY:Časovne vrste (FM-M\, MAT-M\, PM-5\, UPST-M)\, Seminar (S)
DTSTART;TZID=Europe/Ljubljana:20220506T080000
DTEND;TZID=Europe/Ljubljana:20220506T100000
DTSTAMP:20260421T030332Z
UID:fmf-AFLABS-URNIK:premaknjeno-srecanje:122400
ATTENDEE:5. letnik (PM)
ATTENDEE:magistrski študij (FM)
ATTENDEE:magistrski študij (M)
ATTENDEE:magistrski študij (US)
CATEGORIES:Entry,Standard
COLOR:darkgreen
DESCRIPTION:Predmet: Časovne vrste (FM-M\, MAT-M\, PM-5\, UPST-M)\, Semin
 ar (S)\nLetniki: magistrski študij (FM)\, magistrski študij (M)\, 5. let
 nik (PM)\, magistrski študij (US)\nIzvajalci: Martin Raič\nProstor: 3.05
LOCATION:3.05
ORGANIZER:Martin Raič
RELATED-TO:fmf-AFLABS-URNIK:srecanje:7386
X-WR-TIMEZONE:Europe/Ljubljana
END:VEVENT
BEGIN:VEVENT
SUMMARY:Časovne vrste (FM-M\, MAT-M\, PM-5\, UPST-M)\, Seminar (S)
DTSTART;TZID=Europe/Ljubljana:20220513T080000
DTEND;TZID=Europe/Ljubljana:20220513T100000
DTSTAMP:20260421T030332Z
UID:fmf-AFLABS-URNIK:premaknjeno-srecanje:122401
ATTENDEE:5. letnik (PM)
ATTENDEE:magistrski študij (FM)
ATTENDEE:magistrski študij (M)
ATTENDEE:magistrski študij (US)
CATEGORIES:Entry,Standard
COLOR:darkgreen
DESCRIPTION:Predmet: Časovne vrste (FM-M\, MAT-M\, PM-5\, UPST-M)\, Semin
 ar (S)\nLetniki: magistrski študij (FM)\, magistrski študij (M)\, 5. let
 nik (PM)\, magistrski študij (US)\nIzvajalci: Martin Raič\nProstor: 3.05
LOCATION:3.05
ORGANIZER:Martin Raič
RELATED-TO:fmf-AFLABS-URNIK:srecanje:7386
X-WR-TIMEZONE:Europe/Ljubljana
END:VEVENT
BEGIN:VEVENT
SUMMARY:Časovne vrste (FM-M\, MAT-M\, PM-5\, UPST-M)\, Seminar (S)
DTSTART;TZID=Europe/Ljubljana:20220520T080000
DTEND;TZID=Europe/Ljubljana:20220520T100000
DTSTAMP:20260421T030332Z
UID:fmf-AFLABS-URNIK:premaknjeno-srecanje:122402
ATTENDEE:5. letnik (PM)
ATTENDEE:magistrski študij (FM)
ATTENDEE:magistrski študij (M)
ATTENDEE:magistrski študij (US)
CATEGORIES:Entry,Standard
COLOR:darkgreen
DESCRIPTION:Predmet: Časovne vrste (FM-M\, MAT-M\, PM-5\, UPST-M)\, Semin
 ar (S)\nLetniki: magistrski študij (FM)\, magistrski študij (M)\, 5. let
 nik (PM)\, magistrski študij (US)\nIzvajalci: Martin Raič\nProstor: 3.05
LOCATION:3.05
ORGANIZER:Martin Raič
RELATED-TO:fmf-AFLABS-URNIK:srecanje:7386
X-WR-TIMEZONE:Europe/Ljubljana
END:VEVENT
BEGIN:VEVENT
SUMMARY:Časovne vrste (FM-M\, MAT-M\, PM-5\, UPST-M)\, Seminar (S)
DTSTART;TZID=Europe/Ljubljana:20220527T080000
DTEND;TZID=Europe/Ljubljana:20220527T100000
DTSTAMP:20260421T030332Z
UID:fmf-AFLABS-URNIK:premaknjeno-srecanje:122403
ATTENDEE:5. letnik (PM)
ATTENDEE:magistrski študij (FM)
ATTENDEE:magistrski študij (M)
ATTENDEE:magistrski študij (US)
CATEGORIES:Entry,Standard
COLOR:darkgreen
DESCRIPTION:Predmet: Časovne vrste (FM-M\, MAT-M\, PM-5\, UPST-M)\, Semin
 ar (S)\nLetniki: magistrski študij (FM)\, magistrski študij (M)\, 5. let
 nik (PM)\, magistrski študij (US)\nIzvajalci: Martin Raič\nProstor: 3.05
LOCATION:3.05
ORGANIZER:Martin Raič
RELATED-TO:fmf-AFLABS-URNIK:srecanje:7386
X-WR-TIMEZONE:Europe/Ljubljana
END:VEVENT
BEGIN:VEVENT
SUMMARY:Rezervacija
DTSTART;TZID=Europe/Ljubljana:20220516T170000
DTEND;TZID=Europe/Ljubljana:20220516T190000
DTSTAMP:20260421T030332Z
UID:fmf-AFLABS-URNIK:rezervacija:9045
ATTENDEE:3. letnik (IŠRM)
CATEGORIES:Reservation
COLOR:royalblue
DESCRIPTION:Predmeti: Verjetnostni račun in statistika (IŠRM-3)\nLetniki
 : 3. letnik (IŠRM)\nIzvajalci: Martin Raič\nProstori: 3.06
LOCATION:3.06
ORGANIZER:Martin Raič
X-WR-TIMEZONE:Europe/Ljubljana
END:VEVENT
BEGIN:VEVENT
SUMMARY:Rezervacija
DTSTART;TZID=Europe/Ljubljana:20220523T180000
DTEND;TZID=Europe/Ljubljana:20220523T200000
DTSTAMP:20260421T030332Z
UID:fmf-AFLABS-URNIK:rezervacija:9054
ATTENDEE:3. letnik (M)
CATEGORIES:Reservation
COLOR:royalblue
DESCRIPTION:Predmeti: Statistika (MAT-3)\nLetniki: 3. letnik (M)\nIzvajalc
 i: Martin Raič\nProstori: F2
LOCATION:F2
ORGANIZER:Martin Raič
X-WR-TIMEZONE:Europe/Ljubljana
END:VEVENT
BEGIN:VEVENT
SUMMARY:Rezervacija
DTSTART;TZID=Europe/Ljubljana:20220602T080000
DTEND;TZID=Europe/Ljubljana:20220602T100000
DTSTAMP:20260421T030332Z
UID:fmf-AFLABS-URNIK:rezervacija:9140
ATTENDEE:3. letnik (IŠRM)
CATEGORIES:Reservation
COLOR:royalblue
DESCRIPTION:Predmeti: Verjetnostni račun in statistika (IŠRM-3)\nLetniki
 : 3. letnik (IŠRM)\nIzvajalci: Martin Raič\nProstori: 2.05
LOCATION:2.05
ORGANIZER:Martin Raič
X-WR-TIMEZONE:Europe/Ljubljana
END:VEVENT
BEGIN:VEVENT
SUMMARY:Rezervacija
DTSTART;TZID=Europe/Ljubljana:20220602T100000
DTEND;TZID=Europe/Ljubljana:20220602T120000
DTSTAMP:20260421T030332Z
UID:fmf-AFLABS-URNIK:rezervacija:9151
CATEGORIES:Reservation
COLOR:royalblue
DESCRIPTION:Predmeti: \nLetniki: \nIzvajalci: Martin Raič\nProstori: 2.03
LOCATION:2.03
ORGANIZER:Martin Raič
X-WR-TIMEZONE:Europe/Ljubljana
END:VEVENT
BEGIN:VEVENT
SUMMARY:Rezervacija
DTSTART;TZID=Europe/Ljubljana:20220606T120000
DTEND;TZID=Europe/Ljubljana:20220606T160000
DTSTAMP:20260421T030332Z
UID:fmf-AFLABS-URNIK:rezervacija:9189
ATTENDEE:5. letnik (PM)
ATTENDEE:magistrski študij (FM)
ATTENDEE:magistrski študij (M)
ATTENDEE:magistrski študij (US)
CATEGORIES:Reservation
COLOR:royalblue
DESCRIPTION:Predmeti: Časovne vrste (FM-M\, MAT-M\, PM-5\, UPST-M)\nLetni
 ki: magistrski študij (FM)\, magistrski študij (M)\, 5. letnik (PM)\, ma
 gistrski študij (US)\nIzvajalci: Martin Raič\, Aleš Toman\nProstori: 2.
 05
LOCATION:2.05
ORGANIZER:Martin Raič, Aleš Toman
X-WR-TIMEZONE:Europe/Ljubljana
END:VEVENT
BEGIN:VEVENT
SUMMARY:Rezervacija
DTSTART;TZID=Europe/Ljubljana:20220606T140000
DTEND;TZID=Europe/Ljubljana:20220606T160000
DTSTAMP:20260421T030332Z
UID:fmf-AFLABS-URNIK:rezervacija:9193
ATTENDEE:5. letnik (PM)
ATTENDEE:magistrski študij (FM)
ATTENDEE:magistrski študij (M)
ATTENDEE:magistrski študij (US)
CATEGORIES:Reservation
COLOR:royalblue
DESCRIPTION:Predmeti: Časovne vrste (FM-M\, MAT-M\, PM-5\, UPST-M)\nLetni
 ki: magistrski študij (FM)\, magistrski študij (M)\, 5. letnik (PM)\, ma
 gistrski študij (US)\nIzvajalci: Martin Raič\, Aleš Toman\nProstori: 3.
 11
LOCATION:3.11
ORGANIZER:Martin Raič, Aleš Toman
X-WR-TIMEZONE:Europe/Ljubljana
END:VEVENT
BEGIN:VEVENT
SUMMARY:Rezervacija
DTSTART;TZID=Europe/Ljubljana:20220606T140000
DTEND;TZID=Europe/Ljubljana:20220606T160000
DTSTAMP:20260421T030332Z
UID:fmf-AFLABS-URNIK:rezervacija:9194
ATTENDEE:5. letnik (PM)
ATTENDEE:magistrski študij (FM)
ATTENDEE:magistrski študij (M)
ATTENDEE:magistrski študij (US)
CATEGORIES:Reservation
COLOR:royalblue
DESCRIPTION:Predmeti: Časovne vrste (FM-M\, MAT-M\, PM-5\, UPST-M)\nLetni
 ki: magistrski študij (FM)\, magistrski študij (M)\, 5. letnik (PM)\, ma
 gistrski študij (US)\nIzvajalci: Martin Raič\, Aleš Toman\nProstori: P.
 02
LOCATION:P.02
ORGANIZER:Martin Raič, Aleš Toman
X-WR-TIMEZONE:Europe/Ljubljana
END:VEVENT
BEGIN:VEVENT
SUMMARY:Rezervacija
DTSTART;TZID=Europe/Ljubljana:20220607T090000
DTEND;TZID=Europe/Ljubljana:20220607T120000
DTSTAMP:20260421T030332Z
UID:fmf-AFLABS-URNIK:rezervacija:9203
ATTENDEE:3. letnik (FM)
CATEGORIES:Reservation
COLOR:royalblue
DESCRIPTION:Predmeti: Verjetnost z mero (FM-3)\nLetniki: 3. letnik (FM)\nI
 zvajalci: Martin Raič\nProstori: 2.02
LOCATION:2.02
ORGANIZER:Martin Raič
X-WR-TIMEZONE:Europe/Ljubljana
END:VEVENT
BEGIN:VEVENT
SUMMARY:Rezervacija
DTSTART;TZID=Europe/Ljubljana:20220613T100000
DTEND;TZID=Europe/Ljubljana:20220613T130000
DTSTAMP:20260421T030332Z
UID:fmf-AFLABS-URNIK:rezervacija:9295
ATTENDEE:3. letnik (IŠRM)
ATTENDEE:3. letnik (M)
ATTENDEE:3. letnik (PM)
CATEGORIES:Reservation
COLOR:royalblue
DESCRIPTION:Predmeti: Verjetnost (MAT-3\, PM-3)\, Verjetnostni račun in s
 tatistika (IŠRM-3)\nLetniki: 3. letnik (IŠRM)\, 3. letnik (M)\, 3. letni
 k (PM)\nIzvajalci: Martin Raič\nProstori: 2.02
LOCATION:2.02
ORGANIZER:Martin Raič
X-WR-TIMEZONE:Europe/Ljubljana
END:VEVENT
BEGIN:VEVENT
SUMMARY:Rezervacija
DTSTART;TZID=Europe/Ljubljana:20220622T100000
DTEND;TZID=Europe/Ljubljana:20220622T120000
DTSTAMP:20260421T030332Z
UID:fmf-AFLABS-URNIK:rezervacija:9459
CATEGORIES:Reservation
COLOR:royalblue
DESCRIPTION:Predmeti: \nLetniki: \nIzvajalci: Martin Raič\nProstori: 3.10
LOCATION:3.10
ORGANIZER:Martin Raič
X-WR-TIMEZONE:Europe/Ljubljana
END:VEVENT
BEGIN:VEVENT
SUMMARY:Rezervacija
DTSTART;TZID=Europe/Ljubljana:20220622T130000
DTEND;TZID=Europe/Ljubljana:20220622T150000
DTSTAMP:20260421T030332Z
UID:fmf-AFLABS-URNIK:rezervacija:9465
CATEGORIES:Reservation
COLOR:royalblue
DESCRIPTION:Predmeti: \nLetniki: \nIzvajalci: Martin Raič\nProstori: 3.10
LOCATION:3.10
ORGANIZER:Martin Raič
X-WR-TIMEZONE:Europe/Ljubljana
END:VEVENT
BEGIN:VEVENT
SUMMARY:Rezervacija
DTSTART;TZID=Europe/Ljubljana:20220623T100000
DTEND;TZID=Europe/Ljubljana:20220623T110000
DTSTAMP:20260421T030332Z
UID:fmf-AFLABS-URNIK:rezervacija:9478
CATEGORIES:Reservation
COLOR:royalblue
DESCRIPTION:Predmeti: \nLetniki: \nIzvajalci: Martin Raič\nProstori: 2.04
LOCATION:2.04
ORGANIZER:Martin Raič
X-WR-TIMEZONE:Europe/Ljubljana
END:VEVENT
BEGIN:VEVENT
SUMMARY:Rezervacija
DTSTART;TZID=Europe/Ljubljana:20220701T080000
DTEND;TZID=Europe/Ljubljana:20220701T120000
DTSTAMP:20260421T030332Z
UID:fmf-AFLABS-URNIK:rezervacija:9628
CATEGORIES:Reservation
COLOR:royalblue
DESCRIPTION:Predmeti: \nLetniki: \nIzvajalci: Martin Raič\nProstori: 3.05
LOCATION:3.05
ORGANIZER:Martin Raič
X-WR-TIMEZONE:Europe/Ljubljana
END:VEVENT
BEGIN:VEVENT
SUMMARY:Rezervacija
DTSTART;TZID=Europe/Ljubljana:20220701T090000
DTEND;TZID=Europe/Ljubljana:20220701T130000
DTSTAMP:20260421T030332Z
UID:fmf-AFLABS-URNIK:rezervacija:9632
ATTENDEE:5. letnik (PM)
ATTENDEE:magistrski študij (FM)
ATTENDEE:magistrski študij (M)
ATTENDEE:magistrski študij (US)
CATEGORIES:Reservation
COLOR:royalblue
DESCRIPTION:Predmeti: Časovne vrste (FM-M\, MAT-M\, PM-5\, UPST-M)\nLetni
 ki: magistrski študij (FM)\, magistrski študij (M)\, 5. letnik (PM)\, ma
 gistrski študij (US)\nIzvajalci: Martin Raič\, Aleš Toman\nProstori: P.
 02
LOCATION:P.02
ORGANIZER:Martin Raič, Aleš Toman
X-WR-TIMEZONE:Europe/Ljubljana
END:VEVENT
BEGIN:VEVENT
SUMMARY:Rezervacija
DTSTART;TZID=Europe/Ljubljana:20220701T130000
DTEND;TZID=Europe/Ljubljana:20220701T150000
DTSTAMP:20260421T030332Z
UID:fmf-AFLABS-URNIK:rezervacija:9642
CATEGORIES:Reservation
COLOR:royalblue
DESCRIPTION:Predmeti: \nLetniki: \nIzvajalci: Martin Raič\nProstori: 3.05
LOCATION:3.05
ORGANIZER:Martin Raič
X-WR-TIMEZONE:Europe/Ljubljana
END:VEVENT
BEGIN:VEVENT
SUMMARY:Rezervacija
DTSTART;TZID=Europe/Ljubljana:20220704T080000
DTEND;TZID=Europe/Ljubljana:20220704T120000
DTSTAMP:20260421T030332Z
UID:fmf-AFLABS-URNIK:rezervacija:9648
CATEGORIES:Reservation
COLOR:royalblue
DESCRIPTION:Predmeti: \nLetniki: \nIzvajalci: Martin Raič\nProstori: 3.10
LOCATION:3.10
ORGANIZER:Martin Raič
X-WR-TIMEZONE:Europe/Ljubljana
END:VEVENT
BEGIN:VEVENT
SUMMARY:Rezervacija
DTSTART;TZID=Europe/Ljubljana:20220704T130000
DTEND;TZID=Europe/Ljubljana:20220704T150000
DTSTAMP:20260421T030332Z
UID:fmf-AFLABS-URNIK:rezervacija:9665
CATEGORIES:Reservation
COLOR:royalblue
DESCRIPTION:Predmeti: \nLetniki: \nIzvajalci: Martin Raič\nProstori: 3.10
LOCATION:3.10
ORGANIZER:Martin Raič
X-WR-TIMEZONE:Europe/Ljubljana
END:VEVENT
BEGIN:VEVENT
SUMMARY:Rezervacija
DTSTART;TZID=Europe/Ljubljana:20220707T080000
DTEND;TZID=Europe/Ljubljana:20220707T100000
DTSTAMP:20260421T030332Z
UID:fmf-AFLABS-URNIK:rezervacija:9705
CATEGORIES:Reservation
COLOR:royalblue
DESCRIPTION:Predmeti: \nLetniki: \nIzvajalci: Martin Raič\nProstori: 3.06
LOCATION:3.06
ORGANIZER:Martin Raič
X-WR-TIMEZONE:Europe/Ljubljana
END:VEVENT
BEGIN:VEVENT
SUMMARY:Rezervacija
DTSTART;TZID=Europe/Ljubljana:20220707T140000
DTEND;TZID=Europe/Ljubljana:20220707T160000
DTSTAMP:20260421T030332Z
UID:fmf-AFLABS-URNIK:rezervacija:9714
CATEGORIES:Reservation
COLOR:royalblue
DESCRIPTION:Predmeti: \nLetniki: \nIzvajalci: Martin Raič\nProstori: 3.06
LOCATION:3.06
ORGANIZER:Martin Raič
X-WR-TIMEZONE:Europe/Ljubljana
END:VEVENT
END:VCALENDAR
