BEGIN:VCALENDAR
VERSION:2.0
PRODID:-//AFLabs urnik izvoz - fmf//aflabs.si//SI
DTSTAMP:20260422T073058Z
NAME:UL FMF urnik
REFRESH-INTERVAL:PT1H
SOURCE:https://urnik.fmf.uni-lj.si/teacher/72?day=2024-09-02&export=1
URL:https://urnik.fmf.uni-lj.si/teacher/72?day=2024-09-02&export=1
X-PUBLISHED-TTL:PT1H
X-WR-CALNAME:UL FMF urnik
X-WR-TIMEZONE:Europe/Ljubljana
BEGIN:VTIMEZONE
TZID:Europe/Ljubljana
BEGIN:DAYLIGHT
DTSTART:20260329T020000
RDATE:20260329T020000
RDATE:20270328T020000
TZNAME:CEST
TZOFFSETFROM:+0100
TZOFFSETTO:+0200
END:DAYLIGHT
BEGIN:STANDARD
DTSTART:20261025T030000
RDATE:20261025T030000
RDATE:20271031T030000
TZNAME:CET
TZOFFSETFROM:+0200
TZOFFSETTO:+0100
END:STANDARD
END:VTIMEZONE
BEGIN:VEVENT
SUMMARY:Verjetnost (MAT-3\, PM-3)\, Vaje (V)
DTSTART;TZID=Europe/Ljubljana:20241001T100000
DTEND;TZID=Europe/Ljubljana:20241001T120000
DTSTAMP:20260422T073058Z
UID:fmf-AFLABS-URNIK:premaknjeno-srecanje:186232
ATTENDEE:3. letnik (M)
ATTENDEE:3. letnik (PM)
CATEGORIES:Entry,Standard
COLOR:darkgreen
DESCRIPTION:Predmet: Verjetnost (MAT-3\, PM-3)\, Vaje (V)\nLetniki: 3. let
 nik (M)\, 3. letnik (PM)\nIzvajalci: Martin Raič\nProstor: 3.06
LOCATION:3.06
ORGANIZER:Martin Raič
RELATED-TO:fmf-AFLABS-URNIK:srecanje:14135
X-WR-TIMEZONE:Europe/Ljubljana
END:VEVENT
BEGIN:VEVENT
SUMMARY:Verjetnost (MAT-3\, PM-3)\, Vaje (V)
DTSTART;TZID=Europe/Ljubljana:20241002T140000
DTEND;TZID=Europe/Ljubljana:20241002T150000
DTSTAMP:20260422T073058Z
UID:fmf-AFLABS-URNIK:premaknjeno-srecanje:186262
ATTENDEE:3. letnik (M)
ATTENDEE:3. letnik (PM)
CATEGORIES:Entry,Standard
COLOR:darkgreen
DESCRIPTION:Predmet: Verjetnost (MAT-3\, PM-3)\, Vaje (V)\nLetniki: 3. let
 nik (M)\, 3. letnik (PM)\nIzvajalci: Martin Raič\nProstor: 2.04
LOCATION:2.04
ORGANIZER:Martin Raič
RELATED-TO:fmf-AFLABS-URNIK:srecanje:14137
X-WR-TIMEZONE:Europe/Ljubljana
END:VEVENT
BEGIN:VEVENT
SUMMARY:Verjetnost z mero (FM-3)\, Vaje (V)
DTSTART;TZID=Europe/Ljubljana:20241002T100000
DTEND;TZID=Europe/Ljubljana:20241002T120000
DTSTAMP:20260422T073058Z
UID:fmf-AFLABS-URNIK:premaknjeno-srecanje:186412
ATTENDEE:3. letnik (FM)
CATEGORIES:Entry,Standard
COLOR:darkgreen
DESCRIPTION:Predmet: Verjetnost z mero (FM-3)\, Vaje (V)\nLetniki: 3. letn
 ik (FM)\nIzvajalci: Martin Raič\nProstor: 3.04
LOCATION:3.04
ORGANIZER:Martin Raič
RELATED-TO:fmf-AFLABS-URNIK:srecanje:14264
X-WR-TIMEZONE:Europe/Ljubljana
END:VEVENT
BEGIN:VEVENT
SUMMARY:Verjetnostni račun in statistika (IŠRM-3)\, Vaje (V)
DTSTART;TZID=Europe/Ljubljana:20241004T080000
DTEND;TZID=Europe/Ljubljana:20241004T100000
DTSTAMP:20260422T073058Z
UID:fmf-AFLABS-URNIK:premaknjeno-srecanje:186352
ATTENDEE:3. letnik (IŠRM)
CATEGORIES:Entry,Standard
COLOR:darkgreen
DESCRIPTION:Predmet: Verjetnostni račun in statistika (IŠRM-3)\, Vaje (V
 )\nLetniki: 3. letnik (IŠRM)\nIzvajalci: Martin Raič\nProstor: P.01
LOCATION:P.01
ORGANIZER:Martin Raič
RELATED-TO:fmf-AFLABS-URNIK:srecanje:14488
X-WR-TIMEZONE:Europe/Ljubljana
END:VEVENT
BEGIN:VEVENT
SUMMARY:Statistika v šoli (PM-4\, PM-5)\, Vaje (V)
DTSTART;TZID=Europe/Ljubljana:20241007T100000
DTEND;TZID=Europe/Ljubljana:20241007T120000
DTSTAMP:20260422T073058Z
UID:fmf-AFLABS-URNIK:premaknjeno-srecanje:185182
ATTENDEE:4. letnik (PM)
ATTENDEE:5. letnik (PM)
CATEGORIES:Entry,Standard
COLOR:darkgreen
DESCRIPTION:Predmet: Statistika v šoli (PM-4\, PM-5)\, Vaje (V)\nLetniki:
  4. letnik (PM)\, 5. letnik (PM)\nIzvajalci: Martin Raič\nProstor: F6
LOCATION:F6
ORGANIZER:Martin Raič
RELATED-TO:fmf-AFLABS-URNIK:srecanje:14437
X-WR-TIMEZONE:Europe/Ljubljana
END:VEVENT
BEGIN:VEVENT
SUMMARY:Tretji računski izpit
DTSTART;TZID=Europe/Ljubljana:20240830T090000
DTEND;TZID=Europe/Ljubljana:20240830T120000
DTSTAMP:20260422T073058Z
UID:fmf-AFLABS-URNIK:rezervacija:14327
ATTENDEE:3. letnik (M)
ATTENDEE:3. letnik (PM)
CATEGORIES:Reservation
COLOR:royalblue
DESCRIPTION:Predmeti: Verjetnost (MAT-3\, PM-3)\nLetniki: 3. letnik (M)\, 
 3. letnik (PM)\nIzvajalci: Martin Raič\nProstori: 2.04
LOCATION:2.04
ORGANIZER:Martin Raič
X-WR-TIMEZONE:Europe/Ljubljana
END:VEVENT
BEGIN:VEVENT
SUMMARY:Tretji izpit
DTSTART;TZID=Europe/Ljubljana:20240819T090000
DTEND;TZID=Europe/Ljubljana:20240819T120000
DTSTAMP:20260422T073058Z
UID:fmf-AFLABS-URNIK:rezervacija:14474
ATTENDEE:3. letnik (FM)
CATEGORIES:Reservation
COLOR:royalblue
DESCRIPTION:Predmeti: Verjetnost z mero (FM-3)\nLetniki: 3. letnik (FM)\nI
 zvajalci: Martin Raič\nProstori: 2.02
LOCATION:2.02
ORGANIZER:Martin Raič
X-WR-TIMEZONE:Europe/Ljubljana
END:VEVENT
BEGIN:VEVENT
SUMMARY:Tretji izpit
DTSTART;TZID=Europe/Ljubljana:20240828T130000
DTEND;TZID=Europe/Ljubljana:20240828T160000
DTSTAMP:20260422T073058Z
UID:fmf-AFLABS-URNIK:rezervacija:14480
ATTENDEE:3. letnik (IŠRM)
CATEGORIES:Reservation
COLOR:royalblue
DESCRIPTION:Predmeti: Verjetnostni račun in statistika (IŠRM-3)\nLetniki
 : 3. letnik (IŠRM)\nIzvajalci: Martin Raič\nProstori: 2.02
LOCATION:2.02
ORGANIZER:Martin Raič
X-WR-TIMEZONE:Europe/Ljubljana
END:VEVENT
BEGIN:VEVENT
SUMMARY:ustni izpiti
DTSTART;TZID=Europe/Ljubljana:20240812T080000
DTEND;TZID=Europe/Ljubljana:20240812T160000
DTSTAMP:20260422T073058Z
UID:fmf-AFLABS-URNIK:rezervacija:17674
CATEGORIES:Reservation
COLOR:royalblue
DESCRIPTION:Predmeti: \nLetniki: \nIzvajalci: Martin Raič\nProstori: 3.06
LOCATION:3.06
ORGANIZER:Martin Raič
X-WR-TIMEZONE:Europe/Ljubljana
END:VEVENT
BEGIN:VEVENT
SUMMARY:ustni izpiti
DTSTART;TZID=Europe/Ljubljana:20240814T080000
DTEND;TZID=Europe/Ljubljana:20240814T160000
DTSTAMP:20260422T073058Z
UID:fmf-AFLABS-URNIK:rezervacija:17703
CATEGORIES:Reservation
COLOR:royalblue
DESCRIPTION:Predmeti: \nLetniki: \nIzvajalci: Martin Raič\nProstori: 3.06
LOCATION:3.06
ORGANIZER:Martin Raič
X-WR-TIMEZONE:Europe/Ljubljana
END:VEVENT
BEGIN:VEVENT
SUMMARY:ustni izpit
DTSTART;TZID=Europe/Ljubljana:20240823T140000
DTEND;TZID=Europe/Ljubljana:20240823T160000
DTSTAMP:20260422T073058Z
UID:fmf-AFLABS-URNIK:rezervacija:17840
CATEGORIES:Reservation
COLOR:royalblue
DESCRIPTION:Predmeti: \nLetniki: \nIzvajalci: Martin Raič\nProstori: 3.06
LOCATION:3.06
ORGANIZER:Martin Raič
X-WR-TIMEZONE:Europe/Ljubljana
END:VEVENT
BEGIN:VEVENT
SUMMARY:ustni izpit
DTSTART;TZID=Europe/Ljubljana:20240827T080000
DTEND;TZID=Europe/Ljubljana:20240827T100000
DTSTAMP:20260422T073058Z
UID:fmf-AFLABS-URNIK:rezervacija:17881
CATEGORIES:Reservation
COLOR:royalblue
DESCRIPTION:Predmeti: \nLetniki: \nIzvajalci: Martin Raič\nProstori: 3.05
LOCATION:3.05
ORGANIZER:Martin Raič
X-WR-TIMEZONE:Europe/Ljubljana
END:VEVENT
BEGIN:VEVENT
SUMMARY:ustni izpiti
DTSTART;TZID=Europe/Ljubljana:20240828T080000
DTEND;TZID=Europe/Ljubljana:20240828T130000
DTSTAMP:20260422T073058Z
UID:fmf-AFLABS-URNIK:rezervacija:17885
ATTENDEE:3. letnik (M)
CATEGORIES:Reservation
COLOR:royalblue
DESCRIPTION:Predmeti: Statistika (MAT-3)\nLetniki: 3. letnik (M)\nIzvajalc
 i: Martin Raič\nProstori: 3.05
LOCATION:3.05
ORGANIZER:Martin Raič
X-WR-TIMEZONE:Europe/Ljubljana
END:VEVENT
BEGIN:VEVENT
SUMMARY:ustni izpiti
DTSTART;TZID=Europe/Ljubljana:20240830T130000
DTEND;TZID=Europe/Ljubljana:20240830T180000
DTSTAMP:20260422T073058Z
UID:fmf-AFLABS-URNIK:rezervacija:17886
ATTENDEE:3. letnik (M)
CATEGORIES:Reservation
COLOR:royalblue
DESCRIPTION:Predmeti: Statistika (MAT-3)\nLetniki: 3. letnik (M)\nIzvajalc
 i: Martin Raič\nProstori: 3.05
LOCATION:3.05
ORGANIZER:Martin Raič
X-WR-TIMEZONE:Europe/Ljubljana
END:VEVENT
BEGIN:VEVENT
SUMMARY:ustni izpiti
DTSTART;TZID=Europe/Ljubljana:20240904T130000
DTEND;TZID=Europe/Ljubljana:20240904T170000
DTSTAMP:20260422T073058Z
UID:fmf-AFLABS-URNIK:rezervacija:18042
CATEGORIES:Reservation
COLOR:royalblue
DESCRIPTION:Predmeti: \nLetniki: \nIzvajalci: Martin Raič\nProstori: 3.06
LOCATION:3.06
ORGANIZER:Martin Raič
X-WR-TIMEZONE:Europe/Ljubljana
END:VEVENT
BEGIN:VEVENT
SUMMARY:ustni izpit
DTSTART;TZID=Europe/Ljubljana:20240906T130000
DTEND;TZID=Europe/Ljubljana:20240906T150000
DTSTAMP:20260422T073058Z
UID:fmf-AFLABS-URNIK:rezervacija:18044
CATEGORIES:Reservation
COLOR:royalblue
DESCRIPTION:Predmeti: \nLetniki: \nIzvajalci: Martin Raič\nProstori: 3.06
LOCATION:3.06
ORGANIZER:Martin Raič
X-WR-TIMEZONE:Europe/Ljubljana
END:VEVENT
BEGIN:VEVENT
SUMMARY:ustni izpiti
DTSTART;TZID=Europe/Ljubljana:20240909T080000
DTEND;TZID=Europe/Ljubljana:20240909T140000
DTSTAMP:20260422T073058Z
UID:fmf-AFLABS-URNIK:rezervacija:18145
ATTENDEE:3. letnik (M)
CATEGORIES:Reservation
COLOR:royalblue
DESCRIPTION:Predmeti: Statistika (MAT-3)\nLetniki: 3. letnik (M)\nIzvajalc
 i: Martin Raič\nProstori: 3.10
LOCATION:3.10
ORGANIZER:Martin Raič
X-WR-TIMEZONE:Europe/Ljubljana
END:VEVENT
BEGIN:VEVENT
SUMMARY:ustni izpiti
DTSTART;TZID=Europe/Ljubljana:20240910T080000
DTEND;TZID=Europe/Ljubljana:20240910T150000
DTSTAMP:20260422T073058Z
UID:fmf-AFLABS-URNIK:rezervacija:18146
ATTENDEE:3. letnik (M)
CATEGORIES:Reservation
COLOR:royalblue
DESCRIPTION:Predmeti: Statistika (MAT-3)\nLetniki: 3. letnik (M)\nIzvajalc
 i: Martin Raič\nProstori: 3.10
LOCATION:3.10
ORGANIZER:Martin Raič
X-WR-TIMEZONE:Europe/Ljubljana
END:VEVENT
BEGIN:VEVENT
SUMMARY:ustni izpiti
DTSTART;TZID=Europe/Ljubljana:20240913T080000
DTEND;TZID=Europe/Ljubljana:20240913T160000
DTSTAMP:20260422T073058Z
UID:fmf-AFLABS-URNIK:rezervacija:18229
ATTENDEE:3. letnik (M)
CATEGORIES:Reservation
COLOR:royalblue
DESCRIPTION:Predmeti: Statistika (MAT-3)\nLetniki: 3. letnik (M)\nIzvajalc
 i: Martin Raič\nProstori: 3.04
LOCATION:3.04
ORGANIZER:Martin Raič
X-WR-TIMEZONE:Europe/Ljubljana
END:VEVENT
END:VCALENDAR
