BEGIN:VCALENDAR
VERSION:2.0
PRODID:-//AFLabs urnik izvoz - fmf//aflabs.si//SI
DTSTAMP:20260423T072458Z
NAME:UL FMF urnik
REFRESH-INTERVAL:PT1H
SOURCE:https://urnik.fmf.uni-lj.si/teacher/734?day=2021-05-31&export=1
URL:https://urnik.fmf.uni-lj.si/teacher/734?day=2021-05-31&export=1
X-PUBLISHED-TTL:PT1H
X-WR-CALNAME:UL FMF urnik
X-WR-TIMEZONE:Europe/Ljubljana
BEGIN:VTIMEZONE
TZID:Europe/Ljubljana
BEGIN:DAYLIGHT
DTSTART:20260329T020000
RDATE:20260329T020000
RDATE:20270328T020000
TZNAME:CEST
TZOFFSETFROM:+0100
TZOFFSETTO:+0200
END:DAYLIGHT
BEGIN:STANDARD
DTSTART:20261025T030000
RDATE:20261025T030000
RDATE:20271031T030000
TZNAME:CET
TZOFFSETFROM:+0200
TZOFFSETTO:+0100
END:STANDARD
END:VTIMEZONE
BEGIN:VEVENT
SUMMARY:Programiranje 1 (APM-1)\, Vaje (V)\, [2]
DTSTART;TZID=Europe/Ljubljana:20210218T100000
DTEND;TZID=Europe/Ljubljana:20210218T120000
DTSTAMP:20260423T072458Z
UID:fmf-AFLABS-URNIK:premaknjeno-srecanje:86402
ATTENDEE:1. letnik (APM)
CATEGORIES:Entry,Standard
COLOR:darkgreen
DESCRIPTION:Predmet: Programiranje 1 (APM-1)\, Vaje (V)\, [2]\nLetniki: 1.
  letnik (APM)\nIzvajalci: Ajda Lampe\nProstor: 3.12
LOCATION:3.12
ORGANIZER:Ajda Lampe
RELATED-TO:fmf-AFLABS-URNIK:srecanje:5826
X-WR-TIMEZONE:Europe/Ljubljana
END:VEVENT
BEGIN:VEVENT
SUMMARY:Programiranje 1 (APM-1)\, Vaje (V)\, [2]
DTSTART;TZID=Europe/Ljubljana:20210225T100000
DTEND;TZID=Europe/Ljubljana:20210225T120000
DTSTAMP:20260423T072458Z
UID:fmf-AFLABS-URNIK:premaknjeno-srecanje:86403
ATTENDEE:1. letnik (APM)
CATEGORIES:Entry,Standard
COLOR:darkgreen
DESCRIPTION:Predmet: Programiranje 1 (APM-1)\, Vaje (V)\, [2]\nLetniki: 1.
  letnik (APM)\nIzvajalci: Ajda Lampe\nProstor: 3.12
LOCATION:3.12
ORGANIZER:Ajda Lampe
RELATED-TO:fmf-AFLABS-URNIK:srecanje:5826
X-WR-TIMEZONE:Europe/Ljubljana
END:VEVENT
BEGIN:VEVENT
SUMMARY:Programiranje 1 (APM-1)\, Vaje (V)\, [2]
DTSTART;TZID=Europe/Ljubljana:20210304T100000
DTEND;TZID=Europe/Ljubljana:20210304T120000
DTSTAMP:20260423T072458Z
UID:fmf-AFLABS-URNIK:premaknjeno-srecanje:86404
ATTENDEE:1. letnik (APM)
CATEGORIES:Entry,Standard
COLOR:darkgreen
DESCRIPTION:Predmet: Programiranje 1 (APM-1)\, Vaje (V)\, [2]\nLetniki: 1.
  letnik (APM)\nIzvajalci: Ajda Lampe\nProstor: 3.12
LOCATION:3.12
ORGANIZER:Ajda Lampe
RELATED-TO:fmf-AFLABS-URNIK:srecanje:5826
X-WR-TIMEZONE:Europe/Ljubljana
END:VEVENT
BEGIN:VEVENT
SUMMARY:Programiranje 1 (APM-1)\, Vaje (V)\, [2]
DTSTART;TZID=Europe/Ljubljana:20210311T100000
DTEND;TZID=Europe/Ljubljana:20210311T120000
DTSTAMP:20260423T072458Z
UID:fmf-AFLABS-URNIK:premaknjeno-srecanje:86405
ATTENDEE:1. letnik (APM)
CATEGORIES:Entry,Standard
COLOR:darkgreen
DESCRIPTION:Predmet: Programiranje 1 (APM-1)\, Vaje (V)\, [2]\nLetniki: 1.
  letnik (APM)\nIzvajalci: Ajda Lampe\nProstor: 3.12
LOCATION:3.12
ORGANIZER:Ajda Lampe
RELATED-TO:fmf-AFLABS-URNIK:srecanje:5826
X-WR-TIMEZONE:Europe/Ljubljana
END:VEVENT
BEGIN:VEVENT
SUMMARY:Programiranje 1 (APM-1)\, Vaje (V)\, [2]
DTSTART;TZID=Europe/Ljubljana:20210318T100000
DTEND;TZID=Europe/Ljubljana:20210318T120000
DTSTAMP:20260423T072458Z
UID:fmf-AFLABS-URNIK:premaknjeno-srecanje:86406
ATTENDEE:1. letnik (APM)
CATEGORIES:Entry,Standard
COLOR:darkgreen
DESCRIPTION:Predmet: Programiranje 1 (APM-1)\, Vaje (V)\, [2]\nLetniki: 1.
  letnik (APM)\nIzvajalci: Ajda Lampe\nProstor: 3.12
LOCATION:3.12
ORGANIZER:Ajda Lampe
RELATED-TO:fmf-AFLABS-URNIK:srecanje:5826
X-WR-TIMEZONE:Europe/Ljubljana
END:VEVENT
BEGIN:VEVENT
SUMMARY:Programiranje 1 (APM-1)\, Vaje (V)\, [2]
DTSTART;TZID=Europe/Ljubljana:20210325T100000
DTEND;TZID=Europe/Ljubljana:20210325T120000
DTSTAMP:20260423T072458Z
UID:fmf-AFLABS-URNIK:premaknjeno-srecanje:86407
ATTENDEE:1. letnik (APM)
CATEGORIES:Entry,Standard
COLOR:darkgreen
DESCRIPTION:Predmet: Programiranje 1 (APM-1)\, Vaje (V)\, [2]\nLetniki: 1.
  letnik (APM)\nIzvajalci: Ajda Lampe\nProstor: 3.12
LOCATION:3.12
ORGANIZER:Ajda Lampe
RELATED-TO:fmf-AFLABS-URNIK:srecanje:5826
X-WR-TIMEZONE:Europe/Ljubljana
END:VEVENT
BEGIN:VEVENT
SUMMARY:Programiranje 1 (APM-1)\, Vaje (V)\, [2]
DTSTART;TZID=Europe/Ljubljana:20210401T100000
DTEND;TZID=Europe/Ljubljana:20210401T120000
DTSTAMP:20260423T072458Z
UID:fmf-AFLABS-URNIK:premaknjeno-srecanje:86408
ATTENDEE:1. letnik (APM)
CATEGORIES:Entry,Standard
COLOR:darkgreen
DESCRIPTION:Predmet: Programiranje 1 (APM-1)\, Vaje (V)\, [2]\nLetniki: 1.
  letnik (APM)\nIzvajalci: Ajda Lampe\nProstor: 3.12
LOCATION:3.12
ORGANIZER:Ajda Lampe
RELATED-TO:fmf-AFLABS-URNIK:srecanje:5826
X-WR-TIMEZONE:Europe/Ljubljana
END:VEVENT
BEGIN:VEVENT
SUMMARY:Programiranje 1 (APM-1)\, Vaje (V)\, [2]
DTSTART;TZID=Europe/Ljubljana:20210408T100000
DTEND;TZID=Europe/Ljubljana:20210408T120000
DTSTAMP:20260423T072458Z
UID:fmf-AFLABS-URNIK:premaknjeno-srecanje:86409
ATTENDEE:1. letnik (APM)
CATEGORIES:Entry,Standard
COLOR:darkgreen
DESCRIPTION:Predmet: Programiranje 1 (APM-1)\, Vaje (V)\, [2]\nLetniki: 1.
  letnik (APM)\nIzvajalci: Ajda Lampe\nProstor: 3.12
LOCATION:3.12
ORGANIZER:Ajda Lampe
RELATED-TO:fmf-AFLABS-URNIK:srecanje:5826
X-WR-TIMEZONE:Europe/Ljubljana
END:VEVENT
BEGIN:VEVENT
SUMMARY:Programiranje 1 (APM-1)\, Vaje (V)\, [2]
DTSTART;TZID=Europe/Ljubljana:20210415T100000
DTEND;TZID=Europe/Ljubljana:20210415T120000
DTSTAMP:20260423T072458Z
UID:fmf-AFLABS-URNIK:premaknjeno-srecanje:86410
ATTENDEE:1. letnik (APM)
CATEGORIES:Entry,Standard
COLOR:darkgreen
DESCRIPTION:Predmet: Programiranje 1 (APM-1)\, Vaje (V)\, [2]\nLetniki: 1.
  letnik (APM)\nIzvajalci: Ajda Lampe\nProstor: 3.12
LOCATION:3.12
ORGANIZER:Ajda Lampe
RELATED-TO:fmf-AFLABS-URNIK:srecanje:5826
X-WR-TIMEZONE:Europe/Ljubljana
END:VEVENT
BEGIN:VEVENT
SUMMARY:Programiranje 1 (APM-1)\, Vaje (V)\, [2]
DTSTART;TZID=Europe/Ljubljana:20210422T100000
DTEND;TZID=Europe/Ljubljana:20210422T120000
DTSTAMP:20260423T072458Z
UID:fmf-AFLABS-URNIK:premaknjeno-srecanje:86411
ATTENDEE:1. letnik (APM)
CATEGORIES:Entry,Standard
COLOR:darkgreen
DESCRIPTION:Predmet: Programiranje 1 (APM-1)\, Vaje (V)\, [2]\nLetniki: 1.
  letnik (APM)\nIzvajalci: Ajda Lampe\nProstor: 3.12
LOCATION:3.12
ORGANIZER:Ajda Lampe
RELATED-TO:fmf-AFLABS-URNIK:srecanje:5826
X-WR-TIMEZONE:Europe/Ljubljana
END:VEVENT
BEGIN:VEVENT
SUMMARY:Programiranje 1 (APM-1)\, Vaje (V)\, [2]
DTSTART;TZID=Europe/Ljubljana:20210429T100000
DTEND;TZID=Europe/Ljubljana:20210429T120000
DTSTAMP:20260423T072458Z
UID:fmf-AFLABS-URNIK:premaknjeno-srecanje:86412
ATTENDEE:1. letnik (APM)
CATEGORIES:Entry,Standard
COLOR:darkgreen
DESCRIPTION:Predmet: Programiranje 1 (APM-1)\, Vaje (V)\, [2]\nLetniki: 1.
  letnik (APM)\nIzvajalci: Ajda Lampe\nProstor: 3.12
LOCATION:3.12
ORGANIZER:Ajda Lampe
RELATED-TO:fmf-AFLABS-URNIK:srecanje:5826
X-WR-TIMEZONE:Europe/Ljubljana
END:VEVENT
BEGIN:VEVENT
SUMMARY:Programiranje 1 (APM-1)\, Vaje (V)\, [2]
DTSTART;TZID=Europe/Ljubljana:20210506T100000
DTEND;TZID=Europe/Ljubljana:20210506T120000
DTSTAMP:20260423T072458Z
UID:fmf-AFLABS-URNIK:premaknjeno-srecanje:86413
ATTENDEE:1. letnik (APM)
CATEGORIES:Entry,Standard
COLOR:darkgreen
DESCRIPTION:Predmet: Programiranje 1 (APM-1)\, Vaje (V)\, [2]\nLetniki: 1.
  letnik (APM)\nIzvajalci: Ajda Lampe\nProstor: 3.12
LOCATION:3.12
ORGANIZER:Ajda Lampe
RELATED-TO:fmf-AFLABS-URNIK:srecanje:5826
X-WR-TIMEZONE:Europe/Ljubljana
END:VEVENT
BEGIN:VEVENT
SUMMARY:Programiranje 1 (APM-1)\, Vaje (V)\, [2]
DTSTART;TZID=Europe/Ljubljana:20210513T100000
DTEND;TZID=Europe/Ljubljana:20210513T120000
DTSTAMP:20260423T072458Z
UID:fmf-AFLABS-URNIK:premaknjeno-srecanje:86414
ATTENDEE:1. letnik (APM)
CATEGORIES:Entry,Standard
COLOR:darkgreen
DESCRIPTION:Predmet: Programiranje 1 (APM-1)\, Vaje (V)\, [2]\nLetniki: 1.
  letnik (APM)\nIzvajalci: Ajda Lampe\nProstor: 3.12
LOCATION:3.12
ORGANIZER:Ajda Lampe
RELATED-TO:fmf-AFLABS-URNIK:srecanje:5826
X-WR-TIMEZONE:Europe/Ljubljana
END:VEVENT
BEGIN:VEVENT
SUMMARY:Programiranje 1 (APM-1)\, Vaje (V)\, [2]
DTSTART;TZID=Europe/Ljubljana:20210520T100000
DTEND;TZID=Europe/Ljubljana:20210520T120000
DTSTAMP:20260423T072458Z
UID:fmf-AFLABS-URNIK:premaknjeno-srecanje:86415
ATTENDEE:1. letnik (APM)
CATEGORIES:Entry,Standard
COLOR:darkgreen
DESCRIPTION:Predmet: Programiranje 1 (APM-1)\, Vaje (V)\, [2]\nLetniki: 1.
  letnik (APM)\nIzvajalci: Ajda Lampe\nProstor: 3.12
LOCATION:3.12
ORGANIZER:Ajda Lampe
RELATED-TO:fmf-AFLABS-URNIK:srecanje:5826
X-WR-TIMEZONE:Europe/Ljubljana
END:VEVENT
BEGIN:VEVENT
SUMMARY:Programiranje 1 (APM-1)\, Vaje (V)\, [2]
DTSTART;TZID=Europe/Ljubljana:20210527T100000
DTEND;TZID=Europe/Ljubljana:20210527T120000
DTSTAMP:20260423T072458Z
UID:fmf-AFLABS-URNIK:premaknjeno-srecanje:86416
ATTENDEE:1. letnik (APM)
CATEGORIES:Entry,Standard
COLOR:darkgreen
DESCRIPTION:Predmet: Programiranje 1 (APM-1)\, Vaje (V)\, [2]\nLetniki: 1.
  letnik (APM)\nIzvajalci: Ajda Lampe\nProstor: 3.12
LOCATION:3.12
ORGANIZER:Ajda Lampe
RELATED-TO:fmf-AFLABS-URNIK:srecanje:5826
X-WR-TIMEZONE:Europe/Ljubljana
END:VEVENT
END:VCALENDAR
