BEGIN:VCALENDAR
VERSION:2.0
PRODID:-//AFLabs urnik izvoz - fmf//aflabs.si//SI
DTSTAMP:20260422T191514Z
NAME:UL FMF urnik
REFRESH-INTERVAL:PT1H
SOURCE:https://urnik.fmf.uni-lj.si/teacher/734?day=2021-11-01&export=1
URL:https://urnik.fmf.uni-lj.si/teacher/734?day=2021-11-01&export=1
X-PUBLISHED-TTL:PT1H
X-WR-CALNAME:UL FMF urnik
X-WR-TIMEZONE:Europe/Ljubljana
BEGIN:VTIMEZONE
TZID:Europe/Ljubljana
BEGIN:DAYLIGHT
DTSTART:20260329T020000
RDATE:20260329T020000
RDATE:20270328T020000
TZNAME:CEST
TZOFFSETFROM:+0100
TZOFFSETTO:+0200
END:DAYLIGHT
BEGIN:STANDARD
DTSTART:20261025T030000
RDATE:20261025T030000
RDATE:20271031T030000
TZNAME:CET
TZOFFSETFROM:+0200
TZOFFSETTO:+0100
END:STANDARD
END:VTIMEZONE
BEGIN:VEVENT
SUMMARY:Programiranje 1 (APM-1)\, Vaje (V)\, [2]
DTSTART;TZID=Europe/Ljubljana:20211005T140000
DTEND;TZID=Europe/Ljubljana:20211005T160000
DTSTAMP:20260422T191514Z
UID:fmf-AFLABS-URNIK:premaknjeno-srecanje:86311
ATTENDEE:1. letnik (APM)
CATEGORIES:Entry,Standard
COLOR:darkgreen
DESCRIPTION:Predmet: Programiranje 1 (APM-1)\, Vaje (V)\, [2]\nLetniki: 1.
  letnik (APM)\nIzvajalci: Ajda Lampe\nProstor: 3.10
LOCATION:3.10
ORGANIZER:Ajda Lampe
RELATED-TO:fmf-AFLABS-URNIK:srecanje:6504
X-WR-TIMEZONE:Europe/Ljubljana
END:VEVENT
BEGIN:VEVENT
SUMMARY:Programiranje 1 (APM-1)\, Vaje (V)\, [2]
DTSTART;TZID=Europe/Ljubljana:20211012T140000
DTEND;TZID=Europe/Ljubljana:20211012T160000
DTSTAMP:20260422T191514Z
UID:fmf-AFLABS-URNIK:premaknjeno-srecanje:86312
ATTENDEE:1. letnik (APM)
CATEGORIES:Entry,Standard
COLOR:darkgreen
DESCRIPTION:Predmet: Programiranje 1 (APM-1)\, Vaje (V)\, [2]\nLetniki: 1.
  letnik (APM)\nIzvajalci: Ajda Lampe\nProstor: 3.10
LOCATION:3.10
ORGANIZER:Ajda Lampe
RELATED-TO:fmf-AFLABS-URNIK:srecanje:6504
X-WR-TIMEZONE:Europe/Ljubljana
END:VEVENT
BEGIN:VEVENT
SUMMARY:Programiranje 1 (APM-1)\, Vaje (V)\, [2]
DTSTART;TZID=Europe/Ljubljana:20211019T140000
DTEND;TZID=Europe/Ljubljana:20211019T160000
DTSTAMP:20260422T191514Z
UID:fmf-AFLABS-URNIK:premaknjeno-srecanje:86313
ATTENDEE:1. letnik (APM)
CATEGORIES:Entry,Standard
COLOR:darkgreen
DESCRIPTION:Predmet: Programiranje 1 (APM-1)\, Vaje (V)\, [2]\nLetniki: 1.
  letnik (APM)\nIzvajalci: Ajda Lampe\nProstor: 3.10
LOCATION:3.10
ORGANIZER:Ajda Lampe
RELATED-TO:fmf-AFLABS-URNIK:srecanje:6504
X-WR-TIMEZONE:Europe/Ljubljana
END:VEVENT
BEGIN:VEVENT
SUMMARY:Programiranje 1 (APM-1)\, Vaje (V)\, [2]
DTSTART;TZID=Europe/Ljubljana:20211026T140000
DTEND;TZID=Europe/Ljubljana:20211026T160000
DTSTAMP:20260422T191514Z
UID:fmf-AFLABS-URNIK:premaknjeno-srecanje:86314
ATTENDEE:1. letnik (APM)
CATEGORIES:Entry,Standard
COLOR:darkgreen
DESCRIPTION:Predmet: Programiranje 1 (APM-1)\, Vaje (V)\, [2]\nLetniki: 1.
  letnik (APM)\nIzvajalci: Ajda Lampe\nProstor: 3.10
LOCATION:3.10
ORGANIZER:Ajda Lampe
RELATED-TO:fmf-AFLABS-URNIK:srecanje:6504
X-WR-TIMEZONE:Europe/Ljubljana
END:VEVENT
BEGIN:VEVENT
SUMMARY:Programiranje 1 (APM-1)\, Vaje (V)\, [2]
DTSTART;TZID=Europe/Ljubljana:20211102T140000
DTEND;TZID=Europe/Ljubljana:20211102T160000
DTSTAMP:20260422T191514Z
UID:fmf-AFLABS-URNIK:premaknjeno-srecanje:86315
ATTENDEE:1. letnik (APM)
CATEGORIES:Entry,Standard
COLOR:darkgreen
DESCRIPTION:Predmet: Programiranje 1 (APM-1)\, Vaje (V)\, [2]\nLetniki: 1.
  letnik (APM)\nIzvajalci: Ajda Lampe\nProstor: 3.10
LOCATION:3.10
ORGANIZER:Ajda Lampe
RELATED-TO:fmf-AFLABS-URNIK:srecanje:6504
X-WR-TIMEZONE:Europe/Ljubljana
END:VEVENT
BEGIN:VEVENT
SUMMARY:Programiranje 1 (APM-1)\, Vaje (V)\, [2]
DTSTART;TZID=Europe/Ljubljana:20211109T140000
DTEND;TZID=Europe/Ljubljana:20211109T160000
DTSTAMP:20260422T191514Z
UID:fmf-AFLABS-URNIK:premaknjeno-srecanje:86316
ATTENDEE:1. letnik (APM)
CATEGORIES:Entry,Standard
COLOR:darkgreen
DESCRIPTION:Predmet: Programiranje 1 (APM-1)\, Vaje (V)\, [2]\nLetniki: 1.
  letnik (APM)\nIzvajalci: Ajda Lampe\nProstor: 3.10
LOCATION:3.10
ORGANIZER:Ajda Lampe
RELATED-TO:fmf-AFLABS-URNIK:srecanje:6504
X-WR-TIMEZONE:Europe/Ljubljana
END:VEVENT
BEGIN:VEVENT
SUMMARY:Programiranje 1 (APM-1)\, Vaje (V)\, [2]
DTSTART;TZID=Europe/Ljubljana:20211116T140000
DTEND;TZID=Europe/Ljubljana:20211116T160000
DTSTAMP:20260422T191514Z
UID:fmf-AFLABS-URNIK:premaknjeno-srecanje:86317
ATTENDEE:1. letnik (APM)
CATEGORIES:Entry,Standard
COLOR:darkgreen
DESCRIPTION:Predmet: Programiranje 1 (APM-1)\, Vaje (V)\, [2]\nLetniki: 1.
  letnik (APM)\nIzvajalci: Ajda Lampe\nProstor: 3.10
LOCATION:3.10
ORGANIZER:Ajda Lampe
RELATED-TO:fmf-AFLABS-URNIK:srecanje:6504
X-WR-TIMEZONE:Europe/Ljubljana
END:VEVENT
BEGIN:VEVENT
SUMMARY:Programiranje 1 (APM-1)\, Vaje (V)\, [2]
DTSTART;TZID=Europe/Ljubljana:20211123T140000
DTEND;TZID=Europe/Ljubljana:20211123T160000
DTSTAMP:20260422T191514Z
UID:fmf-AFLABS-URNIK:premaknjeno-srecanje:86318
ATTENDEE:1. letnik (APM)
CATEGORIES:Entry,Standard
COLOR:darkgreen
DESCRIPTION:Predmet: Programiranje 1 (APM-1)\, Vaje (V)\, [2]\nLetniki: 1.
  letnik (APM)\nIzvajalci: Ajda Lampe\nProstor: 3.10
LOCATION:3.10
ORGANIZER:Ajda Lampe
RELATED-TO:fmf-AFLABS-URNIK:srecanje:6504
X-WR-TIMEZONE:Europe/Ljubljana
END:VEVENT
BEGIN:VEVENT
SUMMARY:Programiranje 1 (APM-1)\, Vaje (V)\, [2]
DTSTART;TZID=Europe/Ljubljana:20211130T140000
DTEND;TZID=Europe/Ljubljana:20211130T160000
DTSTAMP:20260422T191514Z
UID:fmf-AFLABS-URNIK:premaknjeno-srecanje:86319
ATTENDEE:1. letnik (APM)
CATEGORIES:Entry,Standard
COLOR:darkgreen
DESCRIPTION:Predmet: Programiranje 1 (APM-1)\, Vaje (V)\, [2]\nLetniki: 1.
  letnik (APM)\nIzvajalci: Ajda Lampe\nProstor: 3.10
LOCATION:3.10
ORGANIZER:Ajda Lampe
RELATED-TO:fmf-AFLABS-URNIK:srecanje:6504
X-WR-TIMEZONE:Europe/Ljubljana
END:VEVENT
BEGIN:VEVENT
SUMMARY:Programiranje 1 (APM-1)\, Vaje (V)\, [2]
DTSTART;TZID=Europe/Ljubljana:20211207T140000
DTEND;TZID=Europe/Ljubljana:20211207T160000
DTSTAMP:20260422T191514Z
UID:fmf-AFLABS-URNIK:premaknjeno-srecanje:86320
ATTENDEE:1. letnik (APM)
CATEGORIES:Entry,Standard
COLOR:darkgreen
DESCRIPTION:Predmet: Programiranje 1 (APM-1)\, Vaje (V)\, [2]\nLetniki: 1.
  letnik (APM)\nIzvajalci: Ajda Lampe\nProstor: 3.10
LOCATION:3.10
ORGANIZER:Ajda Lampe
RELATED-TO:fmf-AFLABS-URNIK:srecanje:6504
X-WR-TIMEZONE:Europe/Ljubljana
END:VEVENT
BEGIN:VEVENT
SUMMARY:Programiranje 1 (APM-1)\, Vaje (V)\, [2]
DTSTART;TZID=Europe/Ljubljana:20211214T140000
DTEND;TZID=Europe/Ljubljana:20211214T160000
DTSTAMP:20260422T191514Z
UID:fmf-AFLABS-URNIK:premaknjeno-srecanje:86321
ATTENDEE:1. letnik (APM)
CATEGORIES:Entry,Standard
COLOR:darkgreen
DESCRIPTION:Predmet: Programiranje 1 (APM-1)\, Vaje (V)\, [2]\nLetniki: 1.
  letnik (APM)\nIzvajalci: Ajda Lampe\nProstor: 3.10
LOCATION:3.10
ORGANIZER:Ajda Lampe
RELATED-TO:fmf-AFLABS-URNIK:srecanje:6504
X-WR-TIMEZONE:Europe/Ljubljana
END:VEVENT
BEGIN:VEVENT
SUMMARY:Programiranje 1 (APM-1)\, Vaje (V)\, [2]
DTSTART;TZID=Europe/Ljubljana:20211221T140000
DTEND;TZID=Europe/Ljubljana:20211221T160000
DTSTAMP:20260422T191514Z
UID:fmf-AFLABS-URNIK:premaknjeno-srecanje:86322
ATTENDEE:1. letnik (APM)
CATEGORIES:Entry,Standard
COLOR:darkgreen
DESCRIPTION:Predmet: Programiranje 1 (APM-1)\, Vaje (V)\, [2]\nLetniki: 1.
  letnik (APM)\nIzvajalci: Ajda Lampe\nProstor: 3.10
LOCATION:3.10
ORGANIZER:Ajda Lampe
RELATED-TO:fmf-AFLABS-URNIK:srecanje:6504
X-WR-TIMEZONE:Europe/Ljubljana
END:VEVENT
BEGIN:VEVENT
SUMMARY:Programiranje 1 (APM-1)\, Vaje (V)\, [2]
DTSTART;TZID=Europe/Ljubljana:20211228T140000
DTEND;TZID=Europe/Ljubljana:20211228T160000
DTSTAMP:20260422T191514Z
UID:fmf-AFLABS-URNIK:premaknjeno-srecanje:86323
ATTENDEE:1. letnik (APM)
CATEGORIES:Entry,Standard
COLOR:darkgreen
DESCRIPTION:Predmet: Programiranje 1 (APM-1)\, Vaje (V)\, [2]\nLetniki: 1.
  letnik (APM)\nIzvajalci: Ajda Lampe\nProstor: 3.10
LOCATION:3.10
ORGANIZER:Ajda Lampe
RELATED-TO:fmf-AFLABS-URNIK:srecanje:6504
X-WR-TIMEZONE:Europe/Ljubljana
END:VEVENT
BEGIN:VEVENT
SUMMARY:Programiranje 1 (APM-1)\, Vaje (V)\, [2]
DTSTART;TZID=Europe/Ljubljana:20220104T140000
DTEND;TZID=Europe/Ljubljana:20220104T160000
DTSTAMP:20260422T191514Z
UID:fmf-AFLABS-URNIK:premaknjeno-srecanje:86324
ATTENDEE:1. letnik (APM)
CATEGORIES:Entry,Standard
COLOR:darkgreen
DESCRIPTION:Predmet: Programiranje 1 (APM-1)\, Vaje (V)\, [2]\nLetniki: 1.
  letnik (APM)\nIzvajalci: Ajda Lampe\nProstor: 3.10
LOCATION:3.10
ORGANIZER:Ajda Lampe
RELATED-TO:fmf-AFLABS-URNIK:srecanje:6504
X-WR-TIMEZONE:Europe/Ljubljana
END:VEVENT
BEGIN:VEVENT
SUMMARY:Programiranje 1 (APM-1)\, Vaje (V)\, [2]
DTSTART;TZID=Europe/Ljubljana:20220111T140000
DTEND;TZID=Europe/Ljubljana:20220111T160000
DTSTAMP:20260422T191514Z
UID:fmf-AFLABS-URNIK:premaknjeno-srecanje:86325
ATTENDEE:1. letnik (APM)
CATEGORIES:Entry,Standard
COLOR:darkgreen
DESCRIPTION:Predmet: Programiranje 1 (APM-1)\, Vaje (V)\, [2]\nLetniki: 1.
  letnik (APM)\nIzvajalci: Ajda Lampe\nProstor: 3.10
LOCATION:3.10
ORGANIZER:Ajda Lampe
RELATED-TO:fmf-AFLABS-URNIK:srecanje:6504
X-WR-TIMEZONE:Europe/Ljubljana
END:VEVENT
BEGIN:VEVENT
SUMMARY:Računalništvo 1 (APM-3)\, Vaje (V)
DTSTART;TZID=Europe/Ljubljana:20211007T110000
DTEND;TZID=Europe/Ljubljana:20211007T140000
DTSTAMP:20260422T191514Z
UID:fmf-AFLABS-URNIK:premaknjeno-srecanje:95154
ATTENDEE:3. letnik (APM)
CATEGORIES:Entry,Standard
COLOR:darkgreen
DESCRIPTION:Predmet: Računalništvo 1 (APM-3)\, Vaje (V)\nLetniki: 3. let
 nik (APM)\nIzvajalci: Ajda Lampe\nProstor: 3.10
LOCATION:3.10
ORGANIZER:Ajda Lampe
RELATED-TO:fmf-AFLABS-URNIK:srecanje:6551
X-WR-TIMEZONE:Europe/Ljubljana
END:VEVENT
BEGIN:VEVENT
SUMMARY:Računalništvo 1 (APM-3)\, Vaje (V)
DTSTART;TZID=Europe/Ljubljana:20211014T110000
DTEND;TZID=Europe/Ljubljana:20211014T140000
DTSTAMP:20260422T191514Z
UID:fmf-AFLABS-URNIK:premaknjeno-srecanje:95155
ATTENDEE:3. letnik (APM)
CATEGORIES:Entry,Standard
COLOR:darkgreen
DESCRIPTION:Predmet: Računalništvo 1 (APM-3)\, Vaje (V)\nLetniki: 3. let
 nik (APM)\nIzvajalci: Ajda Lampe\nProstor: 3.10
LOCATION:3.10
ORGANIZER:Ajda Lampe
RELATED-TO:fmf-AFLABS-URNIK:srecanje:6551
X-WR-TIMEZONE:Europe/Ljubljana
END:VEVENT
BEGIN:VEVENT
SUMMARY:Računalništvo 1 (APM-3)\, Vaje (V)
DTSTART;TZID=Europe/Ljubljana:20211021T110000
DTEND;TZID=Europe/Ljubljana:20211021T140000
DTSTAMP:20260422T191514Z
UID:fmf-AFLABS-URNIK:premaknjeno-srecanje:95156
ATTENDEE:3. letnik (APM)
CATEGORIES:Entry,Standard
COLOR:darkgreen
DESCRIPTION:Predmet: Računalništvo 1 (APM-3)\, Vaje (V)\nLetniki: 3. let
 nik (APM)\nIzvajalci: Ajda Lampe\nProstor: 3.10
LOCATION:3.10
ORGANIZER:Ajda Lampe
RELATED-TO:fmf-AFLABS-URNIK:srecanje:6551
X-WR-TIMEZONE:Europe/Ljubljana
END:VEVENT
BEGIN:VEVENT
SUMMARY:Računalništvo 1 (APM-3)\, Vaje (V)
DTSTART;TZID=Europe/Ljubljana:20211028T110000
DTEND;TZID=Europe/Ljubljana:20211028T140000
DTSTAMP:20260422T191514Z
UID:fmf-AFLABS-URNIK:premaknjeno-srecanje:95157
ATTENDEE:3. letnik (APM)
CATEGORIES:Entry,Standard
COLOR:darkgreen
DESCRIPTION:Predmet: Računalništvo 1 (APM-3)\, Vaje (V)\nLetniki: 3. let
 nik (APM)\nIzvajalci: Ajda Lampe\nProstor: 3.10
LOCATION:3.10
ORGANIZER:Ajda Lampe
RELATED-TO:fmf-AFLABS-URNIK:srecanje:6551
X-WR-TIMEZONE:Europe/Ljubljana
END:VEVENT
BEGIN:VEVENT
SUMMARY:Računalništvo 1 (APM-3)\, Vaje (V)
DTSTART;TZID=Europe/Ljubljana:20211104T110000
DTEND;TZID=Europe/Ljubljana:20211104T140000
DTSTAMP:20260422T191514Z
UID:fmf-AFLABS-URNIK:premaknjeno-srecanje:95158
ATTENDEE:3. letnik (APM)
CATEGORIES:Entry,Standard
COLOR:darkgreen
DESCRIPTION:Predmet: Računalništvo 1 (APM-3)\, Vaje (V)\nLetniki: 3. let
 nik (APM)\nIzvajalci: Ajda Lampe\nProstor: 3.10
LOCATION:3.10
ORGANIZER:Ajda Lampe
RELATED-TO:fmf-AFLABS-URNIK:srecanje:6551
X-WR-TIMEZONE:Europe/Ljubljana
END:VEVENT
BEGIN:VEVENT
SUMMARY:Računalništvo 1 (APM-3)\, Vaje (V)
DTSTART;TZID=Europe/Ljubljana:20211111T110000
DTEND;TZID=Europe/Ljubljana:20211111T140000
DTSTAMP:20260422T191514Z
UID:fmf-AFLABS-URNIK:premaknjeno-srecanje:95159
ATTENDEE:3. letnik (APM)
CATEGORIES:Entry,Standard
COLOR:darkgreen
DESCRIPTION:Predmet: Računalništvo 1 (APM-3)\, Vaje (V)\nLetniki: 3. let
 nik (APM)\nIzvajalci: Ajda Lampe\nProstor: 3.10
LOCATION:3.10
ORGANIZER:Ajda Lampe
RELATED-TO:fmf-AFLABS-URNIK:srecanje:6551
X-WR-TIMEZONE:Europe/Ljubljana
END:VEVENT
BEGIN:VEVENT
SUMMARY:Računalništvo 1 (APM-3)\, Vaje (V)
DTSTART;TZID=Europe/Ljubljana:20211118T110000
DTEND;TZID=Europe/Ljubljana:20211118T140000
DTSTAMP:20260422T191514Z
UID:fmf-AFLABS-URNIK:premaknjeno-srecanje:95160
ATTENDEE:3. letnik (APM)
CATEGORIES:Entry,Standard
COLOR:darkgreen
DESCRIPTION:Predmet: Računalništvo 1 (APM-3)\, Vaje (V)\nLetniki: 3. let
 nik (APM)\nIzvajalci: Ajda Lampe\nProstor: 3.10
LOCATION:3.10
ORGANIZER:Ajda Lampe
RELATED-TO:fmf-AFLABS-URNIK:srecanje:6551
X-WR-TIMEZONE:Europe/Ljubljana
END:VEVENT
BEGIN:VEVENT
SUMMARY:Računalništvo 1 (APM-3)\, Vaje (V)
DTSTART;TZID=Europe/Ljubljana:20211125T110000
DTEND;TZID=Europe/Ljubljana:20211125T140000
DTSTAMP:20260422T191514Z
UID:fmf-AFLABS-URNIK:premaknjeno-srecanje:95161
ATTENDEE:3. letnik (APM)
CATEGORIES:Entry,Standard
COLOR:darkgreen
DESCRIPTION:Predmet: Računalništvo 1 (APM-3)\, Vaje (V)\nLetniki: 3. let
 nik (APM)\nIzvajalci: Ajda Lampe\nProstor: 3.10
LOCATION:3.10
ORGANIZER:Ajda Lampe
RELATED-TO:fmf-AFLABS-URNIK:srecanje:6551
X-WR-TIMEZONE:Europe/Ljubljana
END:VEVENT
BEGIN:VEVENT
SUMMARY:Računalništvo 1 (APM-3)\, Vaje (V)
DTSTART;TZID=Europe/Ljubljana:20211202T110000
DTEND;TZID=Europe/Ljubljana:20211202T140000
DTSTAMP:20260422T191514Z
UID:fmf-AFLABS-URNIK:premaknjeno-srecanje:95162
ATTENDEE:3. letnik (APM)
CATEGORIES:Entry,Standard
COLOR:darkgreen
DESCRIPTION:Predmet: Računalništvo 1 (APM-3)\, Vaje (V)\nLetniki: 3. let
 nik (APM)\nIzvajalci: Ajda Lampe\nProstor: 3.10
LOCATION:3.10
ORGANIZER:Ajda Lampe
RELATED-TO:fmf-AFLABS-URNIK:srecanje:6551
X-WR-TIMEZONE:Europe/Ljubljana
END:VEVENT
BEGIN:VEVENT
SUMMARY:Računalništvo 1 (APM-3)\, Vaje (V)
DTSTART;TZID=Europe/Ljubljana:20211209T110000
DTEND;TZID=Europe/Ljubljana:20211209T140000
DTSTAMP:20260422T191514Z
UID:fmf-AFLABS-URNIK:premaknjeno-srecanje:95163
ATTENDEE:3. letnik (APM)
CATEGORIES:Entry,Standard
COLOR:darkgreen
DESCRIPTION:Predmet: Računalništvo 1 (APM-3)\, Vaje (V)\nLetniki: 3. let
 nik (APM)\nIzvajalci: Ajda Lampe\nProstor: 3.10
LOCATION:3.10
ORGANIZER:Ajda Lampe
RELATED-TO:fmf-AFLABS-URNIK:srecanje:6551
X-WR-TIMEZONE:Europe/Ljubljana
END:VEVENT
BEGIN:VEVENT
SUMMARY:Računalništvo 1 (APM-3)\, Vaje (V)
DTSTART;TZID=Europe/Ljubljana:20211216T110000
DTEND;TZID=Europe/Ljubljana:20211216T140000
DTSTAMP:20260422T191514Z
UID:fmf-AFLABS-URNIK:premaknjeno-srecanje:95164
ATTENDEE:3. letnik (APM)
CATEGORIES:Entry,Standard
COLOR:darkgreen
DESCRIPTION:Predmet: Računalništvo 1 (APM-3)\, Vaje (V)\nLetniki: 3. let
 nik (APM)\nIzvajalci: Ajda Lampe\nProstor: 3.10
LOCATION:3.10
ORGANIZER:Ajda Lampe
RELATED-TO:fmf-AFLABS-URNIK:srecanje:6551
X-WR-TIMEZONE:Europe/Ljubljana
END:VEVENT
BEGIN:VEVENT
SUMMARY:Računalništvo 1 (APM-3)\, Vaje (V)
DTSTART;TZID=Europe/Ljubljana:20211223T110000
DTEND;TZID=Europe/Ljubljana:20211223T140000
DTSTAMP:20260422T191514Z
UID:fmf-AFLABS-URNIK:premaknjeno-srecanje:95165
ATTENDEE:3. letnik (APM)
CATEGORIES:Entry,Standard
COLOR:darkgreen
DESCRIPTION:Predmet: Računalništvo 1 (APM-3)\, Vaje (V)\nLetniki: 3. let
 nik (APM)\nIzvajalci: Ajda Lampe\nProstor: 3.10
LOCATION:3.10
ORGANIZER:Ajda Lampe
RELATED-TO:fmf-AFLABS-URNIK:srecanje:6551
X-WR-TIMEZONE:Europe/Ljubljana
END:VEVENT
BEGIN:VEVENT
SUMMARY:Računalništvo 1 (APM-3)\, Vaje (V)
DTSTART;TZID=Europe/Ljubljana:20211230T110000
DTEND;TZID=Europe/Ljubljana:20211230T140000
DTSTAMP:20260422T191514Z
UID:fmf-AFLABS-URNIK:premaknjeno-srecanje:95166
ATTENDEE:3. letnik (APM)
CATEGORIES:Entry,Standard
COLOR:darkgreen
DESCRIPTION:Predmet: Računalništvo 1 (APM-3)\, Vaje (V)\nLetniki: 3. let
 nik (APM)\nIzvajalci: Ajda Lampe\nProstor: 3.10
LOCATION:3.10
ORGANIZER:Ajda Lampe
RELATED-TO:fmf-AFLABS-URNIK:srecanje:6551
X-WR-TIMEZONE:Europe/Ljubljana
END:VEVENT
BEGIN:VEVENT
SUMMARY:Računalništvo 1 (APM-3)\, Vaje (V)
DTSTART;TZID=Europe/Ljubljana:20220106T110000
DTEND;TZID=Europe/Ljubljana:20220106T140000
DTSTAMP:20260422T191514Z
UID:fmf-AFLABS-URNIK:premaknjeno-srecanje:95167
ATTENDEE:3. letnik (APM)
CATEGORIES:Entry,Standard
COLOR:darkgreen
DESCRIPTION:Predmet: Računalništvo 1 (APM-3)\, Vaje (V)\nLetniki: 3. let
 nik (APM)\nIzvajalci: Ajda Lampe\nProstor: 3.10
LOCATION:3.10
ORGANIZER:Ajda Lampe
RELATED-TO:fmf-AFLABS-URNIK:srecanje:6551
X-WR-TIMEZONE:Europe/Ljubljana
END:VEVENT
BEGIN:VEVENT
SUMMARY:Računalništvo 1 (APM-3)\, Vaje (V)
DTSTART;TZID=Europe/Ljubljana:20220113T110000
DTEND;TZID=Europe/Ljubljana:20220113T140000
DTSTAMP:20260422T191514Z
UID:fmf-AFLABS-URNIK:premaknjeno-srecanje:95168
ATTENDEE:3. letnik (APM)
CATEGORIES:Entry,Standard
COLOR:darkgreen
DESCRIPTION:Predmet: Računalništvo 1 (APM-3)\, Vaje (V)\nLetniki: 3. let
 nik (APM)\nIzvajalci: Ajda Lampe\nProstor: 3.10
LOCATION:3.10
ORGANIZER:Ajda Lampe
RELATED-TO:fmf-AFLABS-URNIK:srecanje:6551
X-WR-TIMEZONE:Europe/Ljubljana
END:VEVENT
END:VCALENDAR
