BEGIN:VCALENDAR
VERSION:2.0
PRODID:-//AFLabs urnik izvoz - fmf//aflabs.si//SI
DTSTAMP:20260424T055147Z
NAME:UL FMF urnik
REFRESH-INTERVAL:PT1H
SOURCE:https://urnik.fmf.uni-lj.si/teacher/775?day=2021-05-24&export=1
URL:https://urnik.fmf.uni-lj.si/teacher/775?day=2021-05-24&export=1
X-PUBLISHED-TTL:PT1H
X-WR-CALNAME:UL FMF urnik
X-WR-TIMEZONE:Europe/Ljubljana
BEGIN:VTIMEZONE
TZID:Europe/Ljubljana
BEGIN:DAYLIGHT
DTSTART:20260329T020000
RDATE:20260329T020000
RDATE:20270328T020000
TZNAME:CEST
TZOFFSETFROM:+0100
TZOFFSETTO:+0200
END:DAYLIGHT
BEGIN:STANDARD
DTSTART:20261025T030000
RDATE:20261025T030000
RDATE:20271031T030000
TZNAME:CET
TZOFFSETFROM:+0200
TZOFFSETTO:+0100
END:STANDARD
END:VTIMEZONE
BEGIN:VEVENT
SUMMARY:Poučevanje matematike in fizike v angleškem jeziku (PEF-1\, PEF-
 2\, PM-4\, PM-5)\, Predavanja (P)
DTSTART;TZID=Europe/Ljubljana:20210217T170000
DTEND;TZID=Europe/Ljubljana:20210217T190000
DTSTAMP:20260424T055147Z
UID:fmf-AFLABS-URNIK:premaknjeno-srecanje:83791
ATTENDEE:1. letnik (Pedagoška fizika, 2. stopnja)
ATTENDEE:2. letnik (Pedagoška fizika, 2. stopnja)
ATTENDEE:4. letnik (PM)
ATTENDEE:5. letnik (PM)
CATEGORIES:Entry,Standard
COLOR:darkgreen
DESCRIPTION:Predmet: Poučevanje matematike in fizike v angleškem jeziku 
 (PEF-1\, PEF-2\, PM-4\, PM-5)\, Predavanja (P)\nLetniki: 1. letnik (Pedago
 ška fizika\, 2. stopnja)\, 2. letnik (Pedagoška fizika\, 2. stopnja)\, 4
 . letnik (PM)\, 5. letnik (PM)\nIzvajalci: Eugenia Etkina\, Gorazd Planin
 šič\, Alexander Keith Simpson\nProstor: 3.06
LOCATION:3.06
ORGANIZER:Eugenia Etkina, Gorazd Planinšič, Alexander Keith Simpson
RELATED-TO:fmf-AFLABS-URNIK:srecanje:5992
X-WR-TIMEZONE:Europe/Ljubljana
END:VEVENT
BEGIN:VEVENT
SUMMARY:Poučevanje matematike in fizike v angleškem jeziku (PEF-1\, PEF-
 2\, PM-4\, PM-5)\, Predavanja (P)
DTSTART;TZID=Europe/Ljubljana:20210224T170000
DTEND;TZID=Europe/Ljubljana:20210224T190000
DTSTAMP:20260424T055147Z
UID:fmf-AFLABS-URNIK:premaknjeno-srecanje:83792
ATTENDEE:1. letnik (Pedagoška fizika, 2. stopnja)
ATTENDEE:2. letnik (Pedagoška fizika, 2. stopnja)
ATTENDEE:4. letnik (PM)
ATTENDEE:5. letnik (PM)
CATEGORIES:Entry,Standard
COLOR:darkgreen
DESCRIPTION:Predmet: Poučevanje matematike in fizike v angleškem jeziku 
 (PEF-1\, PEF-2\, PM-4\, PM-5)\, Predavanja (P)\nLetniki: 1. letnik (Pedago
 ška fizika\, 2. stopnja)\, 2. letnik (Pedagoška fizika\, 2. stopnja)\, 4
 . letnik (PM)\, 5. letnik (PM)\nIzvajalci: Eugenia Etkina\, Gorazd Planin
 šič\, Alexander Keith Simpson\nProstor: 3.06
LOCATION:3.06
ORGANIZER:Eugenia Etkina, Gorazd Planinšič, Alexander Keith Simpson
RELATED-TO:fmf-AFLABS-URNIK:srecanje:5992
X-WR-TIMEZONE:Europe/Ljubljana
END:VEVENT
BEGIN:VEVENT
SUMMARY:Poučevanje matematike in fizike v angleškem jeziku (PEF-1\, PEF-
 2\, PM-4\, PM-5)\, Predavanja (P)
DTSTART;TZID=Europe/Ljubljana:20210303T170000
DTEND;TZID=Europe/Ljubljana:20210303T190000
DTSTAMP:20260424T055147Z
UID:fmf-AFLABS-URNIK:premaknjeno-srecanje:83793
ATTENDEE:1. letnik (Pedagoška fizika, 2. stopnja)
ATTENDEE:2. letnik (Pedagoška fizika, 2. stopnja)
ATTENDEE:4. letnik (PM)
ATTENDEE:5. letnik (PM)
CATEGORIES:Entry,Standard
COLOR:darkgreen
DESCRIPTION:Predmet: Poučevanje matematike in fizike v angleškem jeziku 
 (PEF-1\, PEF-2\, PM-4\, PM-5)\, Predavanja (P)\nLetniki: 1. letnik (Pedago
 ška fizika\, 2. stopnja)\, 2. letnik (Pedagoška fizika\, 2. stopnja)\, 4
 . letnik (PM)\, 5. letnik (PM)\nIzvajalci: Eugenia Etkina\, Gorazd Planin
 šič\, Alexander Keith Simpson\nProstor: 3.06
LOCATION:3.06
ORGANIZER:Eugenia Etkina, Gorazd Planinšič, Alexander Keith Simpson
RELATED-TO:fmf-AFLABS-URNIK:srecanje:5992
X-WR-TIMEZONE:Europe/Ljubljana
END:VEVENT
BEGIN:VEVENT
SUMMARY:Poučevanje matematike in fizike v angleškem jeziku (PEF-1\, PEF-
 2\, PM-4\, PM-5)\, Predavanja (P)
DTSTART;TZID=Europe/Ljubljana:20210310T170000
DTEND;TZID=Europe/Ljubljana:20210310T190000
DTSTAMP:20260424T055147Z
UID:fmf-AFLABS-URNIK:premaknjeno-srecanje:83794
ATTENDEE:1. letnik (Pedagoška fizika, 2. stopnja)
ATTENDEE:2. letnik (Pedagoška fizika, 2. stopnja)
ATTENDEE:4. letnik (PM)
ATTENDEE:5. letnik (PM)
CATEGORIES:Entry,Standard
COLOR:darkgreen
DESCRIPTION:Predmet: Poučevanje matematike in fizike v angleškem jeziku 
 (PEF-1\, PEF-2\, PM-4\, PM-5)\, Predavanja (P)\nLetniki: 1. letnik (Pedago
 ška fizika\, 2. stopnja)\, 2. letnik (Pedagoška fizika\, 2. stopnja)\, 4
 . letnik (PM)\, 5. letnik (PM)\nIzvajalci: Eugenia Etkina\, Gorazd Planin
 šič\, Alexander Keith Simpson\nProstor: 3.06
LOCATION:3.06
ORGANIZER:Eugenia Etkina, Gorazd Planinšič, Alexander Keith Simpson
RELATED-TO:fmf-AFLABS-URNIK:srecanje:5992
X-WR-TIMEZONE:Europe/Ljubljana
END:VEVENT
BEGIN:VEVENT
SUMMARY:Poučevanje matematike in fizike v angleškem jeziku (PEF-1\, PEF-
 2\, PM-4\, PM-5)\, Predavanja (P)
DTSTART;TZID=Europe/Ljubljana:20210317T170000
DTEND;TZID=Europe/Ljubljana:20210317T190000
DTSTAMP:20260424T055147Z
UID:fmf-AFLABS-URNIK:premaknjeno-srecanje:83795
ATTENDEE:1. letnik (Pedagoška fizika, 2. stopnja)
ATTENDEE:2. letnik (Pedagoška fizika, 2. stopnja)
ATTENDEE:4. letnik (PM)
ATTENDEE:5. letnik (PM)
CATEGORIES:Entry,Standard
COLOR:darkgreen
DESCRIPTION:Predmet: Poučevanje matematike in fizike v angleškem jeziku 
 (PEF-1\, PEF-2\, PM-4\, PM-5)\, Predavanja (P)\nLetniki: 1. letnik (Pedago
 ška fizika\, 2. stopnja)\, 2. letnik (Pedagoška fizika\, 2. stopnja)\, 4
 . letnik (PM)\, 5. letnik (PM)\nIzvajalci: Eugenia Etkina\, Gorazd Planin
 šič\, Alexander Keith Simpson\nProstor: 3.06
LOCATION:3.06
ORGANIZER:Eugenia Etkina, Gorazd Planinšič, Alexander Keith Simpson
RELATED-TO:fmf-AFLABS-URNIK:srecanje:5992
X-WR-TIMEZONE:Europe/Ljubljana
END:VEVENT
BEGIN:VEVENT
SUMMARY:Poučevanje matematike in fizike v angleškem jeziku (PEF-1\, PEF-
 2\, PM-4\, PM-5)\, Predavanja (P)
DTSTART;TZID=Europe/Ljubljana:20210324T170000
DTEND;TZID=Europe/Ljubljana:20210324T190000
DTSTAMP:20260424T055147Z
UID:fmf-AFLABS-URNIK:premaknjeno-srecanje:83796
ATTENDEE:1. letnik (Pedagoška fizika, 2. stopnja)
ATTENDEE:2. letnik (Pedagoška fizika, 2. stopnja)
ATTENDEE:4. letnik (PM)
ATTENDEE:5. letnik (PM)
CATEGORIES:Entry,Standard
COLOR:darkgreen
DESCRIPTION:Predmet: Poučevanje matematike in fizike v angleškem jeziku 
 (PEF-1\, PEF-2\, PM-4\, PM-5)\, Predavanja (P)\nLetniki: 1. letnik (Pedago
 ška fizika\, 2. stopnja)\, 2. letnik (Pedagoška fizika\, 2. stopnja)\, 4
 . letnik (PM)\, 5. letnik (PM)\nIzvajalci: Eugenia Etkina\, Gorazd Planin
 šič\, Alexander Keith Simpson\nProstor: 3.06
LOCATION:3.06
ORGANIZER:Eugenia Etkina, Gorazd Planinšič, Alexander Keith Simpson
RELATED-TO:fmf-AFLABS-URNIK:srecanje:5992
X-WR-TIMEZONE:Europe/Ljubljana
END:VEVENT
BEGIN:VEVENT
SUMMARY:Poučevanje matematike in fizike v angleškem jeziku (PEF-1\, PEF-
 2\, PM-4\, PM-5)\, Predavanja (P)
DTSTART;TZID=Europe/Ljubljana:20210331T170000
DTEND;TZID=Europe/Ljubljana:20210331T190000
DTSTAMP:20260424T055147Z
UID:fmf-AFLABS-URNIK:premaknjeno-srecanje:83797
ATTENDEE:1. letnik (Pedagoška fizika, 2. stopnja)
ATTENDEE:2. letnik (Pedagoška fizika, 2. stopnja)
ATTENDEE:4. letnik (PM)
ATTENDEE:5. letnik (PM)
CATEGORIES:Entry,Standard
COLOR:darkgreen
DESCRIPTION:Predmet: Poučevanje matematike in fizike v angleškem jeziku 
 (PEF-1\, PEF-2\, PM-4\, PM-5)\, Predavanja (P)\nLetniki: 1. letnik (Pedago
 ška fizika\, 2. stopnja)\, 2. letnik (Pedagoška fizika\, 2. stopnja)\, 4
 . letnik (PM)\, 5. letnik (PM)\nIzvajalci: Eugenia Etkina\, Gorazd Planin
 šič\, Alexander Keith Simpson\nProstor: 3.06
LOCATION:3.06
ORGANIZER:Eugenia Etkina, Gorazd Planinšič, Alexander Keith Simpson
RELATED-TO:fmf-AFLABS-URNIK:srecanje:5992
X-WR-TIMEZONE:Europe/Ljubljana
END:VEVENT
BEGIN:VEVENT
SUMMARY:Poučevanje matematike in fizike v angleškem jeziku (PEF-1\, PEF-
 2\, PM-4\, PM-5)\, Predavanja (P)
DTSTART;TZID=Europe/Ljubljana:20210407T170000
DTEND;TZID=Europe/Ljubljana:20210407T190000
DTSTAMP:20260424T055147Z
UID:fmf-AFLABS-URNIK:premaknjeno-srecanje:83798
ATTENDEE:1. letnik (Pedagoška fizika, 2. stopnja)
ATTENDEE:2. letnik (Pedagoška fizika, 2. stopnja)
ATTENDEE:4. letnik (PM)
ATTENDEE:5. letnik (PM)
CATEGORIES:Entry,Standard
COLOR:darkgreen
DESCRIPTION:Predmet: Poučevanje matematike in fizike v angleškem jeziku 
 (PEF-1\, PEF-2\, PM-4\, PM-5)\, Predavanja (P)\nLetniki: 1. letnik (Pedago
 ška fizika\, 2. stopnja)\, 2. letnik (Pedagoška fizika\, 2. stopnja)\, 4
 . letnik (PM)\, 5. letnik (PM)\nIzvajalci: Eugenia Etkina\, Gorazd Planin
 šič\, Alexander Keith Simpson\nProstor: 3.06
LOCATION:3.06
ORGANIZER:Eugenia Etkina, Gorazd Planinšič, Alexander Keith Simpson
RELATED-TO:fmf-AFLABS-URNIK:srecanje:5992
X-WR-TIMEZONE:Europe/Ljubljana
END:VEVENT
BEGIN:VEVENT
SUMMARY:Poučevanje matematike in fizike v angleškem jeziku (PEF-1\, PEF-
 2\, PM-4\, PM-5)\, Predavanja (P)
DTSTART;TZID=Europe/Ljubljana:20210414T170000
DTEND;TZID=Europe/Ljubljana:20210414T190000
DTSTAMP:20260424T055147Z
UID:fmf-AFLABS-URNIK:premaknjeno-srecanje:83799
ATTENDEE:1. letnik (Pedagoška fizika, 2. stopnja)
ATTENDEE:2. letnik (Pedagoška fizika, 2. stopnja)
ATTENDEE:4. letnik (PM)
ATTENDEE:5. letnik (PM)
CATEGORIES:Entry,Standard
COLOR:darkgreen
DESCRIPTION:Predmet: Poučevanje matematike in fizike v angleškem jeziku 
 (PEF-1\, PEF-2\, PM-4\, PM-5)\, Predavanja (P)\nLetniki: 1. letnik (Pedago
 ška fizika\, 2. stopnja)\, 2. letnik (Pedagoška fizika\, 2. stopnja)\, 4
 . letnik (PM)\, 5. letnik (PM)\nIzvajalci: Eugenia Etkina\, Gorazd Planin
 šič\, Alexander Keith Simpson\nProstor: 3.06
LOCATION:3.06
ORGANIZER:Eugenia Etkina, Gorazd Planinšič, Alexander Keith Simpson
RELATED-TO:fmf-AFLABS-URNIK:srecanje:5992
X-WR-TIMEZONE:Europe/Ljubljana
END:VEVENT
BEGIN:VEVENT
SUMMARY:Poučevanje matematike in fizike v angleškem jeziku (PEF-1\, PEF-
 2\, PM-4\, PM-5)\, Predavanja (P)
DTSTART;TZID=Europe/Ljubljana:20210421T170000
DTEND;TZID=Europe/Ljubljana:20210421T190000
DTSTAMP:20260424T055147Z
UID:fmf-AFLABS-URNIK:premaknjeno-srecanje:83800
ATTENDEE:1. letnik (Pedagoška fizika, 2. stopnja)
ATTENDEE:2. letnik (Pedagoška fizika, 2. stopnja)
ATTENDEE:4. letnik (PM)
ATTENDEE:5. letnik (PM)
CATEGORIES:Entry,Standard
COLOR:darkgreen
DESCRIPTION:Predmet: Poučevanje matematike in fizike v angleškem jeziku 
 (PEF-1\, PEF-2\, PM-4\, PM-5)\, Predavanja (P)\nLetniki: 1. letnik (Pedago
 ška fizika\, 2. stopnja)\, 2. letnik (Pedagoška fizika\, 2. stopnja)\, 4
 . letnik (PM)\, 5. letnik (PM)\nIzvajalci: Eugenia Etkina\, Gorazd Planin
 šič\, Alexander Keith Simpson\nProstor: 3.06
LOCATION:3.06
ORGANIZER:Eugenia Etkina, Gorazd Planinšič, Alexander Keith Simpson
RELATED-TO:fmf-AFLABS-URNIK:srecanje:5992
X-WR-TIMEZONE:Europe/Ljubljana
END:VEVENT
BEGIN:VEVENT
SUMMARY:Poučevanje matematike in fizike v angleškem jeziku (PEF-1\, PEF-
 2\, PM-4\, PM-5)\, Predavanja (P)
DTSTART;TZID=Europe/Ljubljana:20210428T170000
DTEND;TZID=Europe/Ljubljana:20210428T190000
DTSTAMP:20260424T055147Z
UID:fmf-AFLABS-URNIK:premaknjeno-srecanje:83801
ATTENDEE:1. letnik (Pedagoška fizika, 2. stopnja)
ATTENDEE:2. letnik (Pedagoška fizika, 2. stopnja)
ATTENDEE:4. letnik (PM)
ATTENDEE:5. letnik (PM)
CATEGORIES:Entry,Standard
COLOR:darkgreen
DESCRIPTION:Predmet: Poučevanje matematike in fizike v angleškem jeziku 
 (PEF-1\, PEF-2\, PM-4\, PM-5)\, Predavanja (P)\nLetniki: 1. letnik (Pedago
 ška fizika\, 2. stopnja)\, 2. letnik (Pedagoška fizika\, 2. stopnja)\, 4
 . letnik (PM)\, 5. letnik (PM)\nIzvajalci: Eugenia Etkina\, Gorazd Planin
 šič\, Alexander Keith Simpson\nProstor: 3.06
LOCATION:3.06
ORGANIZER:Eugenia Etkina, Gorazd Planinšič, Alexander Keith Simpson
RELATED-TO:fmf-AFLABS-URNIK:srecanje:5992
X-WR-TIMEZONE:Europe/Ljubljana
END:VEVENT
BEGIN:VEVENT
SUMMARY:Poučevanje matematike in fizike v angleškem jeziku (PEF-1\, PEF-
 2\, PM-4\, PM-5)\, Predavanja (P)
DTSTART;TZID=Europe/Ljubljana:20210505T170000
DTEND;TZID=Europe/Ljubljana:20210505T190000
DTSTAMP:20260424T055147Z
UID:fmf-AFLABS-URNIK:premaknjeno-srecanje:83802
ATTENDEE:1. letnik (Pedagoška fizika, 2. stopnja)
ATTENDEE:2. letnik (Pedagoška fizika, 2. stopnja)
ATTENDEE:4. letnik (PM)
ATTENDEE:5. letnik (PM)
CATEGORIES:Entry,Standard
COLOR:darkgreen
DESCRIPTION:Predmet: Poučevanje matematike in fizike v angleškem jeziku 
 (PEF-1\, PEF-2\, PM-4\, PM-5)\, Predavanja (P)\nLetniki: 1. letnik (Pedago
 ška fizika\, 2. stopnja)\, 2. letnik (Pedagoška fizika\, 2. stopnja)\, 4
 . letnik (PM)\, 5. letnik (PM)\nIzvajalci: Eugenia Etkina\, Gorazd Planin
 šič\, Alexander Keith Simpson\nProstor: 3.06
LOCATION:3.06
ORGANIZER:Eugenia Etkina, Gorazd Planinšič, Alexander Keith Simpson
RELATED-TO:fmf-AFLABS-URNIK:srecanje:5992
X-WR-TIMEZONE:Europe/Ljubljana
END:VEVENT
BEGIN:VEVENT
SUMMARY:Poučevanje matematike in fizike v angleškem jeziku (PEF-1\, PEF-
 2\, PM-4\, PM-5)\, Predavanja (P)
DTSTART;TZID=Europe/Ljubljana:20210512T170000
DTEND;TZID=Europe/Ljubljana:20210512T190000
DTSTAMP:20260424T055147Z
UID:fmf-AFLABS-URNIK:premaknjeno-srecanje:83803
ATTENDEE:1. letnik (Pedagoška fizika, 2. stopnja)
ATTENDEE:2. letnik (Pedagoška fizika, 2. stopnja)
ATTENDEE:4. letnik (PM)
ATTENDEE:5. letnik (PM)
CATEGORIES:Entry,Standard
COLOR:darkgreen
DESCRIPTION:Predmet: Poučevanje matematike in fizike v angleškem jeziku 
 (PEF-1\, PEF-2\, PM-4\, PM-5)\, Predavanja (P)\nLetniki: 1. letnik (Pedago
 ška fizika\, 2. stopnja)\, 2. letnik (Pedagoška fizika\, 2. stopnja)\, 4
 . letnik (PM)\, 5. letnik (PM)\nIzvajalci: Eugenia Etkina\, Gorazd Planin
 šič\, Alexander Keith Simpson\nProstor: 3.06
LOCATION:3.06
ORGANIZER:Eugenia Etkina, Gorazd Planinšič, Alexander Keith Simpson
RELATED-TO:fmf-AFLABS-URNIK:srecanje:5992
X-WR-TIMEZONE:Europe/Ljubljana
END:VEVENT
BEGIN:VEVENT
SUMMARY:Poučevanje matematike in fizike v angleškem jeziku (PEF-1\, PEF-
 2\, PM-4\, PM-5)\, Predavanja (P)
DTSTART;TZID=Europe/Ljubljana:20210519T170000
DTEND;TZID=Europe/Ljubljana:20210519T190000
DTSTAMP:20260424T055147Z
UID:fmf-AFLABS-URNIK:premaknjeno-srecanje:83804
ATTENDEE:1. letnik (Pedagoška fizika, 2. stopnja)
ATTENDEE:2. letnik (Pedagoška fizika, 2. stopnja)
ATTENDEE:4. letnik (PM)
ATTENDEE:5. letnik (PM)
CATEGORIES:Entry,Standard
COLOR:darkgreen
DESCRIPTION:Predmet: Poučevanje matematike in fizike v angleškem jeziku 
 (PEF-1\, PEF-2\, PM-4\, PM-5)\, Predavanja (P)\nLetniki: 1. letnik (Pedago
 ška fizika\, 2. stopnja)\, 2. letnik (Pedagoška fizika\, 2. stopnja)\, 4
 . letnik (PM)\, 5. letnik (PM)\nIzvajalci: Eugenia Etkina\, Gorazd Planin
 šič\, Alexander Keith Simpson\nProstor: 3.06
LOCATION:3.06
ORGANIZER:Eugenia Etkina, Gorazd Planinšič, Alexander Keith Simpson
RELATED-TO:fmf-AFLABS-URNIK:srecanje:5992
X-WR-TIMEZONE:Europe/Ljubljana
END:VEVENT
BEGIN:VEVENT
SUMMARY:Poučevanje matematike in fizike v angleškem jeziku (PEF-1\, PEF-
 2\, PM-4\, PM-5)\, Predavanja (P)
DTSTART;TZID=Europe/Ljubljana:20210526T170000
DTEND;TZID=Europe/Ljubljana:20210526T190000
DTSTAMP:20260424T055147Z
UID:fmf-AFLABS-URNIK:premaknjeno-srecanje:83805
ATTENDEE:1. letnik (Pedagoška fizika, 2. stopnja)
ATTENDEE:2. letnik (Pedagoška fizika, 2. stopnja)
ATTENDEE:4. letnik (PM)
ATTENDEE:5. letnik (PM)
CATEGORIES:Entry,Standard
COLOR:darkgreen
DESCRIPTION:Predmet: Poučevanje matematike in fizike v angleškem jeziku 
 (PEF-1\, PEF-2\, PM-4\, PM-5)\, Predavanja (P)\nLetniki: 1. letnik (Pedago
 ška fizika\, 2. stopnja)\, 2. letnik (Pedagoška fizika\, 2. stopnja)\, 4
 . letnik (PM)\, 5. letnik (PM)\nIzvajalci: Eugenia Etkina\, Gorazd Planin
 šič\, Alexander Keith Simpson\nProstor: 3.06
LOCATION:3.06
ORGANIZER:Eugenia Etkina, Gorazd Planinšič, Alexander Keith Simpson
RELATED-TO:fmf-AFLABS-URNIK:srecanje:5992
X-WR-TIMEZONE:Europe/Ljubljana
END:VEVENT
END:VCALENDAR
