BEGIN:VCALENDAR
VERSION:2.0
PRODID:-//AFLabs urnik izvoz - fmf//aflabs.si//SI
DTSTAMP:20260423T064649Z
NAME:UL FMF urnik
REFRESH-INTERVAL:PT1H
SOURCE:https://urnik.fmf.uni-lj.si/teacher/776?day=2024-01-01&export=1
URL:https://urnik.fmf.uni-lj.si/teacher/776?day=2024-01-01&export=1
X-PUBLISHED-TTL:PT1H
X-WR-CALNAME:UL FMF urnik
X-WR-TIMEZONE:Europe/Ljubljana
BEGIN:VTIMEZONE
TZID:Europe/Ljubljana
BEGIN:DAYLIGHT
DTSTART:20260329T020000
RDATE:20260329T020000
RDATE:20270328T020000
TZNAME:CEST
TZOFFSETFROM:+0100
TZOFFSETTO:+0200
END:DAYLIGHT
BEGIN:STANDARD
DTSTART:20261025T030000
RDATE:20261025T030000
RDATE:20271031T030000
TZNAME:CET
TZOFFSETFROM:+0200
TZOFFSETTO:+0100
END:STANDARD
END:VTIMEZONE
BEGIN:VEVENT
SUMMARY:Fizika (FFA - EM Farmacija) ()\, Vaje (V)\, [2]
DTSTART;TZID=Europe/Ljubljana:20231002T080000
DTEND;TZID=Europe/Ljubljana:20231002T100000
DTSTAMP:20260423T064649Z
UID:fmf-AFLABS-URNIK:premaknjeno-srecanje:23126
CATEGORIES:Entry,Standard
COLOR:darkgreen
DESCRIPTION:Predmet: Fizika (FFA - EM Farmacija) ()\, Vaje (V)\, [2]\nLetn
 iki: \nIzvajalci: Denis Golež\nProstor: MFP
LOCATION:MFP
ORGANIZER:Denis Golež
RELATED-TO:fmf-AFLABS-URNIK:srecanje:9595
X-WR-TIMEZONE:Europe/Ljubljana
END:VEVENT
BEGIN:VEVENT
SUMMARY:Fizika (FFA - EM Farmacija) ()\, Vaje (V)\, [2]
DTSTART;TZID=Europe/Ljubljana:20231009T080000
DTEND;TZID=Europe/Ljubljana:20231009T100000
DTSTAMP:20260423T064649Z
UID:fmf-AFLABS-URNIK:premaknjeno-srecanje:23127
CATEGORIES:Entry,Standard
COLOR:darkgreen
DESCRIPTION:Predmet: Fizika (FFA - EM Farmacija) ()\, Vaje (V)\, [2]\nLetn
 iki: \nIzvajalci: Denis Golež\nProstor: MFP
LOCATION:MFP
ORGANIZER:Denis Golež
RELATED-TO:fmf-AFLABS-URNIK:srecanje:9595
X-WR-TIMEZONE:Europe/Ljubljana
END:VEVENT
BEGIN:VEVENT
SUMMARY:Fizika (FFA - EM Farmacija) ()\, Vaje (V)\, [2]
DTSTART;TZID=Europe/Ljubljana:20231016T080000
DTEND;TZID=Europe/Ljubljana:20231016T100000
DTSTAMP:20260423T064649Z
UID:fmf-AFLABS-URNIK:premaknjeno-srecanje:23128
CATEGORIES:Entry,Standard
COLOR:darkgreen
DESCRIPTION:Predmet: Fizika (FFA - EM Farmacija) ()\, Vaje (V)\, [2]\nLetn
 iki: \nIzvajalci: Denis Golež\nProstor: MFP
LOCATION:MFP
ORGANIZER:Denis Golež
RELATED-TO:fmf-AFLABS-URNIK:srecanje:9595
X-WR-TIMEZONE:Europe/Ljubljana
END:VEVENT
BEGIN:VEVENT
SUMMARY:Fizika (FFA - EM Farmacija) ()\, Vaje (V)\, [2]
DTSTART;TZID=Europe/Ljubljana:20231023T080000
DTEND;TZID=Europe/Ljubljana:20231023T100000
DTSTAMP:20260423T064649Z
UID:fmf-AFLABS-URNIK:premaknjeno-srecanje:23129
CATEGORIES:Entry,Standard
COLOR:darkgreen
DESCRIPTION:Predmet: Fizika (FFA - EM Farmacija) ()\, Vaje (V)\, [2]\nLetn
 iki: \nIzvajalci: Denis Golež\nProstor: MFP
LOCATION:MFP
ORGANIZER:Denis Golež
RELATED-TO:fmf-AFLABS-URNIK:srecanje:9595
X-WR-TIMEZONE:Europe/Ljubljana
END:VEVENT
BEGIN:VEVENT
SUMMARY:Fizika (FFA - EM Farmacija) ()\, Vaje (V)\, [2]
DTSTART;TZID=Europe/Ljubljana:20231030T080000
DTEND;TZID=Europe/Ljubljana:20231030T100000
DTSTAMP:20260423T064649Z
UID:fmf-AFLABS-URNIK:premaknjeno-srecanje:23130
CATEGORIES:Entry,Standard
COLOR:darkgreen
DESCRIPTION:Predmet: Fizika (FFA - EM Farmacija) ()\, Vaje (V)\, [2]\nLetn
 iki: \nIzvajalci: Denis Golež\nProstor: MFP
LOCATION:MFP
ORGANIZER:Denis Golež
RELATED-TO:fmf-AFLABS-URNIK:srecanje:9595
X-WR-TIMEZONE:Europe/Ljubljana
END:VEVENT
BEGIN:VEVENT
SUMMARY:Fizika (FFA - EM Farmacija) ()\, Vaje (V)\, [2]
DTSTART;TZID=Europe/Ljubljana:20231106T080000
DTEND;TZID=Europe/Ljubljana:20231106T100000
DTSTAMP:20260423T064649Z
UID:fmf-AFLABS-URNIK:premaknjeno-srecanje:23131
CATEGORIES:Entry,Standard
COLOR:darkgreen
DESCRIPTION:Predmet: Fizika (FFA - EM Farmacija) ()\, Vaje (V)\, [2]\nLetn
 iki: \nIzvajalci: Denis Golež\nProstor: MFP
LOCATION:MFP
ORGANIZER:Denis Golež
RELATED-TO:fmf-AFLABS-URNIK:srecanje:9595
X-WR-TIMEZONE:Europe/Ljubljana
END:VEVENT
BEGIN:VEVENT
SUMMARY:Fizika (FFA - EM Farmacija) ()\, Vaje (V)\, [2]
DTSTART;TZID=Europe/Ljubljana:20231113T080000
DTEND;TZID=Europe/Ljubljana:20231113T100000
DTSTAMP:20260423T064649Z
UID:fmf-AFLABS-URNIK:premaknjeno-srecanje:23132
CATEGORIES:Entry,Standard
COLOR:darkgreen
DESCRIPTION:Predmet: Fizika (FFA - EM Farmacija) ()\, Vaje (V)\, [2]\nLetn
 iki: \nIzvajalci: Denis Golež\nProstor: MFP
LOCATION:MFP
ORGANIZER:Denis Golež
RELATED-TO:fmf-AFLABS-URNIK:srecanje:9595
X-WR-TIMEZONE:Europe/Ljubljana
END:VEVENT
BEGIN:VEVENT
SUMMARY:Fizika (FFA - EM Farmacija) ()\, Vaje (V)\, [2]
DTSTART;TZID=Europe/Ljubljana:20231120T080000
DTEND;TZID=Europe/Ljubljana:20231120T100000
DTSTAMP:20260423T064649Z
UID:fmf-AFLABS-URNIK:premaknjeno-srecanje:23133
CATEGORIES:Entry,Standard
COLOR:darkgreen
DESCRIPTION:Predmet: Fizika (FFA - EM Farmacija) ()\, Vaje (V)\, [2]\nLetn
 iki: \nIzvajalci: Denis Golež\nProstor: MFP
LOCATION:MFP
ORGANIZER:Denis Golež
RELATED-TO:fmf-AFLABS-URNIK:srecanje:9595
X-WR-TIMEZONE:Europe/Ljubljana
END:VEVENT
BEGIN:VEVENT
SUMMARY:Fizika (FFA - EM Farmacija) ()\, Vaje (V)\, [2]
DTSTART;TZID=Europe/Ljubljana:20231127T080000
DTEND;TZID=Europe/Ljubljana:20231127T100000
DTSTAMP:20260423T064649Z
UID:fmf-AFLABS-URNIK:premaknjeno-srecanje:23134
CATEGORIES:Entry,Standard
COLOR:darkgreen
DESCRIPTION:Predmet: Fizika (FFA - EM Farmacija) ()\, Vaje (V)\, [2]\nLetn
 iki: \nIzvajalci: Denis Golež\nProstor: MFP
LOCATION:MFP
ORGANIZER:Denis Golež
RELATED-TO:fmf-AFLABS-URNIK:srecanje:9595
X-WR-TIMEZONE:Europe/Ljubljana
END:VEVENT
BEGIN:VEVENT
SUMMARY:Fizika (FFA - EM Farmacija) ()\, Vaje (V)\, [2]
DTSTART;TZID=Europe/Ljubljana:20231204T080000
DTEND;TZID=Europe/Ljubljana:20231204T100000
DTSTAMP:20260423T064649Z
UID:fmf-AFLABS-URNIK:premaknjeno-srecanje:23135
CATEGORIES:Entry,Standard
COLOR:darkgreen
DESCRIPTION:Predmet: Fizika (FFA - EM Farmacija) ()\, Vaje (V)\, [2]\nLetn
 iki: \nIzvajalci: Denis Golež\nProstor: MFP
LOCATION:MFP
ORGANIZER:Denis Golež
RELATED-TO:fmf-AFLABS-URNIK:srecanje:9595
X-WR-TIMEZONE:Europe/Ljubljana
END:VEVENT
BEGIN:VEVENT
SUMMARY:Fizika (FFA - EM Farmacija) ()\, Vaje (V)\, [2]
DTSTART;TZID=Europe/Ljubljana:20231211T080000
DTEND;TZID=Europe/Ljubljana:20231211T100000
DTSTAMP:20260423T064649Z
UID:fmf-AFLABS-URNIK:premaknjeno-srecanje:23136
CATEGORIES:Entry,Standard
COLOR:darkgreen
DESCRIPTION:Predmet: Fizika (FFA - EM Farmacija) ()\, Vaje (V)\, [2]\nLetn
 iki: \nIzvajalci: Denis Golež\nProstor: MFP
LOCATION:MFP
ORGANIZER:Denis Golež
RELATED-TO:fmf-AFLABS-URNIK:srecanje:9595
X-WR-TIMEZONE:Europe/Ljubljana
END:VEVENT
BEGIN:VEVENT
SUMMARY:Fizika (FFA - EM Farmacija) ()\, Vaje (V)\, [2]
DTSTART;TZID=Europe/Ljubljana:20231218T080000
DTEND;TZID=Europe/Ljubljana:20231218T100000
DTSTAMP:20260423T064649Z
UID:fmf-AFLABS-URNIK:premaknjeno-srecanje:23137
CATEGORIES:Entry,Standard
COLOR:darkgreen
DESCRIPTION:Predmet: Fizika (FFA - EM Farmacija) ()\, Vaje (V)\, [2]\nLetn
 iki: \nIzvajalci: Denis Golež\nProstor: MFP
LOCATION:MFP
ORGANIZER:Denis Golež
RELATED-TO:fmf-AFLABS-URNIK:srecanje:9595
X-WR-TIMEZONE:Europe/Ljubljana
END:VEVENT
BEGIN:VEVENT
SUMMARY:Fizika (FFA - EM Farmacija) ()\, Vaje (V)\, [2]
DTSTART;TZID=Europe/Ljubljana:20231225T080000
DTEND;TZID=Europe/Ljubljana:20231225T100000
DTSTAMP:20260423T064649Z
UID:fmf-AFLABS-URNIK:premaknjeno-srecanje:23138
CATEGORIES:Entry,Standard
COLOR:darkgreen
DESCRIPTION:Predmet: Fizika (FFA - EM Farmacija) ()\, Vaje (V)\, [2]\nLetn
 iki: \nIzvajalci: Denis Golež\nProstor: MFP
LOCATION:MFP
ORGANIZER:Denis Golež
RELATED-TO:fmf-AFLABS-URNIK:srecanje:9595
X-WR-TIMEZONE:Europe/Ljubljana
END:VEVENT
BEGIN:VEVENT
SUMMARY:Fizika (FFA - EM Farmacija) ()\, Vaje (V)\, [2]
DTSTART;TZID=Europe/Ljubljana:20240101T080000
DTEND;TZID=Europe/Ljubljana:20240101T100000
DTSTAMP:20260423T064649Z
UID:fmf-AFLABS-URNIK:premaknjeno-srecanje:23139
CATEGORIES:Entry,Standard
COLOR:darkgreen
DESCRIPTION:Predmet: Fizika (FFA - EM Farmacija) ()\, Vaje (V)\, [2]\nLetn
 iki: \nIzvajalci: Denis Golež\nProstor: MFP
LOCATION:MFP
ORGANIZER:Denis Golež
RELATED-TO:fmf-AFLABS-URNIK:srecanje:9595
X-WR-TIMEZONE:Europe/Ljubljana
END:VEVENT
BEGIN:VEVENT
SUMMARY:Fizika (FFA - EM Farmacija) ()\, Vaje (V)\, [2]
DTSTART;TZID=Europe/Ljubljana:20240108T080000
DTEND;TZID=Europe/Ljubljana:20240108T100000
DTSTAMP:20260423T064649Z
UID:fmf-AFLABS-URNIK:premaknjeno-srecanje:23140
CATEGORIES:Entry,Standard
COLOR:darkgreen
DESCRIPTION:Predmet: Fizika (FFA - EM Farmacija) ()\, Vaje (V)\, [2]\nLetn
 iki: \nIzvajalci: Denis Golež\nProstor: MFP
LOCATION:MFP
ORGANIZER:Denis Golež
RELATED-TO:fmf-AFLABS-URNIK:srecanje:9595
X-WR-TIMEZONE:Europe/Ljubljana
END:VEVENT
BEGIN:VEVENT
SUMMARY:Fizika (FFA - EM Farmacija) ()\, Vaje (V)\, [2]
DTSTART;TZID=Europe/Ljubljana:20240115T080000
DTEND;TZID=Europe/Ljubljana:20240115T100000
DTSTAMP:20260423T064649Z
UID:fmf-AFLABS-URNIK:premaknjeno-srecanje:23141
CATEGORIES:Entry,Standard
COLOR:darkgreen
DESCRIPTION:Predmet: Fizika (FFA - EM Farmacija) ()\, Vaje (V)\, [2]\nLetn
 iki: \nIzvajalci: Denis Golež\nProstor: MFP
LOCATION:MFP
ORGANIZER:Denis Golež
RELATED-TO:fmf-AFLABS-URNIK:srecanje:9595
X-WR-TIMEZONE:Europe/Ljubljana
END:VEVENT
BEGIN:VEVENT
SUMMARY:Fizika (FFA - EM Farmacija) ()\, Vaje (V)\, [2]
DTSTART;TZID=Europe/Ljubljana:20240122T080000
DTEND;TZID=Europe/Ljubljana:20240122T100000
DTSTAMP:20260423T064649Z
UID:fmf-AFLABS-URNIK:premaknjeno-srecanje:23142
CATEGORIES:Entry,Standard
COLOR:darkgreen
DESCRIPTION:Predmet: Fizika (FFA - EM Farmacija) ()\, Vaje (V)\, [2]\nLetn
 iki: \nIzvajalci: Denis Golež\nProstor: MFP
LOCATION:MFP
ORGANIZER:Denis Golež
RELATED-TO:fmf-AFLABS-URNIK:srecanje:9595
X-WR-TIMEZONE:Europe/Ljubljana
END:VEVENT
BEGIN:VEVENT
SUMMARY:Rezervacija
DTSTART;TZID=Europe/Ljubljana:20231207T160000
DTEND;TZID=Europe/Ljubljana:20231207T180000
DTSTAMP:20260423T064649Z
UID:fmf-AFLABS-URNIK:rezervacija:13734
CATEGORIES:Reservation
COLOR:royalblue
DESCRIPTION:Predmeti: \nLetniki: \nIzvajalci: Denis Golež\nProstori: F3
LOCATION:F3
ORGANIZER:Denis Golež
X-WR-TIMEZONE:Europe/Ljubljana
END:VEVENT
BEGIN:VEVENT
SUMMARY:Vpogled kolokvija ffa
DTSTART;TZID=Europe/Ljubljana:20240109T110000
DTEND;TZID=Europe/Ljubljana:20240109T120000
DTSTAMP:20260423T064649Z
UID:fmf-AFLABS-URNIK:rezervacija:14334
CATEGORIES:Reservation
COLOR:royalblue
DESCRIPTION:Predmeti: \nLetniki: \nIzvajalci: Denis Golež\nProstori: P.02
LOCATION:P.02
ORGANIZER:Denis Golež
X-WR-TIMEZONE:Europe/Ljubljana
END:VEVENT
END:VCALENDAR
