BEGIN:VCALENDAR
VERSION:2.0
PRODID:-//AFLabs urnik izvoz - fmf//aflabs.si//SI
DTSTAMP:20260425T232746Z
NAME:UL FMF urnik
REFRESH-INTERVAL:PT1H
SOURCE:https://urnik.fmf.uni-lj.si/teacher/776?day=2025-02-10&export=1
URL:https://urnik.fmf.uni-lj.si/teacher/776?day=2025-02-10&export=1
X-PUBLISHED-TTL:PT1H
X-WR-CALNAME:UL FMF urnik
X-WR-TIMEZONE:Europe/Ljubljana
BEGIN:VTIMEZONE
TZID:Europe/Ljubljana
BEGIN:DAYLIGHT
DTSTART:20260329T020000
RDATE:20260329T020000
RDATE:20270328T020000
TZNAME:CEST
TZOFFSETFROM:+0100
TZOFFSETTO:+0200
END:DAYLIGHT
BEGIN:STANDARD
DTSTART:20261025T030000
RDATE:20261025T030000
RDATE:20271031T030000
TZNAME:CET
TZOFFSETFROM:+0200
TZOFFSETTO:+0100
END:STANDARD
END:VTIMEZONE
BEGIN:VEVENT
SUMMARY:Teorija trdne snovi (FIZ-M1\, FIZ-M2)\, Predavanja (P)
DTSTART;TZID=Europe/Ljubljana:20250218T080000
DTEND;TZID=Europe/Ljubljana:20250218T100000
DTSTAMP:20260425T232746Z
UID:fmf-AFLABS-URNIK:premaknjeno-srecanje:211582
ATTENDEE:1. letnik (Fizika, 2. stopnja)
ATTENDEE:2. letnik (Fizika, 2. stopnja)
CATEGORIES:Entry,Standard
COLOR:darkgreen
DESCRIPTION:Predmet: Teorija trdne snovi (FIZ-M1\, FIZ-M2)\, Predavanja (P
 )\nLetniki: 1. letnik (Fizika\, 2. stopnja)\, 2. letnik (Fizika\, 2. stopn
 ja)\nIzvajalci: Denis Golež\nProstor: F5
LOCATION:F5
ORGANIZER:Denis Golež
RELATED-TO:fmf-AFLABS-URNIK:srecanje:15208
X-WR-TIMEZONE:Europe/Ljubljana
END:VEVENT
BEGIN:VEVENT
SUMMARY:Teorija trdne snovi (FIZ-M1\, FIZ-M2)\, Predavanja (P)
DTSTART;TZID=Europe/Ljubljana:20250225T080000
DTEND;TZID=Europe/Ljubljana:20250225T100000
DTSTAMP:20260425T232746Z
UID:fmf-AFLABS-URNIK:premaknjeno-srecanje:211583
ATTENDEE:1. letnik (Fizika, 2. stopnja)
ATTENDEE:2. letnik (Fizika, 2. stopnja)
CATEGORIES:Entry,Standard
COLOR:darkgreen
DESCRIPTION:Predmet: Teorija trdne snovi (FIZ-M1\, FIZ-M2)\, Predavanja (P
 )\nLetniki: 1. letnik (Fizika\, 2. stopnja)\, 2. letnik (Fizika\, 2. stopn
 ja)\nIzvajalci: Denis Golež\nProstor: F5
LOCATION:F5
ORGANIZER:Denis Golež
RELATED-TO:fmf-AFLABS-URNIK:srecanje:15208
X-WR-TIMEZONE:Europe/Ljubljana
END:VEVENT
BEGIN:VEVENT
SUMMARY:Teorija trdne snovi (FIZ-M1\, FIZ-M2)\, Predavanja (P)
DTSTART;TZID=Europe/Ljubljana:20250304T080000
DTEND;TZID=Europe/Ljubljana:20250304T100000
DTSTAMP:20260425T232746Z
UID:fmf-AFLABS-URNIK:premaknjeno-srecanje:211584
ATTENDEE:1. letnik (Fizika, 2. stopnja)
ATTENDEE:2. letnik (Fizika, 2. stopnja)
CATEGORIES:Entry,Standard
COLOR:darkgreen
DESCRIPTION:Predmet: Teorija trdne snovi (FIZ-M1\, FIZ-M2)\, Predavanja (P
 )\nLetniki: 1. letnik (Fizika\, 2. stopnja)\, 2. letnik (Fizika\, 2. stopn
 ja)\nIzvajalci: Denis Golež\nProstor: F5
LOCATION:F5
ORGANIZER:Denis Golež
RELATED-TO:fmf-AFLABS-URNIK:srecanje:15208
X-WR-TIMEZONE:Europe/Ljubljana
END:VEVENT
BEGIN:VEVENT
SUMMARY:Teorija trdne snovi (FIZ-M1\, FIZ-M2)\, Predavanja (P)
DTSTART;TZID=Europe/Ljubljana:20250311T080000
DTEND;TZID=Europe/Ljubljana:20250311T100000
DTSTAMP:20260425T232746Z
UID:fmf-AFLABS-URNIK:premaknjeno-srecanje:211585
ATTENDEE:1. letnik (Fizika, 2. stopnja)
ATTENDEE:2. letnik (Fizika, 2. stopnja)
CATEGORIES:Entry,Standard
COLOR:darkgreen
DESCRIPTION:Predmet: Teorija trdne snovi (FIZ-M1\, FIZ-M2)\, Predavanja (P
 )\nLetniki: 1. letnik (Fizika\, 2. stopnja)\, 2. letnik (Fizika\, 2. stopn
 ja)\nIzvajalci: Denis Golež\nProstor: F5
LOCATION:F5
ORGANIZER:Denis Golež
RELATED-TO:fmf-AFLABS-URNIK:srecanje:15208
X-WR-TIMEZONE:Europe/Ljubljana
END:VEVENT
BEGIN:VEVENT
SUMMARY:Teorija trdne snovi (FIZ-M1\, FIZ-M2)\, Predavanja (P)
DTSTART;TZID=Europe/Ljubljana:20250219T150000
DTEND;TZID=Europe/Ljubljana:20250219T160000
DTSTAMP:20260425T232746Z
UID:fmf-AFLABS-URNIK:premaknjeno-srecanje:211614
ATTENDEE:1. letnik (Fizika, 2. stopnja)
ATTENDEE:2. letnik (Fizika, 2. stopnja)
CATEGORIES:Entry,Standard
COLOR:darkgreen
DESCRIPTION:Predmet: Teorija trdne snovi (FIZ-M1\, FIZ-M2)\, Predavanja (P
 )\nLetniki: 1. letnik (Fizika\, 2. stopnja)\, 2. letnik (Fizika\, 2. stopn
 ja)\nIzvajalci: Denis Golež\nProstor: F3
LOCATION:F3
ORGANIZER:Denis Golež
RELATED-TO:fmf-AFLABS-URNIK:srecanje:15618
X-WR-TIMEZONE:Europe/Ljubljana
END:VEVENT
BEGIN:VEVENT
SUMMARY:Teorija trdne snovi (FIZ-M1\, FIZ-M2)\, Predavanja (P)
DTSTART;TZID=Europe/Ljubljana:20250226T150000
DTEND;TZID=Europe/Ljubljana:20250226T160000
DTSTAMP:20260425T232746Z
UID:fmf-AFLABS-URNIK:premaknjeno-srecanje:211615
ATTENDEE:1. letnik (Fizika, 2. stopnja)
ATTENDEE:2. letnik (Fizika, 2. stopnja)
CATEGORIES:Entry,Standard
COLOR:darkgreen
DESCRIPTION:Predmet: Teorija trdne snovi (FIZ-M1\, FIZ-M2)\, Predavanja (P
 )\nLetniki: 1. letnik (Fizika\, 2. stopnja)\, 2. letnik (Fizika\, 2. stopn
 ja)\nIzvajalci: Denis Golež\nProstor: F3
LOCATION:F3
ORGANIZER:Denis Golež
RELATED-TO:fmf-AFLABS-URNIK:srecanje:15618
X-WR-TIMEZONE:Europe/Ljubljana
END:VEVENT
BEGIN:VEVENT
SUMMARY:Teorija trdne snovi (FIZ-M1\, FIZ-M2)\, Predavanja (P)
DTSTART;TZID=Europe/Ljubljana:20250305T150000
DTEND;TZID=Europe/Ljubljana:20250305T160000
DTSTAMP:20260425T232746Z
UID:fmf-AFLABS-URNIK:premaknjeno-srecanje:211616
ATTENDEE:1. letnik (Fizika, 2. stopnja)
ATTENDEE:2. letnik (Fizika, 2. stopnja)
CATEGORIES:Entry,Standard
COLOR:darkgreen
DESCRIPTION:Predmet: Teorija trdne snovi (FIZ-M1\, FIZ-M2)\, Predavanja (P
 )\nLetniki: 1. letnik (Fizika\, 2. stopnja)\, 2. letnik (Fizika\, 2. stopn
 ja)\nIzvajalci: Denis Golež\nProstor: F3
LOCATION:F3
ORGANIZER:Denis Golež
RELATED-TO:fmf-AFLABS-URNIK:srecanje:15618
X-WR-TIMEZONE:Europe/Ljubljana
END:VEVENT
BEGIN:VEVENT
SUMMARY:Teorija trdne snovi (FIZ-M1\, FIZ-M2)\, Predavanja (P)
DTSTART;TZID=Europe/Ljubljana:20250312T150000
DTEND;TZID=Europe/Ljubljana:20250312T160000
DTSTAMP:20260425T232746Z
UID:fmf-AFLABS-URNIK:premaknjeno-srecanje:211617
ATTENDEE:1. letnik (Fizika, 2. stopnja)
ATTENDEE:2. letnik (Fizika, 2. stopnja)
CATEGORIES:Entry,Standard
COLOR:darkgreen
DESCRIPTION:Predmet: Teorija trdne snovi (FIZ-M1\, FIZ-M2)\, Predavanja (P
 )\nLetniki: 1. letnik (Fizika\, 2. stopnja)\, 2. letnik (Fizika\, 2. stopn
 ja)\nIzvajalci: Denis Golež\nProstor: F3
LOCATION:F3
ORGANIZER:Denis Golež
RELATED-TO:fmf-AFLABS-URNIK:srecanje:15618
X-WR-TIMEZONE:Europe/Ljubljana
END:VEVENT
BEGIN:VEVENT
SUMMARY:Teorija trdne snovi (FIZ-M1\, FIZ-M2)\, Seminar (S)
DTSTART;TZID=Europe/Ljubljana:20250219T160000
DTEND;TZID=Europe/Ljubljana:20250219T170000
DTSTAMP:20260425T232746Z
UID:fmf-AFLABS-URNIK:premaknjeno-srecanje:211646
ATTENDEE:1. letnik (Fizika, 2. stopnja)
ATTENDEE:2. letnik (Fizika, 2. stopnja)
CATEGORIES:Entry,Standard
COLOR:darkgreen
DESCRIPTION:Predmet: Teorija trdne snovi (FIZ-M1\, FIZ-M2)\, Seminar (S)\n
 Letniki: 1. letnik (Fizika\, 2. stopnja)\, 2. letnik (Fizika\, 2. stopnja)
 \nIzvajalci: Denis Golež\nProstor: F3
LOCATION:F3
ORGANIZER:Denis Golež
RELATED-TO:fmf-AFLABS-URNIK:srecanje:15620
X-WR-TIMEZONE:Europe/Ljubljana
END:VEVENT
BEGIN:VEVENT
SUMMARY:Teorija trdne snovi (FIZ-M1\, FIZ-M2)\, Seminar (S)
DTSTART;TZID=Europe/Ljubljana:20250226T160000
DTEND;TZID=Europe/Ljubljana:20250226T170000
DTSTAMP:20260425T232746Z
UID:fmf-AFLABS-URNIK:premaknjeno-srecanje:211647
ATTENDEE:1. letnik (Fizika, 2. stopnja)
ATTENDEE:2. letnik (Fizika, 2. stopnja)
CATEGORIES:Entry,Standard
COLOR:darkgreen
DESCRIPTION:Predmet: Teorija trdne snovi (FIZ-M1\, FIZ-M2)\, Seminar (S)\n
 Letniki: 1. letnik (Fizika\, 2. stopnja)\, 2. letnik (Fizika\, 2. stopnja)
 \nIzvajalci: Denis Golež\nProstor: F3
LOCATION:F3
ORGANIZER:Denis Golež
RELATED-TO:fmf-AFLABS-URNIK:srecanje:15620
X-WR-TIMEZONE:Europe/Ljubljana
END:VEVENT
BEGIN:VEVENT
SUMMARY:Teorija trdne snovi (FIZ-M1\, FIZ-M2)\, Seminar (S)
DTSTART;TZID=Europe/Ljubljana:20250305T160000
DTEND;TZID=Europe/Ljubljana:20250305T170000
DTSTAMP:20260425T232746Z
UID:fmf-AFLABS-URNIK:premaknjeno-srecanje:211648
ATTENDEE:1. letnik (Fizika, 2. stopnja)
ATTENDEE:2. letnik (Fizika, 2. stopnja)
CATEGORIES:Entry,Standard
COLOR:darkgreen
DESCRIPTION:Predmet: Teorija trdne snovi (FIZ-M1\, FIZ-M2)\, Seminar (S)\n
 Letniki: 1. letnik (Fizika\, 2. stopnja)\, 2. letnik (Fizika\, 2. stopnja)
 \nIzvajalci: Denis Golež\nProstor: F3
LOCATION:F3
ORGANIZER:Denis Golež
RELATED-TO:fmf-AFLABS-URNIK:srecanje:15620
X-WR-TIMEZONE:Europe/Ljubljana
END:VEVENT
BEGIN:VEVENT
SUMMARY:Teorija trdne snovi (FIZ-M1\, FIZ-M2)\, Seminar (S)
DTSTART;TZID=Europe/Ljubljana:20250312T160000
DTEND;TZID=Europe/Ljubljana:20250312T170000
DTSTAMP:20260425T232746Z
UID:fmf-AFLABS-URNIK:premaknjeno-srecanje:211649
ATTENDEE:1. letnik (Fizika, 2. stopnja)
ATTENDEE:2. letnik (Fizika, 2. stopnja)
CATEGORIES:Entry,Standard
COLOR:darkgreen
DESCRIPTION:Predmet: Teorija trdne snovi (FIZ-M1\, FIZ-M2)\, Seminar (S)\n
 Letniki: 1. letnik (Fizika\, 2. stopnja)\, 2. letnik (Fizika\, 2. stopnja)
 \nIzvajalci: Denis Golež\nProstor: F3
LOCATION:F3
ORGANIZER:Denis Golež
RELATED-TO:fmf-AFLABS-URNIK:srecanje:15620
X-WR-TIMEZONE:Europe/Ljubljana
END:VEVENT
END:VCALENDAR
