BEGIN:VCALENDAR
VERSION:2.0
PRODID:-//AFLabs urnik izvoz - fmf//aflabs.si//SI
DTSTAMP:20260426T043117Z
NAME:UL FMF urnik
REFRESH-INTERVAL:PT1H
SOURCE:https://urnik.fmf.uni-lj.si/teacher/77?day=2020-01-20&export=1
URL:https://urnik.fmf.uni-lj.si/teacher/77?day=2020-01-20&export=1
X-PUBLISHED-TTL:PT1H
X-WR-CALNAME:UL FMF urnik
X-WR-TIMEZONE:Europe/Ljubljana
BEGIN:VTIMEZONE
TZID:Europe/Ljubljana
BEGIN:DAYLIGHT
DTSTART:20260329T020000
RDATE:20260329T020000
RDATE:20270328T020000
TZNAME:CEST
TZOFFSETFROM:+0100
TZOFFSETTO:+0200
END:DAYLIGHT
BEGIN:STANDARD
DTSTART:20261025T030000
RDATE:20261025T030000
RDATE:20271031T030000
TZNAME:CET
TZOFFSETFROM:+0200
TZOFFSETTO:+0100
END:STANDARD
END:VTIMEZONE
BEGIN:VEVENT
SUMMARY:Fizikalna merjenja (APF-3)\, Predavanja (P)
DTSTART;TZID=Europe/Ljubljana:20191216T120000
DTEND;TZID=Europe/Ljubljana:20191216T150000
DTSTAMP:20260426T043117Z
UID:fmf-AFLABS-URNIK:premaknjeno-srecanje:32671
ATTENDEE:3. letnik (Aplikativna fizika)
CATEGORIES:Entry,Standard
COLOR:darkgreen
DESCRIPTION:Predmet: Fizikalna merjenja (APF-3)\, Predavanja (P)\nLetniki:
  3. letnik (Aplikativna fizika)\nIzvajalci: Dean Cvetko\nProstor: F7
LOCATION:F7
ORGANIZER:Dean Cvetko
RELATED-TO:fmf-AFLABS-URNIK:srecanje:3383
X-WR-TIMEZONE:Europe/Ljubljana
END:VEVENT
BEGIN:VEVENT
SUMMARY:Fizikalna merjenja (APF-3)\, Predavanja (P)
DTSTART;TZID=Europe/Ljubljana:20191223T120000
DTEND;TZID=Europe/Ljubljana:20191223T150000
DTSTAMP:20260426T043117Z
UID:fmf-AFLABS-URNIK:premaknjeno-srecanje:32672
ATTENDEE:3. letnik (Aplikativna fizika)
CATEGORIES:Entry,Standard
COLOR:darkgreen
DESCRIPTION:Predmet: Fizikalna merjenja (APF-3)\, Predavanja (P)\nLetniki:
  3. letnik (Aplikativna fizika)\nIzvajalci: Dean Cvetko\nProstor: F7
LOCATION:F7
ORGANIZER:Dean Cvetko
RELATED-TO:fmf-AFLABS-URNIK:srecanje:3383
X-WR-TIMEZONE:Europe/Ljubljana
END:VEVENT
BEGIN:VEVENT
SUMMARY:Fizikalna merjenja (APF-3)\, Predavanja (P)
DTSTART;TZID=Europe/Ljubljana:20191230T120000
DTEND;TZID=Europe/Ljubljana:20191230T150000
DTSTAMP:20260426T043117Z
UID:fmf-AFLABS-URNIK:premaknjeno-srecanje:32673
ATTENDEE:3. letnik (Aplikativna fizika)
CATEGORIES:Entry,Standard
COLOR:darkgreen
DESCRIPTION:Predmet: Fizikalna merjenja (APF-3)\, Predavanja (P)\nLetniki:
  3. letnik (Aplikativna fizika)\nIzvajalci: Dean Cvetko\nProstor: F7
LOCATION:F7
ORGANIZER:Dean Cvetko
RELATED-TO:fmf-AFLABS-URNIK:srecanje:3383
X-WR-TIMEZONE:Europe/Ljubljana
END:VEVENT
BEGIN:VEVENT
SUMMARY:Fizikalna merjenja (APF-3)\, Predavanja (P)
DTSTART;TZID=Europe/Ljubljana:20200106T120000
DTEND;TZID=Europe/Ljubljana:20200106T150000
DTSTAMP:20260426T043117Z
UID:fmf-AFLABS-URNIK:premaknjeno-srecanje:32674
ATTENDEE:3. letnik (Aplikativna fizika)
CATEGORIES:Entry,Standard
COLOR:darkgreen
DESCRIPTION:Predmet: Fizikalna merjenja (APF-3)\, Predavanja (P)\nLetniki:
  3. letnik (Aplikativna fizika)\nIzvajalci: Dean Cvetko\nProstor: F7
LOCATION:F7
ORGANIZER:Dean Cvetko
RELATED-TO:fmf-AFLABS-URNIK:srecanje:3383
X-WR-TIMEZONE:Europe/Ljubljana
END:VEVENT
BEGIN:VEVENT
SUMMARY:Fizikalna merjenja (APF-3)\, Predavanja (P)
DTSTART;TZID=Europe/Ljubljana:20200113T120000
DTEND;TZID=Europe/Ljubljana:20200113T150000
DTSTAMP:20260426T043117Z
UID:fmf-AFLABS-URNIK:premaknjeno-srecanje:32675
ATTENDEE:3. letnik (Aplikativna fizika)
CATEGORIES:Entry,Standard
COLOR:darkgreen
DESCRIPTION:Predmet: Fizikalna merjenja (APF-3)\, Predavanja (P)\nLetniki:
  3. letnik (Aplikativna fizika)\nIzvajalci: Dean Cvetko\nProstor: F7
LOCATION:F7
ORGANIZER:Dean Cvetko
RELATED-TO:fmf-AFLABS-URNIK:srecanje:3383
X-WR-TIMEZONE:Europe/Ljubljana
END:VEVENT
BEGIN:VEVENT
SUMMARY:Fizikalna merjenja (APF-3)\, Seminar (S)
DTSTART;TZID=Europe/Ljubljana:20191216T150000
DTEND;TZID=Europe/Ljubljana:20191216T160000
DTSTAMP:20260426T043117Z
UID:fmf-AFLABS-URNIK:premaknjeno-srecanje:32782
ATTENDEE:3. letnik (Aplikativna fizika)
CATEGORIES:Entry,Standard
COLOR:darkgreen
DESCRIPTION:Predmet: Fizikalna merjenja (APF-3)\, Seminar (S)\nLetniki: 3.
  letnik (Aplikativna fizika)\nIzvajalci: Dean Cvetko\nProstor: F7
LOCATION:F7
ORGANIZER:Dean Cvetko
RELATED-TO:fmf-AFLABS-URNIK:srecanje:3384
X-WR-TIMEZONE:Europe/Ljubljana
END:VEVENT
BEGIN:VEVENT
SUMMARY:Fizikalna merjenja (APF-3)\, Seminar (S)
DTSTART;TZID=Europe/Ljubljana:20191223T150000
DTEND;TZID=Europe/Ljubljana:20191223T160000
DTSTAMP:20260426T043117Z
UID:fmf-AFLABS-URNIK:premaknjeno-srecanje:32783
ATTENDEE:3. letnik (Aplikativna fizika)
CATEGORIES:Entry,Standard
COLOR:darkgreen
DESCRIPTION:Predmet: Fizikalna merjenja (APF-3)\, Seminar (S)\nLetniki: 3.
  letnik (Aplikativna fizika)\nIzvajalci: Dean Cvetko\nProstor: F7
LOCATION:F7
ORGANIZER:Dean Cvetko
RELATED-TO:fmf-AFLABS-URNIK:srecanje:3384
X-WR-TIMEZONE:Europe/Ljubljana
END:VEVENT
BEGIN:VEVENT
SUMMARY:Fizikalna merjenja (APF-3)\, Seminar (S)
DTSTART;TZID=Europe/Ljubljana:20191230T150000
DTEND;TZID=Europe/Ljubljana:20191230T160000
DTSTAMP:20260426T043117Z
UID:fmf-AFLABS-URNIK:premaknjeno-srecanje:32784
ATTENDEE:3. letnik (Aplikativna fizika)
CATEGORIES:Entry,Standard
COLOR:darkgreen
DESCRIPTION:Predmet: Fizikalna merjenja (APF-3)\, Seminar (S)\nLetniki: 3.
  letnik (Aplikativna fizika)\nIzvajalci: Dean Cvetko\nProstor: F7
LOCATION:F7
ORGANIZER:Dean Cvetko
RELATED-TO:fmf-AFLABS-URNIK:srecanje:3384
X-WR-TIMEZONE:Europe/Ljubljana
END:VEVENT
BEGIN:VEVENT
SUMMARY:Fizikalna merjenja (APF-3)\, Seminar (S)
DTSTART;TZID=Europe/Ljubljana:20200106T150000
DTEND;TZID=Europe/Ljubljana:20200106T160000
DTSTAMP:20260426T043117Z
UID:fmf-AFLABS-URNIK:premaknjeno-srecanje:32785
ATTENDEE:3. letnik (Aplikativna fizika)
CATEGORIES:Entry,Standard
COLOR:darkgreen
DESCRIPTION:Predmet: Fizikalna merjenja (APF-3)\, Seminar (S)\nLetniki: 3.
  letnik (Aplikativna fizika)\nIzvajalci: Dean Cvetko\nProstor: F7
LOCATION:F7
ORGANIZER:Dean Cvetko
RELATED-TO:fmf-AFLABS-URNIK:srecanje:3384
X-WR-TIMEZONE:Europe/Ljubljana
END:VEVENT
BEGIN:VEVENT
SUMMARY:Fizikalna merjenja (APF-3)\, Seminar (S)
DTSTART;TZID=Europe/Ljubljana:20200113T150000
DTEND;TZID=Europe/Ljubljana:20200113T160000
DTSTAMP:20260426T043117Z
UID:fmf-AFLABS-URNIK:premaknjeno-srecanje:32786
ATTENDEE:3. letnik (Aplikativna fizika)
CATEGORIES:Entry,Standard
COLOR:darkgreen
DESCRIPTION:Predmet: Fizikalna merjenja (APF-3)\, Seminar (S)\nLetniki: 3.
  letnik (Aplikativna fizika)\nIzvajalci: Dean Cvetko\nProstor: F7
LOCATION:F7
ORGANIZER:Dean Cvetko
RELATED-TO:fmf-AFLABS-URNIK:srecanje:3384
X-WR-TIMEZONE:Europe/Ljubljana
END:VEVENT
BEGIN:VEVENT
SUMMARY:Uvod v biofiziko (BF mikro.) ()\, Predavanja (P)
DTSTART;TZID=Europe/Ljubljana:20191216T090000
DTEND;TZID=Europe/Ljubljana:20191216T120000
DTSTAMP:20260426T043117Z
UID:fmf-AFLABS-URNIK:premaknjeno-srecanje:114854
CATEGORIES:Entry,Standard
COLOR:darkgreen
DESCRIPTION:Predmet: Uvod v biofiziko (BF mikro.) ()\, Predavanja (P)\nLet
 niki: \nIzvajalci: Dean Cvetko\nProstor: Ž2 (BF)
LOCATION:Ž2 (BF)
ORGANIZER:Dean Cvetko
RELATED-TO:fmf-AFLABS-URNIK:srecanje:3805
X-WR-TIMEZONE:Europe/Ljubljana
END:VEVENT
BEGIN:VEVENT
SUMMARY:Uvod v biofiziko (BF mikro.) ()\, Predavanja (P)
DTSTART;TZID=Europe/Ljubljana:20191223T090000
DTEND;TZID=Europe/Ljubljana:20191223T120000
DTSTAMP:20260426T043117Z
UID:fmf-AFLABS-URNIK:premaknjeno-srecanje:114855
CATEGORIES:Entry,Standard
COLOR:darkgreen
DESCRIPTION:Predmet: Uvod v biofiziko (BF mikro.) ()\, Predavanja (P)\nLet
 niki: \nIzvajalci: Dean Cvetko\nProstor: Ž2 (BF)
LOCATION:Ž2 (BF)
ORGANIZER:Dean Cvetko
RELATED-TO:fmf-AFLABS-URNIK:srecanje:3805
X-WR-TIMEZONE:Europe/Ljubljana
END:VEVENT
BEGIN:VEVENT
SUMMARY:Uvod v biofiziko (BF mikro.) ()\, Predavanja (P)
DTSTART;TZID=Europe/Ljubljana:20191230T090000
DTEND;TZID=Europe/Ljubljana:20191230T120000
DTSTAMP:20260426T043117Z
UID:fmf-AFLABS-URNIK:premaknjeno-srecanje:114856
CATEGORIES:Entry,Standard
COLOR:darkgreen
DESCRIPTION:Predmet: Uvod v biofiziko (BF mikro.) ()\, Predavanja (P)\nLet
 niki: \nIzvajalci: Dean Cvetko\nProstor: Ž2 (BF)
LOCATION:Ž2 (BF)
ORGANIZER:Dean Cvetko
RELATED-TO:fmf-AFLABS-URNIK:srecanje:3805
X-WR-TIMEZONE:Europe/Ljubljana
END:VEVENT
BEGIN:VEVENT
SUMMARY:Uvod v biofiziko (BF mikro.) ()\, Predavanja (P)
DTSTART;TZID=Europe/Ljubljana:20200106T090000
DTEND;TZID=Europe/Ljubljana:20200106T120000
DTSTAMP:20260426T043117Z
UID:fmf-AFLABS-URNIK:premaknjeno-srecanje:114857
CATEGORIES:Entry,Standard
COLOR:darkgreen
DESCRIPTION:Predmet: Uvod v biofiziko (BF mikro.) ()\, Predavanja (P)\nLet
 niki: \nIzvajalci: Dean Cvetko\nProstor: Ž2 (BF)
LOCATION:Ž2 (BF)
ORGANIZER:Dean Cvetko
RELATED-TO:fmf-AFLABS-URNIK:srecanje:3805
X-WR-TIMEZONE:Europe/Ljubljana
END:VEVENT
BEGIN:VEVENT
SUMMARY:Uvod v biofiziko (BF mikro.) ()\, Predavanja (P)
DTSTART;TZID=Europe/Ljubljana:20200113T090000
DTEND;TZID=Europe/Ljubljana:20200113T120000
DTSTAMP:20260426T043117Z
UID:fmf-AFLABS-URNIK:premaknjeno-srecanje:114858
CATEGORIES:Entry,Standard
COLOR:darkgreen
DESCRIPTION:Predmet: Uvod v biofiziko (BF mikro.) ()\, Predavanja (P)\nLet
 niki: \nIzvajalci: Dean Cvetko\nProstor: Ž2 (BF)
LOCATION:Ž2 (BF)
ORGANIZER:Dean Cvetko
RELATED-TO:fmf-AFLABS-URNIK:srecanje:3805
X-WR-TIMEZONE:Europe/Ljubljana
END:VEVENT
BEGIN:VEVENT
SUMMARY:Uvod v biofiziko (BF mikro.) ()\, Predavanja (P)
DTSTART;TZID=Europe/Ljubljana:20191219T080000
DTEND;TZID=Europe/Ljubljana:20191219T100000
DTSTAMP:20260426T043117Z
UID:fmf-AFLABS-URNIK:premaknjeno-srecanje:114948
CATEGORIES:Entry,Standard
COLOR:darkgreen
DESCRIPTION:Predmet: Uvod v biofiziko (BF mikro.) ()\, Predavanja (P)\nLet
 niki: \nIzvajalci: Dean Cvetko\nProstor: Ž2 (BF)
LOCATION:Ž2 (BF)
ORGANIZER:Dean Cvetko
RELATED-TO:fmf-AFLABS-URNIK:srecanje:3806
X-WR-TIMEZONE:Europe/Ljubljana
END:VEVENT
BEGIN:VEVENT
SUMMARY:Uvod v biofiziko (BF mikro.) ()\, Predavanja (P)
DTSTART;TZID=Europe/Ljubljana:20191226T080000
DTEND;TZID=Europe/Ljubljana:20191226T100000
DTSTAMP:20260426T043117Z
UID:fmf-AFLABS-URNIK:premaknjeno-srecanje:114949
CATEGORIES:Entry,Standard
COLOR:darkgreen
DESCRIPTION:Predmet: Uvod v biofiziko (BF mikro.) ()\, Predavanja (P)\nLet
 niki: \nIzvajalci: Dean Cvetko\nProstor: Ž2 (BF)
LOCATION:Ž2 (BF)
ORGANIZER:Dean Cvetko
RELATED-TO:fmf-AFLABS-URNIK:srecanje:3806
X-WR-TIMEZONE:Europe/Ljubljana
END:VEVENT
BEGIN:VEVENT
SUMMARY:Uvod v biofiziko (BF mikro.) ()\, Predavanja (P)
DTSTART;TZID=Europe/Ljubljana:20200102T080000
DTEND;TZID=Europe/Ljubljana:20200102T100000
DTSTAMP:20260426T043117Z
UID:fmf-AFLABS-URNIK:premaknjeno-srecanje:114950
CATEGORIES:Entry,Standard
COLOR:darkgreen
DESCRIPTION:Predmet: Uvod v biofiziko (BF mikro.) ()\, Predavanja (P)\nLet
 niki: \nIzvajalci: Dean Cvetko\nProstor: Ž2 (BF)
LOCATION:Ž2 (BF)
ORGANIZER:Dean Cvetko
RELATED-TO:fmf-AFLABS-URNIK:srecanje:3806
X-WR-TIMEZONE:Europe/Ljubljana
END:VEVENT
BEGIN:VEVENT
SUMMARY:Uvod v biofiziko (BF mikro.) ()\, Predavanja (P)
DTSTART;TZID=Europe/Ljubljana:20200109T080000
DTEND;TZID=Europe/Ljubljana:20200109T100000
DTSTAMP:20260426T043117Z
UID:fmf-AFLABS-URNIK:premaknjeno-srecanje:114951
CATEGORIES:Entry,Standard
COLOR:darkgreen
DESCRIPTION:Predmet: Uvod v biofiziko (BF mikro.) ()\, Predavanja (P)\nLet
 niki: \nIzvajalci: Dean Cvetko\nProstor: Ž2 (BF)
LOCATION:Ž2 (BF)
ORGANIZER:Dean Cvetko
RELATED-TO:fmf-AFLABS-URNIK:srecanje:3806
X-WR-TIMEZONE:Europe/Ljubljana
END:VEVENT
BEGIN:VEVENT
SUMMARY:Uvod v biofiziko (BF mikro.) ()\, Predavanja (P)
DTSTART;TZID=Europe/Ljubljana:20200116T080000
DTEND;TZID=Europe/Ljubljana:20200116T100000
DTSTAMP:20260426T043117Z
UID:fmf-AFLABS-URNIK:premaknjeno-srecanje:114952
CATEGORIES:Entry,Standard
COLOR:darkgreen
DESCRIPTION:Predmet: Uvod v biofiziko (BF mikro.) ()\, Predavanja (P)\nLet
 niki: \nIzvajalci: Dean Cvetko\nProstor: Ž2 (BF)
LOCATION:Ž2 (BF)
ORGANIZER:Dean Cvetko
RELATED-TO:fmf-AFLABS-URNIK:srecanje:3806
X-WR-TIMEZONE:Europe/Ljubljana
END:VEVENT
BEGIN:VEVENT
SUMMARY:Uvod v biofiziko (BF mikro.) ()\, Predavanja (P)
DTSTART;TZID=Europe/Ljubljana:20191220T080000
DTEND;TZID=Europe/Ljubljana:20191220T100000
DTSTAMP:20260426T043117Z
UID:fmf-AFLABS-URNIK:premaknjeno-srecanje:115058
CATEGORIES:Entry,Standard
COLOR:darkgreen
DESCRIPTION:Predmet: Uvod v biofiziko (BF mikro.) ()\, Predavanja (P)\nLet
 niki: \nIzvajalci: Dean Cvetko\nProstor: Ž2 (BF)
LOCATION:Ž2 (BF)
ORGANIZER:Dean Cvetko
RELATED-TO:fmf-AFLABS-URNIK:srecanje:3807
X-WR-TIMEZONE:Europe/Ljubljana
END:VEVENT
BEGIN:VEVENT
SUMMARY:Uvod v biofiziko (BF mikro.) ()\, Predavanja (P)
DTSTART;TZID=Europe/Ljubljana:20191227T080000
DTEND;TZID=Europe/Ljubljana:20191227T100000
DTSTAMP:20260426T043117Z
UID:fmf-AFLABS-URNIK:premaknjeno-srecanje:115059
CATEGORIES:Entry,Standard
COLOR:darkgreen
DESCRIPTION:Predmet: Uvod v biofiziko (BF mikro.) ()\, Predavanja (P)\nLet
 niki: \nIzvajalci: Dean Cvetko\nProstor: Ž2 (BF)
LOCATION:Ž2 (BF)
ORGANIZER:Dean Cvetko
RELATED-TO:fmf-AFLABS-URNIK:srecanje:3807
X-WR-TIMEZONE:Europe/Ljubljana
END:VEVENT
BEGIN:VEVENT
SUMMARY:Uvod v biofiziko (BF mikro.) ()\, Predavanja (P)
DTSTART;TZID=Europe/Ljubljana:20200103T080000
DTEND;TZID=Europe/Ljubljana:20200103T100000
DTSTAMP:20260426T043117Z
UID:fmf-AFLABS-URNIK:premaknjeno-srecanje:115060
CATEGORIES:Entry,Standard
COLOR:darkgreen
DESCRIPTION:Predmet: Uvod v biofiziko (BF mikro.) ()\, Predavanja (P)\nLet
 niki: \nIzvajalci: Dean Cvetko\nProstor: Ž2 (BF)
LOCATION:Ž2 (BF)
ORGANIZER:Dean Cvetko
RELATED-TO:fmf-AFLABS-URNIK:srecanje:3807
X-WR-TIMEZONE:Europe/Ljubljana
END:VEVENT
BEGIN:VEVENT
SUMMARY:Uvod v biofiziko (BF mikro.) ()\, Predavanja (P)
DTSTART;TZID=Europe/Ljubljana:20200110T080000
DTEND;TZID=Europe/Ljubljana:20200110T100000
DTSTAMP:20260426T043117Z
UID:fmf-AFLABS-URNIK:premaknjeno-srecanje:115061
CATEGORIES:Entry,Standard
COLOR:darkgreen
DESCRIPTION:Predmet: Uvod v biofiziko (BF mikro.) ()\, Predavanja (P)\nLet
 niki: \nIzvajalci: Dean Cvetko\nProstor: Ž2 (BF)
LOCATION:Ž2 (BF)
ORGANIZER:Dean Cvetko
RELATED-TO:fmf-AFLABS-URNIK:srecanje:3807
X-WR-TIMEZONE:Europe/Ljubljana
END:VEVENT
BEGIN:VEVENT
SUMMARY:Uvod v biofiziko (BF mikro.) ()\, Predavanja (P)
DTSTART;TZID=Europe/Ljubljana:20200117T080000
DTEND;TZID=Europe/Ljubljana:20200117T100000
DTSTAMP:20260426T043117Z
UID:fmf-AFLABS-URNIK:premaknjeno-srecanje:115062
CATEGORIES:Entry,Standard
COLOR:darkgreen
DESCRIPTION:Predmet: Uvod v biofiziko (BF mikro.) ()\, Predavanja (P)\nLet
 niki: \nIzvajalci: Dean Cvetko\nProstor: Ž2 (BF)
LOCATION:Ž2 (BF)
ORGANIZER:Dean Cvetko
RELATED-TO:fmf-AFLABS-URNIK:srecanje:3807
X-WR-TIMEZONE:Europe/Ljubljana
END:VEVENT
BEGIN:VEVENT
SUMMARY:Fizika (NTF) ()\, Predavanja (P)
DTSTART;TZID=Europe/Ljubljana:20200217T150000
DTEND;TZID=Europe/Ljubljana:20200217T180000
DTSTAMP:20260426T043117Z
UID:fmf-AFLABS-URNIK:premaknjeno-srecanje:27462
CATEGORIES:Entry,Standard
COLOR:darkgreen
DESCRIPTION:Predmet: Fizika (NTF) ()\, Predavanja (P)\nLetniki: \nIzvajalc
 i: Dean Cvetko\nProstor: VFP
LOCATION:VFP
ORGANIZER:Dean Cvetko
RELATED-TO:fmf-AFLABS-URNIK:srecanje:4079
X-WR-TIMEZONE:Europe/Ljubljana
END:VEVENT
BEGIN:VEVENT
SUMMARY:Fizika (NTF) ()\, Predavanja (P)
DTSTART;TZID=Europe/Ljubljana:20200224T150000
DTEND;TZID=Europe/Ljubljana:20200224T180000
DTSTAMP:20260426T043117Z
UID:fmf-AFLABS-URNIK:premaknjeno-srecanje:27463
CATEGORIES:Entry,Standard
COLOR:darkgreen
DESCRIPTION:Predmet: Fizika (NTF) ()\, Predavanja (P)\nLetniki: \nIzvajalc
 i: Dean Cvetko\nProstor: VFP
LOCATION:VFP
ORGANIZER:Dean Cvetko
RELATED-TO:fmf-AFLABS-URNIK:srecanje:4079
X-WR-TIMEZONE:Europe/Ljubljana
END:VEVENT
BEGIN:VEVENT
SUMMARY:Fizikalna merjenja I (FIZ-3)\, Predavanja (P)
DTSTART;TZID=Europe/Ljubljana:20200217T110000
DTEND;TZID=Europe/Ljubljana:20200217T140000
DTSTAMP:20260426T043117Z
UID:fmf-AFLABS-URNIK:premaknjeno-srecanje:32992
ATTENDEE:3. letnik (Fizika, 1. stopnja)
CATEGORIES:Entry,Standard
COLOR:darkgreen
DESCRIPTION:Predmet: Fizikalna merjenja I (FIZ-3)\, Predavanja (P)\nLetnik
 i: 3. letnik (Fizika\, 1. stopnja)\nIzvajalci: Dean Cvetko\nProstor: MFP
LOCATION:MFP
ORGANIZER:Dean Cvetko
RELATED-TO:fmf-AFLABS-URNIK:srecanje:4108
X-WR-TIMEZONE:Europe/Ljubljana
END:VEVENT
BEGIN:VEVENT
SUMMARY:Fizikalna merjenja I (FIZ-3)\, Predavanja (P)
DTSTART;TZID=Europe/Ljubljana:20200224T110000
DTEND;TZID=Europe/Ljubljana:20200224T140000
DTSTAMP:20260426T043117Z
UID:fmf-AFLABS-URNIK:premaknjeno-srecanje:32993
ATTENDEE:3. letnik (Fizika, 1. stopnja)
CATEGORIES:Entry,Standard
COLOR:darkgreen
DESCRIPTION:Predmet: Fizikalna merjenja I (FIZ-3)\, Predavanja (P)\nLetnik
 i: 3. letnik (Fizika\, 1. stopnja)\nIzvajalci: Dean Cvetko\nProstor: MFP
LOCATION:MFP
ORGANIZER:Dean Cvetko
RELATED-TO:fmf-AFLABS-URNIK:srecanje:4108
X-WR-TIMEZONE:Europe/Ljubljana
END:VEVENT
BEGIN:VEVENT
SUMMARY:Eksperimentalna fizika površin (FIZ-M1\, FIZ-M2)\, Predavanja (P)
DTSTART;TZID=Europe/Ljubljana:20200218T140000
DTEND;TZID=Europe/Ljubljana:20200218T160000
DTSTAMP:20260426T043117Z
UID:fmf-AFLABS-URNIK:premaknjeno-srecanje:17751
ATTENDEE:1. letnik (Fizika, 2. stopnja)
ATTENDEE:2. letnik (Fizika, 2. stopnja)
CATEGORIES:Entry,Standard
COLOR:darkgreen
DESCRIPTION:Predmet: Eksperimentalna fizika površin (FIZ-M1\, FIZ-M2)\, P
 redavanja (P)\nLetniki: 1. letnik (Fizika\, 2. stopnja)\, 2. letnik (Fizik
 a\, 2. stopnja)\nIzvajalci: Dean Cvetko\nProstor: F4
LOCATION:F4
ORGANIZER:Dean Cvetko
RELATED-TO:fmf-AFLABS-URNIK:srecanje:4100
X-WR-TIMEZONE:Europe/Ljubljana
END:VEVENT
BEGIN:VEVENT
SUMMARY:Eksperimentalna fizika površin (FIZ-M1\, FIZ-M2)\, Vaje (V)
DTSTART;TZID=Europe/Ljubljana:20200218T160000
DTEND;TZID=Europe/Ljubljana:20200218T170000
DTSTAMP:20260426T043117Z
UID:fmf-AFLABS-URNIK:premaknjeno-srecanje:17782
ATTENDEE:1. letnik (Fizika, 2. stopnja)
ATTENDEE:2. letnik (Fizika, 2. stopnja)
CATEGORIES:Entry,Standard
COLOR:darkgreen
DESCRIPTION:Predmet: Eksperimentalna fizika površin (FIZ-M1\, FIZ-M2)\, V
 aje (V)\nLetniki: 1. letnik (Fizika\, 2. stopnja)\, 2. letnik (Fizika\, 2.
  stopnja)\nIzvajalci: Dean Cvetko\nProstor: F4
LOCATION:F4
ORGANIZER:Dean Cvetko
RELATED-TO:fmf-AFLABS-URNIK:srecanje:4101
X-WR-TIMEZONE:Europe/Ljubljana
END:VEVENT
BEGIN:VEVENT
SUMMARY:Rezervacija
DTSTART;TZID=Europe/Ljubljana:20200213T100000
DTEND;TZID=Europe/Ljubljana:20200213T120000
DTSTAMP:20260426T043117Z
UID:fmf-AFLABS-URNIK:rezervacija:5130
CATEGORIES:Reservation
COLOR:royalblue
DESCRIPTION:Predmeti: \nLetniki: \nIzvajalci: Dean Cvetko\nProstori: VFP
LOCATION:VFP
ORGANIZER:Dean Cvetko
X-WR-TIMEZONE:Europe/Ljubljana
END:VEVENT
END:VCALENDAR
