BEGIN:VCALENDAR
VERSION:2.0
PRODID:-//AFLabs urnik izvoz - fmf//aflabs.si//SI
DTSTAMP:20260425T013535Z
NAME:UL FMF urnik
REFRESH-INTERVAL:PT1H
SOURCE:https://urnik.fmf.uni-lj.si/teacher/77?day=2020-07-13&export=1
URL:https://urnik.fmf.uni-lj.si/teacher/77?day=2020-07-13&export=1
X-PUBLISHED-TTL:PT1H
X-WR-CALNAME:UL FMF urnik
X-WR-TIMEZONE:Europe/Ljubljana
BEGIN:VTIMEZONE
TZID:Europe/Ljubljana
BEGIN:DAYLIGHT
DTSTART:20260329T020000
RDATE:20260329T020000
RDATE:20270328T020000
TZNAME:CEST
TZOFFSETFROM:+0100
TZOFFSETTO:+0200
END:DAYLIGHT
BEGIN:STANDARD
DTSTART:20261025T030000
RDATE:20261025T030000
RDATE:20271031T030000
TZNAME:CET
TZOFFSETFROM:+0200
TZOFFSETTO:+0100
END:STANDARD
END:VTIMEZONE
BEGIN:VEVENT
SUMMARY:Rezervacija
DTSTART;TZID=Europe/Ljubljana:20200611T130000
DTEND;TZID=Europe/Ljubljana:20200611T160000
DTSTAMP:20260425T013535Z
UID:fmf-AFLABS-URNIK:rezervacija:5481
CATEGORIES:Reservation
COLOR:royalblue
DESCRIPTION:Predmeti: \nLetniki: \nIzvajalci: Dean Cvetko\nProstori: VFP
LOCATION:VFP
ORGANIZER:Dean Cvetko
X-WR-TIMEZONE:Europe/Ljubljana
END:VEVENT
BEGIN:VEVENT
SUMMARY:Rezervacija
DTSTART;TZID=Europe/Ljubljana:20200612T140000
DTEND;TZID=Europe/Ljubljana:20200612T160000
DTSTAMP:20260425T013535Z
UID:fmf-AFLABS-URNIK:rezervacija:5500
CATEGORIES:Reservation
COLOR:royalblue
DESCRIPTION:Predmeti: \nLetniki: \nIzvajalci: Dean Cvetko\nProstori: VFP
LOCATION:VFP
ORGANIZER:Dean Cvetko
X-WR-TIMEZONE:Europe/Ljubljana
END:VEVENT
BEGIN:VEVENT
SUMMARY:Rezervacija
DTSTART;TZID=Europe/Ljubljana:20200615T090000
DTEND;TZID=Europe/Ljubljana:20200615T100000
DTSTAMP:20260425T013535Z
UID:fmf-AFLABS-URNIK:rezervacija:5504
CATEGORIES:Reservation
COLOR:royalblue
DESCRIPTION:Predmeti: \nLetniki: \nIzvajalci: Dean Cvetko\nProstori: VFP
LOCATION:VFP
ORGANIZER:Dean Cvetko
X-WR-TIMEZONE:Europe/Ljubljana
END:VEVENT
BEGIN:VEVENT
SUMMARY:Rezervacija
DTSTART;TZID=Europe/Ljubljana:20200617T090000
DTEND;TZID=Europe/Ljubljana:20200617T130000
DTSTAMP:20260425T013535Z
UID:fmf-AFLABS-URNIK:rezervacija:5547
ATTENDEE:3. letnik (Fizika, 1. stopnja)
CATEGORIES:Reservation
COLOR:royalblue
DESCRIPTION:Predmeti: Fizikalna merjenja I (FIZ-3)\nLetniki: 3. letnik (Fi
 zika\, 1. stopnja)\nIzvajalci: Dean Cvetko\nProstori: F3
LOCATION:F3
ORGANIZER:Dean Cvetko
X-WR-TIMEZONE:Europe/Ljubljana
END:VEVENT
BEGIN:VEVENT
SUMMARY:Rezervacija
DTSTART;TZID=Europe/Ljubljana:20200617T150000
DTEND;TZID=Europe/Ljubljana:20200617T180000
DTSTAMP:20260425T013535Z
UID:fmf-AFLABS-URNIK:rezervacija:5562
CATEGORIES:Reservation
COLOR:royalblue
DESCRIPTION:Predmeti: \nLetniki: \nIzvajalci: Dean Cvetko\nProstori: F3
LOCATION:F3
ORGANIZER:Dean Cvetko
X-WR-TIMEZONE:Europe/Ljubljana
END:VEVENT
BEGIN:VEVENT
SUMMARY:Rezervacija
DTSTART;TZID=Europe/Ljubljana:20200618T090000
DTEND;TZID=Europe/Ljubljana:20200618T180000
DTSTAMP:20260425T013535Z
UID:fmf-AFLABS-URNIK:rezervacija:5568
CATEGORIES:Reservation
COLOR:royalblue
DESCRIPTION:Predmeti: \nLetniki: \nIzvajalci: Dean Cvetko\nProstori: F3
LOCATION:F3
ORGANIZER:Dean Cvetko
X-WR-TIMEZONE:Europe/Ljubljana
END:VEVENT
BEGIN:VEVENT
SUMMARY:Rezervacija
DTSTART;TZID=Europe/Ljubljana:20200701T120000
DTEND;TZID=Europe/Ljubljana:20200701T140000
DTSTAMP:20260425T013535Z
UID:fmf-AFLABS-URNIK:rezervacija:5738
CATEGORIES:Reservation
COLOR:royalblue
DESCRIPTION:Predmeti: \nLetniki: \nIzvajalci: Dean Cvetko\nProstori: VFP
LOCATION:VFP
ORGANIZER:Dean Cvetko
X-WR-TIMEZONE:Europe/Ljubljana
END:VEVENT
BEGIN:VEVENT
SUMMARY:Rezervacija
DTSTART;TZID=Europe/Ljubljana:20200702T110000
DTEND;TZID=Europe/Ljubljana:20200702T130000
DTSTAMP:20260425T013535Z
UID:fmf-AFLABS-URNIK:rezervacija:5755
CATEGORIES:Reservation
COLOR:royalblue
DESCRIPTION:Predmeti: \nLetniki: \nIzvajalci: Dean Cvetko\nProstori: F2\, 
 MFP\, VFP
LOCATION:F2\, MFP\, VFP
ORGANIZER:Dean Cvetko
X-WR-TIMEZONE:Europe/Ljubljana
END:VEVENT
BEGIN:VEVENT
SUMMARY:Rezervacija
DTSTART;TZID=Europe/Ljubljana:20200703T090000
DTEND;TZID=Europe/Ljubljana:20200703T140000
DTSTAMP:20260425T013535Z
UID:fmf-AFLABS-URNIK:rezervacija:5765
CATEGORIES:Reservation
COLOR:royalblue
DESCRIPTION:Predmeti: \nLetniki: \nIzvajalci: Dean Cvetko\nProstori: F3
LOCATION:F3
ORGANIZER:Dean Cvetko
X-WR-TIMEZONE:Europe/Ljubljana
END:VEVENT
BEGIN:VEVENT
SUMMARY:Rezervacija
DTSTART;TZID=Europe/Ljubljana:20200709T100000
DTEND;TZID=Europe/Ljubljana:20200709T120000
DTSTAMP:20260425T013535Z
UID:fmf-AFLABS-URNIK:rezervacija:5832
CATEGORIES:Reservation
COLOR:royalblue
DESCRIPTION:Predmeti: \nLetniki: \nIzvajalci: Dean Cvetko\nProstori: VFP
LOCATION:VFP
ORGANIZER:Dean Cvetko
X-WR-TIMEZONE:Europe/Ljubljana
END:VEVENT
BEGIN:VEVENT
SUMMARY:Rezervacija
DTSTART;TZID=Europe/Ljubljana:20200814T120000
DTEND;TZID=Europe/Ljubljana:20200814T140000
DTSTAMP:20260425T013535Z
UID:fmf-AFLABS-URNIK:rezervacija:5917
CATEGORIES:Reservation
COLOR:royalblue
DESCRIPTION:Predmeti: \nLetniki: \nIzvajalci: Dean Cvetko\nProstori: VFP
LOCATION:VFP
ORGANIZER:Dean Cvetko
X-WR-TIMEZONE:Europe/Ljubljana
END:VEVENT
END:VCALENDAR
