BEGIN:VCALENDAR
VERSION:2.0
PRODID:-//AFLabs urnik izvoz - fmf//aflabs.si//SI
DTSTAMP:20260424T092349Z
NAME:UL FMF urnik
REFRESH-INTERVAL:PT1H
SOURCE:https://urnik.fmf.uni-lj.si/teacher/77?day=2020-09-07&export=1
URL:https://urnik.fmf.uni-lj.si/teacher/77?day=2020-09-07&export=1
X-PUBLISHED-TTL:PT1H
X-WR-CALNAME:UL FMF urnik
X-WR-TIMEZONE:Europe/Ljubljana
BEGIN:VTIMEZONE
TZID:Europe/Ljubljana
BEGIN:DAYLIGHT
DTSTART:20260329T020000
RDATE:20260329T020000
RDATE:20270328T020000
TZNAME:CEST
TZOFFSETFROM:+0100
TZOFFSETTO:+0200
END:DAYLIGHT
BEGIN:STANDARD
DTSTART:20261025T030000
RDATE:20261025T030000
RDATE:20271031T030000
TZNAME:CET
TZOFFSETFROM:+0200
TZOFFSETTO:+0100
END:STANDARD
END:VTIMEZONE
BEGIN:VEVENT
SUMMARY:Uvod v biofiziko (BF mikro.) ()\, Predavanja (P)
DTSTART;TZID=Europe/Ljubljana:20201001T080000
DTEND;TZID=Europe/Ljubljana:20201001T100000
DTSTAMP:20260424T092349Z
UID:fmf-AFLABS-URNIK:premaknjeno-srecanje:114953
CATEGORIES:Entry,Standard
COLOR:darkgreen
DESCRIPTION:Predmet: Uvod v biofiziko (BF mikro.) ()\, Predavanja (P)\nLet
 niki: \nIzvajalci: Dean Cvetko\nProstor: Ž2 (BF)
LOCATION:Ž2 (BF)
ORGANIZER:Dean Cvetko
RELATED-TO:fmf-AFLABS-URNIK:srecanje:5251
X-WR-TIMEZONE:Europe/Ljubljana
END:VEVENT
BEGIN:VEVENT
SUMMARY:Uvod v biofiziko (BF mikro.) ()\, Predavanja (P)
DTSTART;TZID=Europe/Ljubljana:20201008T080000
DTEND;TZID=Europe/Ljubljana:20201008T100000
DTSTAMP:20260424T092349Z
UID:fmf-AFLABS-URNIK:premaknjeno-srecanje:114954
CATEGORIES:Entry,Standard
COLOR:darkgreen
DESCRIPTION:Predmet: Uvod v biofiziko (BF mikro.) ()\, Predavanja (P)\nLet
 niki: \nIzvajalci: Dean Cvetko\nProstor: Ž2 (BF)
LOCATION:Ž2 (BF)
ORGANIZER:Dean Cvetko
RELATED-TO:fmf-AFLABS-URNIK:srecanje:5251
X-WR-TIMEZONE:Europe/Ljubljana
END:VEVENT
BEGIN:VEVENT
SUMMARY:Uvod v biofiziko (BF mikro.) ()\, Predavanja (P)
DTSTART;TZID=Europe/Ljubljana:20201002T080000
DTEND;TZID=Europe/Ljubljana:20201002T100000
DTSTAMP:20260424T092349Z
UID:fmf-AFLABS-URNIK:premaknjeno-srecanje:115063
CATEGORIES:Entry,Standard
COLOR:darkgreen
DESCRIPTION:Predmet: Uvod v biofiziko (BF mikro.) ()\, Predavanja (P)\nLet
 niki: \nIzvajalci: Dean Cvetko\nProstor: Ž2 (BF)
LOCATION:Ž2 (BF)
ORGANIZER:Dean Cvetko
RELATED-TO:fmf-AFLABS-URNIK:srecanje:5252
X-WR-TIMEZONE:Europe/Ljubljana
END:VEVENT
BEGIN:VEVENT
SUMMARY:Uvod v biofiziko (BF mikro.) ()\, Predavanja (P)
DTSTART;TZID=Europe/Ljubljana:20201009T080000
DTEND;TZID=Europe/Ljubljana:20201009T100000
DTSTAMP:20260424T092349Z
UID:fmf-AFLABS-URNIK:premaknjeno-srecanje:115064
CATEGORIES:Entry,Standard
COLOR:darkgreen
DESCRIPTION:Predmet: Uvod v biofiziko (BF mikro.) ()\, Predavanja (P)\nLet
 niki: \nIzvajalci: Dean Cvetko\nProstor: Ž2 (BF)
LOCATION:Ž2 (BF)
ORGANIZER:Dean Cvetko
RELATED-TO:fmf-AFLABS-URNIK:srecanje:5252
X-WR-TIMEZONE:Europe/Ljubljana
END:VEVENT
BEGIN:VEVENT
SUMMARY:Fizikalna merjenja (APF-3)\, Predavanja (P)
DTSTART;TZID=Europe/Ljubljana:20201005T120000
DTEND;TZID=Europe/Ljubljana:20201005T150000
DTSTAMP:20260424T092349Z
UID:fmf-AFLABS-URNIK:premaknjeno-srecanje:32676
ATTENDEE:3. letnik (Aplikativna fizika)
CATEGORIES:Entry,Standard
COLOR:darkgreen
DESCRIPTION:Predmet: Fizikalna merjenja (APF-3)\, Predavanja (P)\nLetniki:
  3. letnik (Aplikativna fizika)\nIzvajalci: Dean Cvetko\nProstor: F7
LOCATION:F7
ORGANIZER:Dean Cvetko
RELATED-TO:fmf-AFLABS-URNIK:srecanje:4816
X-WR-TIMEZONE:Europe/Ljubljana
END:VEVENT
BEGIN:VEVENT
SUMMARY:Fizikalna merjenja (APF-3)\, Predavanja (P)
DTSTART;TZID=Europe/Ljubljana:20201012T120000
DTEND;TZID=Europe/Ljubljana:20201012T150000
DTSTAMP:20260424T092349Z
UID:fmf-AFLABS-URNIK:premaknjeno-srecanje:32677
ATTENDEE:3. letnik (Aplikativna fizika)
CATEGORIES:Entry,Standard
COLOR:darkgreen
DESCRIPTION:Predmet: Fizikalna merjenja (APF-3)\, Predavanja (P)\nLetniki:
  3. letnik (Aplikativna fizika)\nIzvajalci: Dean Cvetko\nProstor: F7
LOCATION:F7
ORGANIZER:Dean Cvetko
RELATED-TO:fmf-AFLABS-URNIK:srecanje:4816
X-WR-TIMEZONE:Europe/Ljubljana
END:VEVENT
BEGIN:VEVENT
SUMMARY:Fizikalna merjenja (APF-3)\, Seminar (S)
DTSTART;TZID=Europe/Ljubljana:20201005T150000
DTEND;TZID=Europe/Ljubljana:20201005T160000
DTSTAMP:20260424T092349Z
UID:fmf-AFLABS-URNIK:premaknjeno-srecanje:32787
ATTENDEE:3. letnik (Aplikativna fizika)
CATEGORIES:Entry,Standard
COLOR:darkgreen
DESCRIPTION:Predmet: Fizikalna merjenja (APF-3)\, Seminar (S)\nLetniki: 3.
  letnik (Aplikativna fizika)\nIzvajalci: Dean Cvetko\nProstor: F7
LOCATION:F7
ORGANIZER:Dean Cvetko
RELATED-TO:fmf-AFLABS-URNIK:srecanje:4817
X-WR-TIMEZONE:Europe/Ljubljana
END:VEVENT
BEGIN:VEVENT
SUMMARY:Fizikalna merjenja (APF-3)\, Seminar (S)
DTSTART;TZID=Europe/Ljubljana:20201012T150000
DTEND;TZID=Europe/Ljubljana:20201012T160000
DTSTAMP:20260424T092349Z
UID:fmf-AFLABS-URNIK:premaknjeno-srecanje:32788
ATTENDEE:3. letnik (Aplikativna fizika)
CATEGORIES:Entry,Standard
COLOR:darkgreen
DESCRIPTION:Predmet: Fizikalna merjenja (APF-3)\, Seminar (S)\nLetniki: 3.
  letnik (Aplikativna fizika)\nIzvajalci: Dean Cvetko\nProstor: F7
LOCATION:F7
ORGANIZER:Dean Cvetko
RELATED-TO:fmf-AFLABS-URNIK:srecanje:4817
X-WR-TIMEZONE:Europe/Ljubljana
END:VEVENT
BEGIN:VEVENT
SUMMARY:Uvod v biofiziko (BF mikro.) ()\, Predavanja (P)
DTSTART;TZID=Europe/Ljubljana:20201005T090000
DTEND;TZID=Europe/Ljubljana:20201005T120000
DTSTAMP:20260424T092349Z
UID:fmf-AFLABS-URNIK:premaknjeno-srecanje:114859
CATEGORIES:Entry,Standard
COLOR:darkgreen
DESCRIPTION:Predmet: Uvod v biofiziko (BF mikro.) ()\, Predavanja (P)\nLet
 niki: \nIzvajalci: Dean Cvetko\nProstor: Ž2 (BF)
LOCATION:Ž2 (BF)
ORGANIZER:Dean Cvetko
RELATED-TO:fmf-AFLABS-URNIK:srecanje:5250
X-WR-TIMEZONE:Europe/Ljubljana
END:VEVENT
BEGIN:VEVENT
SUMMARY:Uvod v biofiziko (BF mikro.) ()\, Predavanja (P)
DTSTART;TZID=Europe/Ljubljana:20201012T090000
DTEND;TZID=Europe/Ljubljana:20201012T120000
DTSTAMP:20260424T092349Z
UID:fmf-AFLABS-URNIK:premaknjeno-srecanje:114860
CATEGORIES:Entry,Standard
COLOR:darkgreen
DESCRIPTION:Predmet: Uvod v biofiziko (BF mikro.) ()\, Predavanja (P)\nLet
 niki: \nIzvajalci: Dean Cvetko\nProstor: Ž2 (BF)
LOCATION:Ž2 (BF)
ORGANIZER:Dean Cvetko
RELATED-TO:fmf-AFLABS-URNIK:srecanje:5250
X-WR-TIMEZONE:Europe/Ljubljana
END:VEVENT
BEGIN:VEVENT
SUMMARY:Industrijska fizika (FIZ-3)\, Predavanja (P)
DTSTART;TZID=Europe/Ljubljana:20201006T130000
DTEND;TZID=Europe/Ljubljana:20201006T150000
DTSTAMP:20260424T092349Z
UID:fmf-AFLABS-URNIK:premaknjeno-srecanje:42079
ATTENDEE:3. letnik (Fizika, 1. stopnja)
CATEGORIES:Entry,Standard
COLOR:darkgreen
DESCRIPTION:Predmet: Industrijska fizika (FIZ-3)\, Predavanja (P)\nLetniki
 : 3. letnik (Fizika\, 1. stopnja)\nIzvajalci: Denis Arčon\, Dean Cvetko\n
 Prostor: F4
LOCATION:F4
ORGANIZER:Denis Arčon, Dean Cvetko
RELATED-TO:fmf-AFLABS-URNIK:srecanje:4857
X-WR-TIMEZONE:Europe/Ljubljana
END:VEVENT
BEGIN:VEVENT
SUMMARY:Industrijska fizika (FIZ-3)\, Seminar (S)
DTSTART;TZID=Europe/Ljubljana:20201006T150000
DTEND;TZID=Europe/Ljubljana:20201006T160000
DTSTAMP:20260424T092349Z
UID:fmf-AFLABS-URNIK:premaknjeno-srecanje:42188
ATTENDEE:3. letnik (Fizika, 1. stopnja)
CATEGORIES:Entry,Standard
COLOR:darkgreen
DESCRIPTION:Predmet: Industrijska fizika (FIZ-3)\, Seminar (S)\nLetniki: 3
 . letnik (Fizika\, 1. stopnja)\nIzvajalci: Denis Arčon\, Dean Cvetko\nPro
 stor: F4
LOCATION:F4
ORGANIZER:Denis Arčon, Dean Cvetko
RELATED-TO:fmf-AFLABS-URNIK:srecanje:5359
X-WR-TIMEZONE:Europe/Ljubljana
END:VEVENT
BEGIN:VEVENT
SUMMARY:Seminar I (FIZ-M1\, JET-1\, JET-2\, MEF-1\, PEF-1)\, Predavanja (P
 )
DTSTART;TZID=Europe/Ljubljana:20201007T110000
DTEND;TZID=Europe/Ljubljana:20201007T140000
DTSTAMP:20260424T092349Z
UID:fmf-AFLABS-URNIK:premaknjeno-srecanje:101410
ATTENDEE:1. letnik (Fizika, 2. stopnja)
ATTENDEE:1. letnik (Jedrska tehnika, 2. stopnja)
ATTENDEE:1. letnik (Medicinska fizika, 2. stopnja)
ATTENDEE:1. letnik (Pedagoška fizika, 2. stopnja)
ATTENDEE:2. letnik (Jedrska tehnika, 2. stopnja)
CATEGORIES:Entry,Standard
COLOR:darkgreen
DESCRIPTION:Predmet: Seminar I (FIZ-M1\, JET-1\, JET-2\, MEF-1\, PEF-1)\, 
 Predavanja (P)\nLetniki: 1. letnik (Fizika\, 2. stopnja)\, 1. letnik (Jedr
 ska tehnika\, 2. stopnja)\, 2. letnik (Jedrska tehnika\, 2. stopnja)\, 1. 
 letnik (Medicinska fizika\, 2. stopnja)\, 1. letnik (Pedagoška fizika\, 2
 . stopnja)\nIzvajalci: Dean Cvetko\, Svjetlana Fajfer\nProstor: P.01
LOCATION:P.01
ORGANIZER:Dean Cvetko, Svjetlana Fajfer
RELATED-TO:fmf-AFLABS-URNIK:srecanje:5183
X-WR-TIMEZONE:Europe/Ljubljana
END:VEVENT
BEGIN:VEVENT
SUMMARY:Seminar I (FIZ-M1\, JET-1\, JET-2\, MEF-1\, PEF-1)\, Predavanja (P
 )
DTSTART;TZID=Europe/Ljubljana:20201007T110000
DTEND;TZID=Europe/Ljubljana:20201007T140000
DTSTAMP:20260424T092349Z
UID:fmf-AFLABS-URNIK:premaknjeno-srecanje:101425
ATTENDEE:1. letnik (Fizika, 2. stopnja)
ATTENDEE:1. letnik (Jedrska tehnika, 2. stopnja)
ATTENDEE:1. letnik (Medicinska fizika, 2. stopnja)
ATTENDEE:1. letnik (Pedagoška fizika, 2. stopnja)
ATTENDEE:2. letnik (Jedrska tehnika, 2. stopnja)
CATEGORIES:Entry,Standard
COLOR:darkgreen
DESCRIPTION:Predmet: Seminar I (FIZ-M1\, JET-1\, JET-2\, MEF-1\, PEF-1)\, 
 Predavanja (P)\nLetniki: 1. letnik (Fizika\, 2. stopnja)\, 1. letnik (Jedr
 ska tehnika\, 2. stopnja)\, 2. letnik (Jedrska tehnika\, 2. stopnja)\, 1. 
 letnik (Medicinska fizika\, 2. stopnja)\, 1. letnik (Pedagoška fizika\, 2
 . stopnja)\nIzvajalci: Dean Cvetko\, Svjetlana Fajfer\nProstor: Kuščerje
 v seminar
LOCATION:Kuščerjev seminar
ORGANIZER:Dean Cvetko, Svjetlana Fajfer
RELATED-TO:fmf-AFLABS-URNIK:srecanje:5399
X-WR-TIMEZONE:Europe/Ljubljana
END:VEVENT
BEGIN:VEVENT
SUMMARY:Seminar I (FIZ-M1\, JET-1\, JET-2\, MEF-1\, PEF-1)\, Predavanja (P
 )
DTSTART;TZID=Europe/Ljubljana:20201007T110000
DTEND;TZID=Europe/Ljubljana:20201007T140000
DTSTAMP:20260424T092349Z
UID:fmf-AFLABS-URNIK:premaknjeno-srecanje:101440
ATTENDEE:1. letnik (Fizika, 2. stopnja)
ATTENDEE:1. letnik (Jedrska tehnika, 2. stopnja)
ATTENDEE:1. letnik (Medicinska fizika, 2. stopnja)
ATTENDEE:1. letnik (Pedagoška fizika, 2. stopnja)
ATTENDEE:2. letnik (Jedrska tehnika, 2. stopnja)
CATEGORIES:Entry,Standard
COLOR:darkgreen
DESCRIPTION:Predmet: Seminar I (FIZ-M1\, JET-1\, JET-2\, MEF-1\, PEF-1)\, 
 Predavanja (P)\nLetniki: 1. letnik (Fizika\, 2. stopnja)\, 1. letnik (Jedr
 ska tehnika\, 2. stopnja)\, 2. letnik (Jedrska tehnika\, 2. stopnja)\, 1. 
 letnik (Medicinska fizika\, 2. stopnja)\, 1. letnik (Pedagoška fizika\, 2
 . stopnja)\nIzvajalci: Dean Cvetko\, Svjetlana Fajfer\nProstor: F6
LOCATION:F6
ORGANIZER:Dean Cvetko, Svjetlana Fajfer
RELATED-TO:fmf-AFLABS-URNIK:srecanje:5400
X-WR-TIMEZONE:Europe/Ljubljana
END:VEVENT
BEGIN:VEVENT
SUMMARY:Rezervacija
DTSTART;TZID=Europe/Ljubljana:20200814T120000
DTEND;TZID=Europe/Ljubljana:20200814T140000
DTSTAMP:20260424T092349Z
UID:fmf-AFLABS-URNIK:rezervacija:5917
CATEGORIES:Reservation
COLOR:royalblue
DESCRIPTION:Predmeti: \nLetniki: \nIzvajalci: Dean Cvetko\nProstori: VFP
LOCATION:VFP
ORGANIZER:Dean Cvetko
X-WR-TIMEZONE:Europe/Ljubljana
END:VEVENT
BEGIN:VEVENT
SUMMARY:Rezervacija
DTSTART;TZID=Europe/Ljubljana:20200824T090000
DTEND;TZID=Europe/Ljubljana:20200824T180000
DTSTAMP:20260424T092349Z
UID:fmf-AFLABS-URNIK:rezervacija:6012
ATTENDEE:3. letnik (Fizika, 1. stopnja)
CATEGORIES:Reservation
COLOR:royalblue
DESCRIPTION:Predmeti: Fizikalna merjenja I (FIZ-3)\nLetniki: 3. letnik (Fi
 zika\, 1. stopnja)\nIzvajalci: Dean Cvetko\nProstori: F3
LOCATION:F3
ORGANIZER:Dean Cvetko
X-WR-TIMEZONE:Europe/Ljubljana
END:VEVENT
BEGIN:VEVENT
SUMMARY:Rezervacija
DTSTART;TZID=Europe/Ljubljana:20200825T090000
DTEND;TZID=Europe/Ljubljana:20200825T180000
DTSTAMP:20260424T092349Z
UID:fmf-AFLABS-URNIK:rezervacija:6039
ATTENDEE:1. letnik (Fizika, 1. stopnja)
ATTENDEE:3. letnik (Aplikativna fizika)
ATTENDEE:3. letnik (Fizika, 1. stopnja)
CATEGORIES:Reservation
COLOR:royalblue
DESCRIPTION:Predmeti: Fizikalna merjenja (APF-3)\, Fizikalna merjenja I (F
 IZ-3)\, Fizikalni praktikum II (FIZ-1)\nLetniki: 3. letnik (Aplikativna fi
 zika)\, 1. letnik (Fizika\, 1. stopnja)\, 3. letnik (Fizika\, 1. stopnja)\
 nIzvajalci: Dean Cvetko\nProstori: F3
LOCATION:F3
ORGANIZER:Dean Cvetko
X-WR-TIMEZONE:Europe/Ljubljana
END:VEVENT
BEGIN:VEVENT
SUMMARY:Rezervacija
DTSTART;TZID=Europe/Ljubljana:20200826T140000
DTEND;TZID=Europe/Ljubljana:20200826T150000
DTSTAMP:20260424T092349Z
UID:fmf-AFLABS-URNIK:rezervacija:6073
CATEGORIES:Reservation
COLOR:royalblue
DESCRIPTION:Predmeti: Uvod v biofiziko (BF mikro.) ()\nLetniki: \nIzvajalc
 i: Dean Cvetko\nProstori: VFP
LOCATION:VFP
ORGANIZER:Dean Cvetko
X-WR-TIMEZONE:Europe/Ljubljana
END:VEVENT
BEGIN:VEVENT
SUMMARY:Rezervacija
DTSTART;TZID=Europe/Ljubljana:20200828T100000
DTEND;TZID=Europe/Ljubljana:20200828T120000
DTSTAMP:20260424T092349Z
UID:fmf-AFLABS-URNIK:rezervacija:6109
CATEGORIES:Reservation
COLOR:royalblue
DESCRIPTION:Predmeti: \nLetniki: \nIzvajalci: Dean Cvetko\nProstori: VFP
LOCATION:VFP
ORGANIZER:Dean Cvetko
X-WR-TIMEZONE:Europe/Ljubljana
END:VEVENT
BEGIN:VEVENT
SUMMARY:Rezervacija
DTSTART;TZID=Europe/Ljubljana:20200901T100000
DTEND;TZID=Europe/Ljubljana:20200901T110000
DTSTAMP:20260424T092349Z
UID:fmf-AFLABS-URNIK:rezervacija:6152
CATEGORIES:Reservation
COLOR:royalblue
DESCRIPTION:Predmeti: \nLetniki: \nIzvajalci: Dean Cvetko\nProstori: MFP
LOCATION:MFP
ORGANIZER:Dean Cvetko
X-WR-TIMEZONE:Europe/Ljubljana
END:VEVENT
BEGIN:VEVENT
SUMMARY:Rezervacija
DTSTART;TZID=Europe/Ljubljana:20200904T100000
DTEND;TZID=Europe/Ljubljana:20200904T120000
DTSTAMP:20260424T092349Z
UID:fmf-AFLABS-URNIK:rezervacija:6248
CATEGORIES:Reservation
COLOR:royalblue
DESCRIPTION:Predmeti: \nLetniki: \nIzvajalci: Dean Cvetko\nProstori: VFP
LOCATION:VFP
ORGANIZER:Dean Cvetko
X-WR-TIMEZONE:Europe/Ljubljana
END:VEVENT
BEGIN:VEVENT
SUMMARY:Rezervacija
DTSTART;TZID=Europe/Ljubljana:20200922T090000
DTEND;TZID=Europe/Ljubljana:20200922T140000
DTSTAMP:20260424T092349Z
UID:fmf-AFLABS-URNIK:rezervacija:6437
ATTENDEE:3. letnik (Fizika, 1. stopnja)
CATEGORIES:Reservation
COLOR:royalblue
DESCRIPTION:Predmeti: Fizikalna merjenja I (FIZ-3)\nLetniki: 3. letnik (Fi
 zika\, 1. stopnja)\nIzvajalci: Dean Cvetko\nProstori: F3
LOCATION:F3
ORGANIZER:Dean Cvetko
X-WR-TIMEZONE:Europe/Ljubljana
END:VEVENT
END:VCALENDAR
