BEGIN:VCALENDAR
VERSION:2.0
PRODID:-//AFLabs urnik izvoz - fmf//aflabs.si//SI
DTSTAMP:20260420T065507Z
NAME:UL FMF urnik
REFRESH-INTERVAL:PT1H
SOURCE:https://urnik.fmf.uni-lj.si/teacher/77?day=2022-06-27&export=1
URL:https://urnik.fmf.uni-lj.si/teacher/77?day=2022-06-27&export=1
X-PUBLISHED-TTL:PT1H
X-WR-CALNAME:UL FMF urnik
X-WR-TIMEZONE:Europe/Ljubljana
BEGIN:VTIMEZONE
TZID:Europe/Ljubljana
BEGIN:DAYLIGHT
DTSTART:20260329T020000
RDATE:20260329T020000
RDATE:20270328T020000
TZNAME:CEST
TZOFFSETFROM:+0100
TZOFFSETTO:+0200
END:DAYLIGHT
BEGIN:STANDARD
DTSTART:20261025T030000
RDATE:20261025T030000
RDATE:20271031T030000
TZNAME:CET
TZOFFSETFROM:+0200
TZOFFSETTO:+0100
END:STANDARD
END:VTIMEZONE
BEGIN:VEVENT
SUMMARY:Fizikalna merjenja I (FIZ-3)\, Predavanja (P)
DTSTART;TZID=Europe/Ljubljana:20220523T100000
DTEND;TZID=Europe/Ljubljana:20220523T130000
DTSTAMP:20260420T065507Z
UID:fmf-AFLABS-URNIK:premaknjeno-srecanje:32974
ATTENDEE:3. letnik (Fizika, 1. stopnja)
CATEGORIES:Entry,Standard
COLOR:darkgreen
DESCRIPTION:Predmet: Fizikalna merjenja I (FIZ-3)\, Predavanja (P)\nLetnik
 i: 3. letnik (Fizika\, 1. stopnja)\nIzvajalci: Dean Cvetko\nProstor: MFP
LOCATION:MFP
ORGANIZER:Dean Cvetko
RELATED-TO:fmf-AFLABS-URNIK:srecanje:6950
X-WR-TIMEZONE:Europe/Ljubljana
END:VEVENT
BEGIN:VEVENT
SUMMARY:Fizikalna merjenja I (FIZ-3)\, Predavanja (P)
DTSTART;TZID=Europe/Ljubljana:20220530T100000
DTEND;TZID=Europe/Ljubljana:20220530T130000
DTSTAMP:20260420T065507Z
UID:fmf-AFLABS-URNIK:premaknjeno-srecanje:32975
ATTENDEE:3. letnik (Fizika, 1. stopnja)
CATEGORIES:Entry,Standard
COLOR:darkgreen
DESCRIPTION:Predmet: Fizikalna merjenja I (FIZ-3)\, Predavanja (P)\nLetnik
 i: 3. letnik (Fizika\, 1. stopnja)\nIzvajalci: Dean Cvetko\nProstor: MFP
LOCATION:MFP
ORGANIZER:Dean Cvetko
RELATED-TO:fmf-AFLABS-URNIK:srecanje:6950
X-WR-TIMEZONE:Europe/Ljubljana
END:VEVENT
BEGIN:VEVENT
SUMMARY:Eksperimentalna fizika površin (FIZ-M1\, FIZ-M2)\, Predavanja (P)
DTSTART;TZID=Europe/Ljubljana:20220524T100000
DTEND;TZID=Europe/Ljubljana:20220524T120000
DTSTAMP:20260420T065507Z
UID:fmf-AFLABS-URNIK:premaknjeno-srecanje:17749
ATTENDEE:1. letnik (Fizika, 2. stopnja)
ATTENDEE:2. letnik (Fizika, 2. stopnja)
CATEGORIES:Entry,Standard
COLOR:darkgreen
DESCRIPTION:Predmet: Eksperimentalna fizika površin (FIZ-M1\, FIZ-M2)\, P
 redavanja (P)\nLetniki: 1. letnik (Fizika\, 2. stopnja)\, 2. letnik (Fizik
 a\, 2. stopnja)\nIzvajalci: Dean Cvetko\nProstor: F5
LOCATION:F5
ORGANIZER:Dean Cvetko
RELATED-TO:fmf-AFLABS-URNIK:srecanje:6898
X-WR-TIMEZONE:Europe/Ljubljana
END:VEVENT
BEGIN:VEVENT
SUMMARY:Eksperimentalna fizika površin (FIZ-M1\, FIZ-M2)\, Predavanja (P)
DTSTART;TZID=Europe/Ljubljana:20220531T100000
DTEND;TZID=Europe/Ljubljana:20220531T120000
DTSTAMP:20260420T065507Z
UID:fmf-AFLABS-URNIK:premaknjeno-srecanje:17750
ATTENDEE:1. letnik (Fizika, 2. stopnja)
ATTENDEE:2. letnik (Fizika, 2. stopnja)
CATEGORIES:Entry,Standard
COLOR:darkgreen
DESCRIPTION:Predmet: Eksperimentalna fizika površin (FIZ-M1\, FIZ-M2)\, P
 redavanja (P)\nLetniki: 1. letnik (Fizika\, 2. stopnja)\, 2. letnik (Fizik
 a\, 2. stopnja)\nIzvajalci: Dean Cvetko\nProstor: F5
LOCATION:F5
ORGANIZER:Dean Cvetko
RELATED-TO:fmf-AFLABS-URNIK:srecanje:6898
X-WR-TIMEZONE:Europe/Ljubljana
END:VEVENT
BEGIN:VEVENT
SUMMARY:Eksperimentalna fizika površin (FIZ-M1\, FIZ-M2)\, Vaje (V)
DTSTART;TZID=Europe/Ljubljana:20220524T120000
DTEND;TZID=Europe/Ljubljana:20220524T130000
DTSTAMP:20260420T065507Z
UID:fmf-AFLABS-URNIK:premaknjeno-srecanje:17780
ATTENDEE:1. letnik (Fizika, 2. stopnja)
ATTENDEE:2. letnik (Fizika, 2. stopnja)
CATEGORIES:Entry,Standard
COLOR:darkgreen
DESCRIPTION:Predmet: Eksperimentalna fizika površin (FIZ-M1\, FIZ-M2)\, V
 aje (V)\nLetniki: 1. letnik (Fizika\, 2. stopnja)\, 2. letnik (Fizika\, 2.
  stopnja)\nIzvajalci: Dean Cvetko\nProstor: F5
LOCATION:F5
ORGANIZER:Dean Cvetko
RELATED-TO:fmf-AFLABS-URNIK:srecanje:6899
X-WR-TIMEZONE:Europe/Ljubljana
END:VEVENT
BEGIN:VEVENT
SUMMARY:Eksperimentalna fizika površin (FIZ-M1\, FIZ-M2)\, Vaje (V)
DTSTART;TZID=Europe/Ljubljana:20220531T120000
DTEND;TZID=Europe/Ljubljana:20220531T130000
DTSTAMP:20260420T065507Z
UID:fmf-AFLABS-URNIK:premaknjeno-srecanje:17781
ATTENDEE:1. letnik (Fizika, 2. stopnja)
ATTENDEE:2. letnik (Fizika, 2. stopnja)
CATEGORIES:Entry,Standard
COLOR:darkgreen
DESCRIPTION:Predmet: Eksperimentalna fizika površin (FIZ-M1\, FIZ-M2)\, V
 aje (V)\nLetniki: 1. letnik (Fizika\, 2. stopnja)\, 2. letnik (Fizika\, 2.
  stopnja)\nIzvajalci: Dean Cvetko\nProstor: F5
LOCATION:F5
ORGANIZER:Dean Cvetko
RELATED-TO:fmf-AFLABS-URNIK:srecanje:6899
X-WR-TIMEZONE:Europe/Ljubljana
END:VEVENT
BEGIN:VEVENT
SUMMARY:Rezervacija
DTSTART;TZID=Europe/Ljubljana:20220609T090000
DTEND;TZID=Europe/Ljubljana:20220609T100000
DTSTAMP:20260420T065507Z
UID:fmf-AFLABS-URNIK:rezervacija:9248
CATEGORIES:Reservation
COLOR:royalblue
DESCRIPTION:Predmeti: Uvod v biofiziko (BF mikro.) ()\nLetniki: \nIzvajalc
 i: Dean Cvetko\nProstori: VFP
LOCATION:VFP
ORGANIZER:Dean Cvetko
X-WR-TIMEZONE:Europe/Ljubljana
END:VEVENT
BEGIN:VEVENT
SUMMARY:Rezervacija
DTSTART;TZID=Europe/Ljubljana:20220613T090000
DTEND;TZID=Europe/Ljubljana:20220613T180000
DTSTAMP:20260420T065507Z
UID:fmf-AFLABS-URNIK:rezervacija:9284
ATTENDEE:3. letnik (Fizika, 1. stopnja)
CATEGORIES:Reservation
COLOR:royalblue
DESCRIPTION:Predmeti: Fizikalna merjenja I (FIZ-3)\nLetniki: 3. letnik (Fi
 zika\, 1. stopnja)\nIzvajalci: Dean Cvetko\nProstori: F3
LOCATION:F3
ORGANIZER:Dean Cvetko
X-WR-TIMEZONE:Europe/Ljubljana
END:VEVENT
BEGIN:VEVENT
SUMMARY:Rezervacija
DTSTART;TZID=Europe/Ljubljana:20220614T080000
DTEND;TZID=Europe/Ljubljana:20220614T090000
DTSTAMP:20260420T065507Z
UID:fmf-AFLABS-URNIK:rezervacija:9311
CATEGORIES:Reservation
COLOR:royalblue
DESCRIPTION:Predmeti: Uvod v biofiziko (BF mikro.) ()\nLetniki: \nIzvajalc
 i: Dean Cvetko\nProstori: VFP
LOCATION:VFP
ORGANIZER:Dean Cvetko
X-WR-TIMEZONE:Europe/Ljubljana
END:VEVENT
BEGIN:VEVENT
SUMMARY:Rezervacija
DTSTART;TZID=Europe/Ljubljana:20220614T090000
DTEND;TZID=Europe/Ljubljana:20220614T180000
DTSTAMP:20260420T065507Z
UID:fmf-AFLABS-URNIK:rezervacija:9317
ATTENDEE:3. letnik (Fizika, 1. stopnja)
CATEGORIES:Reservation
COLOR:royalblue
DESCRIPTION:Predmeti: Fizikalna merjenja I (FIZ-3)\nLetniki: 3. letnik (Fi
 zika\, 1. stopnja)\nIzvajalci: Dean Cvetko\nProstori: F3
LOCATION:F3
ORGANIZER:Dean Cvetko
X-WR-TIMEZONE:Europe/Ljubljana
END:VEVENT
BEGIN:VEVENT
SUMMARY:Rezervacija
DTSTART;TZID=Europe/Ljubljana:20220615T090000
DTEND;TZID=Europe/Ljubljana:20220615T170000
DTSTAMP:20260420T065507Z
UID:fmf-AFLABS-URNIK:rezervacija:9340
ATTENDEE:3. letnik (Fizika, 1. stopnja)
CATEGORIES:Reservation
COLOR:royalblue
DESCRIPTION:Predmeti: Fizikalna merjenja I (FIZ-3)\nLetniki: 3. letnik (Fi
 zika\, 1. stopnja)\nIzvajalci: Dean Cvetko\nProstori: F3
LOCATION:F3
ORGANIZER:Dean Cvetko
X-WR-TIMEZONE:Europe/Ljubljana
END:VEVENT
BEGIN:VEVENT
SUMMARY:Rezervacija
DTSTART;TZID=Europe/Ljubljana:20220704T090000
DTEND;TZID=Europe/Ljubljana:20220704T170000
DTSTAMP:20260420T065507Z
UID:fmf-AFLABS-URNIK:rezervacija:9657
ATTENDEE:3. letnik (Fizika, 1. stopnja)
CATEGORIES:Reservation
COLOR:royalblue
DESCRIPTION:Predmeti: Fizikalna merjenja I (FIZ-3)\nLetniki: 3. letnik (Fi
 zika\, 1. stopnja)\nIzvajalci: Dean Cvetko\nProstori: F3
LOCATION:F3
ORGANIZER:Dean Cvetko
X-WR-TIMEZONE:Europe/Ljubljana
END:VEVENT
BEGIN:VEVENT
SUMMARY:Rezervacija
DTSTART;TZID=Europe/Ljubljana:20220705T090000
DTEND;TZID=Europe/Ljubljana:20220705T170000
DTSTAMP:20260420T065507Z
UID:fmf-AFLABS-URNIK:rezervacija:9680
ATTENDEE:3. letnik (Fizika, 1. stopnja)
CATEGORIES:Reservation
COLOR:royalblue
DESCRIPTION:Predmeti: Fizikalna merjenja I (FIZ-3)\nLetniki: 3. letnik (Fi
 zika\, 1. stopnja)\nIzvajalci: Dean Cvetko\nProstori: F3
LOCATION:F3
ORGANIZER:Dean Cvetko
X-WR-TIMEZONE:Europe/Ljubljana
END:VEVENT
BEGIN:VEVENT
SUMMARY:Rezervacija
DTSTART;TZID=Europe/Ljubljana:20220706T090000
DTEND;TZID=Europe/Ljubljana:20220706T170000
DTSTAMP:20260420T065507Z
UID:fmf-AFLABS-URNIK:rezervacija:9693
ATTENDEE:3. letnik (Fizika, 1. stopnja)
CATEGORIES:Reservation
COLOR:royalblue
DESCRIPTION:Predmeti: Fizikalna merjenja I (FIZ-3)\nLetniki: 3. letnik (Fi
 zika\, 1. stopnja)\nIzvajalci: Dean Cvetko\nProstori: F5
LOCATION:F5
ORGANIZER:Dean Cvetko
X-WR-TIMEZONE:Europe/Ljubljana
END:VEVENT
BEGIN:VEVENT
SUMMARY:Rezervacija
DTSTART;TZID=Europe/Ljubljana:20220707T100000
DTEND;TZID=Europe/Ljubljana:20220707T110000
DTSTAMP:20260420T065507Z
UID:fmf-AFLABS-URNIK:rezervacija:9709
CATEGORIES:Reservation
COLOR:royalblue
DESCRIPTION:Predmeti: Uvod v biofiziko (BF mikro.) ()\nLetniki: \nIzvajalc
 i: Dean Cvetko\nProstori: VFP
LOCATION:VFP
ORGANIZER:Dean Cvetko
X-WR-TIMEZONE:Europe/Ljubljana
END:VEVENT
END:VCALENDAR
