BEGIN:VCALENDAR
VERSION:2.0
PRODID:-//AFLabs urnik izvoz - fmf//aflabs.si//SI
DTSTAMP:20260419T235909Z
NAME:UL FMF urnik
REFRESH-INTERVAL:PT1H
SOURCE:https://urnik.fmf.uni-lj.si/teacher/77?day=2022-08-29&export=1
URL:https://urnik.fmf.uni-lj.si/teacher/77?day=2022-08-29&export=1
X-PUBLISHED-TTL:PT1H
X-WR-CALNAME:UL FMF urnik
X-WR-TIMEZONE:Europe/Ljubljana
BEGIN:VTIMEZONE
TZID:Europe/Ljubljana
BEGIN:DAYLIGHT
DTSTART:20260329T020000
RDATE:20260329T020000
RDATE:20270328T020000
TZNAME:CEST
TZOFFSETFROM:+0100
TZOFFSETTO:+0200
END:DAYLIGHT
BEGIN:STANDARD
DTSTART:20261025T030000
RDATE:20261025T030000
RDATE:20271031T030000
TZNAME:CET
TZOFFSETFROM:+0200
TZOFFSETTO:+0100
END:STANDARD
END:VTIMEZONE
BEGIN:VEVENT
SUMMARY:Fizikalna merjenja (APF-3)\, Predavanja (P)
DTSTART;TZID=Europe/Ljubljana:20221003T120000
DTEND;TZID=Europe/Ljubljana:20221003T150000
DTSTAMP:20260419T235909Z
UID:fmf-AFLABS-URNIK:premaknjeno-srecanje:32706
ATTENDEE:3. letnik (Aplikativna fizika)
CATEGORIES:Entry,Standard
COLOR:darkgreen
DESCRIPTION:Predmet: Fizikalna merjenja (APF-3)\, Predavanja (P)\nLetniki:
  3. letnik (Aplikativna fizika)\nIzvajalci: Dean Cvetko\nProstor: F7
LOCATION:F7
ORGANIZER:Dean Cvetko
RELATED-TO:fmf-AFLABS-URNIK:srecanje:7621
X-WR-TIMEZONE:Europe/Ljubljana
END:VEVENT
BEGIN:VEVENT
SUMMARY:Fizikalna merjenja (APF-3)\, Seminar (S)
DTSTART;TZID=Europe/Ljubljana:20221003T150000
DTEND;TZID=Europe/Ljubljana:20221003T160000
DTSTAMP:20260419T235909Z
UID:fmf-AFLABS-URNIK:premaknjeno-srecanje:32817
ATTENDEE:3. letnik (Aplikativna fizika)
CATEGORIES:Entry,Standard
COLOR:darkgreen
DESCRIPTION:Predmet: Fizikalna merjenja (APF-3)\, Seminar (S)\nLetniki: 3.
  letnik (Aplikativna fizika)\nIzvajalci: Dean Cvetko\nProstor: F7
LOCATION:F7
ORGANIZER:Dean Cvetko
RELATED-TO:fmf-AFLABS-URNIK:srecanje:7622
X-WR-TIMEZONE:Europe/Ljubljana
END:VEVENT
BEGIN:VEVENT
SUMMARY:Uvod v biofiziko (BF mikro.) ()\, Predavanja (P)
DTSTART;TZID=Europe/Ljubljana:20221003T090000
DTEND;TZID=Europe/Ljubljana:20221003T120000
DTSTAMP:20260419T235909Z
UID:fmf-AFLABS-URNIK:premaknjeno-srecanje:114889
CATEGORIES:Entry,Standard
COLOR:darkgreen
DESCRIPTION:Predmet: Uvod v biofiziko (BF mikro.) ()\, Predavanja (P)\nLet
 niki: \nIzvajalci: Dean Cvetko\nProstor: Ž2 (BF)
LOCATION:Ž2 (BF)
ORGANIZER:Dean Cvetko
RELATED-TO:fmf-AFLABS-URNIK:srecanje:8062
X-WR-TIMEZONE:Europe/Ljubljana
END:VEVENT
BEGIN:VEVENT
SUMMARY:Rezervacija
DTSTART;TZID=Europe/Ljubljana:20220819T090000
DTEND;TZID=Europe/Ljubljana:20220819T100000
DTSTAMP:20260419T235909Z
UID:fmf-AFLABS-URNIK:rezervacija:9843
ATTENDEE:2. letnik (M)
ATTENDEE:2. letnik (PM)
CATEGORIES:Reservation
COLOR:royalblue
DESCRIPTION:Predmeti: Analiza 2b (MAT-2\, PM-2)\, Uvod v biofiziko (BF mik
 ro.) ()\nLetniki: 2. letnik (M)\, 2. letnik (PM)\nIzvajalci: Dean Cvetko\n
 Prostori: VFP
LOCATION:VFP
ORGANIZER:Dean Cvetko
X-WR-TIMEZONE:Europe/Ljubljana
END:VEVENT
BEGIN:VEVENT
SUMMARY:Rezervacija
DTSTART;TZID=Europe/Ljubljana:20220901T110000
DTEND;TZID=Europe/Ljubljana:20220901T130000
DTSTAMP:20260419T235909Z
UID:fmf-AFLABS-URNIK:rezervacija:10080
CATEGORIES:Reservation
COLOR:royalblue
DESCRIPTION:Predmeti: Uvod v biofiziko (BF mikro.) ()\nLetniki: \nIzvajalc
 i: Dean Cvetko\nProstori: VFP
LOCATION:VFP
ORGANIZER:Dean Cvetko
X-WR-TIMEZONE:Europe/Ljubljana
END:VEVENT
BEGIN:VEVENT
SUMMARY:Rezervacija
DTSTART;TZID=Europe/Ljubljana:20220907T090000
DTEND;TZID=Europe/Ljubljana:20220907T170000
DTSTAMP:20260419T235909Z
UID:fmf-AFLABS-URNIK:rezervacija:10190
ATTENDEE:3. letnik (Fizika, 1. stopnja)
CATEGORIES:Reservation
COLOR:royalblue
DESCRIPTION:Predmeti: Fizikalna merjenja I (FIZ-3)\nLetniki: 3. letnik (Fi
 zika\, 1. stopnja)\nIzvajalci: Dean Cvetko\nProstori: F3
LOCATION:F3
ORGANIZER:Dean Cvetko
X-WR-TIMEZONE:Europe/Ljubljana
END:VEVENT
BEGIN:VEVENT
SUMMARY:Rezervacija
DTSTART;TZID=Europe/Ljubljana:20220908T090000
DTEND;TZID=Europe/Ljubljana:20220908T170000
DTSTAMP:20260419T235909Z
UID:fmf-AFLABS-URNIK:rezervacija:10224
ATTENDEE:3. letnik (Fizika, 1. stopnja)
CATEGORIES:Reservation
COLOR:royalblue
DESCRIPTION:Predmeti: Fizikalna merjenja I (FIZ-3)\nLetniki: 3. letnik (Fi
 zika\, 1. stopnja)\nIzvajalci: Dean Cvetko\nProstori: F3
LOCATION:F3
ORGANIZER:Dean Cvetko
X-WR-TIMEZONE:Europe/Ljubljana
END:VEVENT
BEGIN:VEVENT
SUMMARY:Rezervacija
DTSTART;TZID=Europe/Ljubljana:20220909T090000
DTEND;TZID=Europe/Ljubljana:20220909T170000
DTSTAMP:20260419T235909Z
UID:fmf-AFLABS-URNIK:rezervacija:10251
ATTENDEE:3. letnik (Fizika, 1. stopnja)
CATEGORIES:Reservation
COLOR:royalblue
DESCRIPTION:Predmeti: FE ()\, Fizikalna merjenja I (FIZ-3)\nLetniki: 3. le
 tnik (Fizika\, 1. stopnja)\nIzvajalci: Dean Cvetko\nProstori: F3
LOCATION:F3
ORGANIZER:Dean Cvetko
X-WR-TIMEZONE:Europe/Ljubljana
END:VEVENT
END:VCALENDAR
