BEGIN:VCALENDAR
VERSION:2.0
PRODID:-//AFLabs urnik izvoz - fmf//aflabs.si//SI
DTSTAMP:20260421T182659Z
NAME:UL FMF urnik
REFRESH-INTERVAL:PT1H
SOURCE:https://urnik.fmf.uni-lj.si/teacher/785?day=2023-05-29&export=1
URL:https://urnik.fmf.uni-lj.si/teacher/785?day=2023-05-29&export=1
X-PUBLISHED-TTL:PT1H
X-WR-CALNAME:UL FMF urnik
X-WR-TIMEZONE:Europe/Ljubljana
BEGIN:VTIMEZONE
TZID:Europe/Ljubljana
BEGIN:DAYLIGHT
DTSTART:20260329T020000
RDATE:20260329T020000
RDATE:20270328T020000
TZNAME:CEST
TZOFFSETFROM:+0100
TZOFFSETTO:+0200
END:DAYLIGHT
BEGIN:STANDARD
DTSTART:20261025T030000
RDATE:20261025T030000
RDATE:20271031T030000
TZNAME:CET
TZOFFSETFROM:+0200
TZOFFSETTO:+0100
END:STANDARD
END:VTIMEZONE
BEGIN:VEVENT
SUMMARY:Aktuarska matematika (FM-M\, MAT-M\, PM-5)\, Vaje (V)
DTSTART;TZID=Europe/Ljubljana:20230216T120000
DTEND;TZID=Europe/Ljubljana:20230216T140000
DTSTAMP:20260421T182659Z
UID:fmf-AFLABS-URNIK:premaknjeno-srecanje:916
ATTENDEE:5. letnik (PM)
ATTENDEE:magistrski študij (FM)
ATTENDEE:magistrski študij (M)
CATEGORIES:Entry,Standard
COLOR:darkgreen
DESCRIPTION:Predmet: Aktuarska matematika (FM-M\, MAT-M\, PM-5)\, Vaje (V)
 \nLetniki: magistrski študij (FM)\, magistrski študij (M)\, 5. letnik (P
 M)\nIzvajalci: Daniela Yordanova Tabakova\nProstor: 3.06
LOCATION:3.06
ORGANIZER:Daniela Yordanova Tabakova
RELATED-TO:fmf-AFLABS-URNIK:srecanje:8218
X-WR-TIMEZONE:Europe/Ljubljana
END:VEVENT
BEGIN:VEVENT
SUMMARY:Aktuarska matematika (FM-M\, MAT-M\, PM-5)\, Vaje (V)
DTSTART;TZID=Europe/Ljubljana:20230223T120000
DTEND;TZID=Europe/Ljubljana:20230223T140000
DTSTAMP:20260421T182659Z
UID:fmf-AFLABS-URNIK:premaknjeno-srecanje:917
ATTENDEE:5. letnik (PM)
ATTENDEE:magistrski študij (FM)
ATTENDEE:magistrski študij (M)
CATEGORIES:Entry,Standard
COLOR:darkgreen
DESCRIPTION:Predmet: Aktuarska matematika (FM-M\, MAT-M\, PM-5)\, Vaje (V)
 \nLetniki: magistrski študij (FM)\, magistrski študij (M)\, 5. letnik (P
 M)\nIzvajalci: Daniela Yordanova Tabakova\nProstor: 3.06
LOCATION:3.06
ORGANIZER:Daniela Yordanova Tabakova
RELATED-TO:fmf-AFLABS-URNIK:srecanje:8218
X-WR-TIMEZONE:Europe/Ljubljana
END:VEVENT
BEGIN:VEVENT
SUMMARY:Aktuarska matematika (FM-M\, MAT-M\, PM-5)\, Vaje (V)
DTSTART;TZID=Europe/Ljubljana:20230302T120000
DTEND;TZID=Europe/Ljubljana:20230302T140000
DTSTAMP:20260421T182659Z
UID:fmf-AFLABS-URNIK:premaknjeno-srecanje:918
ATTENDEE:5. letnik (PM)
ATTENDEE:magistrski študij (FM)
ATTENDEE:magistrski študij (M)
CATEGORIES:Entry,Standard
COLOR:darkgreen
DESCRIPTION:Predmet: Aktuarska matematika (FM-M\, MAT-M\, PM-5)\, Vaje (V)
 \nLetniki: magistrski študij (FM)\, magistrski študij (M)\, 5. letnik (P
 M)\nIzvajalci: Daniela Yordanova Tabakova\nProstor: 3.06
LOCATION:3.06
ORGANIZER:Daniela Yordanova Tabakova
RELATED-TO:fmf-AFLABS-URNIK:srecanje:8218
X-WR-TIMEZONE:Europe/Ljubljana
END:VEVENT
BEGIN:VEVENT
SUMMARY:Aktuarska matematika (FM-M\, MAT-M\, PM-5)\, Vaje (V)
DTSTART;TZID=Europe/Ljubljana:20230309T120000
DTEND;TZID=Europe/Ljubljana:20230309T140000
DTSTAMP:20260421T182659Z
UID:fmf-AFLABS-URNIK:premaknjeno-srecanje:919
ATTENDEE:5. letnik (PM)
ATTENDEE:magistrski študij (FM)
ATTENDEE:magistrski študij (M)
CATEGORIES:Entry,Standard
COLOR:darkgreen
DESCRIPTION:Predmet: Aktuarska matematika (FM-M\, MAT-M\, PM-5)\, Vaje (V)
 \nLetniki: magistrski študij (FM)\, magistrski študij (M)\, 5. letnik (P
 M)\nIzvajalci: Daniela Yordanova Tabakova\nProstor: 3.06
LOCATION:3.06
ORGANIZER:Daniela Yordanova Tabakova
RELATED-TO:fmf-AFLABS-URNIK:srecanje:8218
X-WR-TIMEZONE:Europe/Ljubljana
END:VEVENT
BEGIN:VEVENT
SUMMARY:Aktuarska matematika (FM-M\, MAT-M\, PM-5)\, Vaje (V)
DTSTART;TZID=Europe/Ljubljana:20230316T120000
DTEND;TZID=Europe/Ljubljana:20230316T140000
DTSTAMP:20260421T182659Z
UID:fmf-AFLABS-URNIK:premaknjeno-srecanje:920
ATTENDEE:5. letnik (PM)
ATTENDEE:magistrski študij (FM)
ATTENDEE:magistrski študij (M)
CATEGORIES:Entry,Standard
COLOR:darkgreen
DESCRIPTION:Predmet: Aktuarska matematika (FM-M\, MAT-M\, PM-5)\, Vaje (V)
 \nLetniki: magistrski študij (FM)\, magistrski študij (M)\, 5. letnik (P
 M)\nIzvajalci: Daniela Yordanova Tabakova\nProstor: 3.06
LOCATION:3.06
ORGANIZER:Daniela Yordanova Tabakova
RELATED-TO:fmf-AFLABS-URNIK:srecanje:8218
X-WR-TIMEZONE:Europe/Ljubljana
END:VEVENT
BEGIN:VEVENT
SUMMARY:Aktuarska matematika (FM-M\, MAT-M\, PM-5)\, Vaje (V)
DTSTART;TZID=Europe/Ljubljana:20230323T120000
DTEND;TZID=Europe/Ljubljana:20230323T140000
DTSTAMP:20260421T182659Z
UID:fmf-AFLABS-URNIK:premaknjeno-srecanje:921
ATTENDEE:5. letnik (PM)
ATTENDEE:magistrski študij (FM)
ATTENDEE:magistrski študij (M)
CATEGORIES:Entry,Standard
COLOR:darkgreen
DESCRIPTION:Predmet: Aktuarska matematika (FM-M\, MAT-M\, PM-5)\, Vaje (V)
 \nLetniki: magistrski študij (FM)\, magistrski študij (M)\, 5. letnik (P
 M)\nIzvajalci: Daniela Yordanova Tabakova\nProstor: 3.06
LOCATION:3.06
ORGANIZER:Daniela Yordanova Tabakova
RELATED-TO:fmf-AFLABS-URNIK:srecanje:8218
X-WR-TIMEZONE:Europe/Ljubljana
END:VEVENT
BEGIN:VEVENT
SUMMARY:Aktuarska matematika (FM-M\, MAT-M\, PM-5)\, Vaje (V)
DTSTART;TZID=Europe/Ljubljana:20230330T120000
DTEND;TZID=Europe/Ljubljana:20230330T140000
DTSTAMP:20260421T182659Z
UID:fmf-AFLABS-URNIK:premaknjeno-srecanje:922
ATTENDEE:5. letnik (PM)
ATTENDEE:magistrski študij (FM)
ATTENDEE:magistrski študij (M)
CATEGORIES:Entry,Standard
COLOR:darkgreen
DESCRIPTION:Predmet: Aktuarska matematika (FM-M\, MAT-M\, PM-5)\, Vaje (V)
 \nLetniki: magistrski študij (FM)\, magistrski študij (M)\, 5. letnik (P
 M)\nIzvajalci: Daniela Yordanova Tabakova\nProstor: 3.06
LOCATION:3.06
ORGANIZER:Daniela Yordanova Tabakova
RELATED-TO:fmf-AFLABS-URNIK:srecanje:8218
X-WR-TIMEZONE:Europe/Ljubljana
END:VEVENT
BEGIN:VEVENT
SUMMARY:Aktuarska matematika (FM-M\, MAT-M\, PM-5)\, Vaje (V)
DTSTART;TZID=Europe/Ljubljana:20230406T120000
DTEND;TZID=Europe/Ljubljana:20230406T140000
DTSTAMP:20260421T182659Z
UID:fmf-AFLABS-URNIK:premaknjeno-srecanje:923
ATTENDEE:5. letnik (PM)
ATTENDEE:magistrski študij (FM)
ATTENDEE:magistrski študij (M)
CATEGORIES:Entry,Standard
COLOR:darkgreen
DESCRIPTION:Predmet: Aktuarska matematika (FM-M\, MAT-M\, PM-5)\, Vaje (V)
 \nLetniki: magistrski študij (FM)\, magistrski študij (M)\, 5. letnik (P
 M)\nIzvajalci: Daniela Yordanova Tabakova\nProstor: 3.06
LOCATION:3.06
ORGANIZER:Daniela Yordanova Tabakova
RELATED-TO:fmf-AFLABS-URNIK:srecanje:8218
X-WR-TIMEZONE:Europe/Ljubljana
END:VEVENT
BEGIN:VEVENT
SUMMARY:Aktuarska matematika (FM-M\, MAT-M\, PM-5)\, Vaje (V)
DTSTART;TZID=Europe/Ljubljana:20230413T120000
DTEND;TZID=Europe/Ljubljana:20230413T140000
DTSTAMP:20260421T182659Z
UID:fmf-AFLABS-URNIK:premaknjeno-srecanje:924
ATTENDEE:5. letnik (PM)
ATTENDEE:magistrski študij (FM)
ATTENDEE:magistrski študij (M)
CATEGORIES:Entry,Standard
COLOR:darkgreen
DESCRIPTION:Predmet: Aktuarska matematika (FM-M\, MAT-M\, PM-5)\, Vaje (V)
 \nLetniki: magistrski študij (FM)\, magistrski študij (M)\, 5. letnik (P
 M)\nIzvajalci: Daniela Yordanova Tabakova\nProstor: 3.06
LOCATION:3.06
ORGANIZER:Daniela Yordanova Tabakova
RELATED-TO:fmf-AFLABS-URNIK:srecanje:8218
X-WR-TIMEZONE:Europe/Ljubljana
END:VEVENT
BEGIN:VEVENT
SUMMARY:Aktuarska matematika (FM-M\, MAT-M\, PM-5)\, Vaje (V)
DTSTART;TZID=Europe/Ljubljana:20230420T120000
DTEND;TZID=Europe/Ljubljana:20230420T140000
DTSTAMP:20260421T182659Z
UID:fmf-AFLABS-URNIK:premaknjeno-srecanje:925
ATTENDEE:5. letnik (PM)
ATTENDEE:magistrski študij (FM)
ATTENDEE:magistrski študij (M)
CATEGORIES:Entry,Standard
COLOR:darkgreen
DESCRIPTION:Predmet: Aktuarska matematika (FM-M\, MAT-M\, PM-5)\, Vaje (V)
 \nLetniki: magistrski študij (FM)\, magistrski študij (M)\, 5. letnik (P
 M)\nIzvajalci: Daniela Yordanova Tabakova\nProstor: 3.06
LOCATION:3.06
ORGANIZER:Daniela Yordanova Tabakova
RELATED-TO:fmf-AFLABS-URNIK:srecanje:8218
X-WR-TIMEZONE:Europe/Ljubljana
END:VEVENT
BEGIN:VEVENT
SUMMARY:Aktuarska matematika (FM-M\, MAT-M\, PM-5)\, Vaje (V)
DTSTART;TZID=Europe/Ljubljana:20230427T120000
DTEND;TZID=Europe/Ljubljana:20230427T140000
DTSTAMP:20260421T182659Z
UID:fmf-AFLABS-URNIK:premaknjeno-srecanje:926
ATTENDEE:5. letnik (PM)
ATTENDEE:magistrski študij (FM)
ATTENDEE:magistrski študij (M)
CATEGORIES:Entry,Standard
COLOR:darkgreen
DESCRIPTION:Predmet: Aktuarska matematika (FM-M\, MAT-M\, PM-5)\, Vaje (V)
 \nLetniki: magistrski študij (FM)\, magistrski študij (M)\, 5. letnik (P
 M)\nIzvajalci: Daniela Yordanova Tabakova\nProstor: 3.06
LOCATION:3.06
ORGANIZER:Daniela Yordanova Tabakova
RELATED-TO:fmf-AFLABS-URNIK:srecanje:8218
X-WR-TIMEZONE:Europe/Ljubljana
END:VEVENT
BEGIN:VEVENT
SUMMARY:Aktuarska matematika (FM-M\, MAT-M\, PM-5)\, Vaje (V)
DTSTART;TZID=Europe/Ljubljana:20230504T120000
DTEND;TZID=Europe/Ljubljana:20230504T140000
DTSTAMP:20260421T182659Z
UID:fmf-AFLABS-URNIK:premaknjeno-srecanje:927
ATTENDEE:5. letnik (PM)
ATTENDEE:magistrski študij (FM)
ATTENDEE:magistrski študij (M)
CATEGORIES:Entry,Standard
COLOR:darkgreen
DESCRIPTION:Predmet: Aktuarska matematika (FM-M\, MAT-M\, PM-5)\, Vaje (V)
 \nLetniki: magistrski študij (FM)\, magistrski študij (M)\, 5. letnik (P
 M)\nIzvajalci: Daniela Yordanova Tabakova\nProstor: 3.06
LOCATION:3.06
ORGANIZER:Daniela Yordanova Tabakova
RELATED-TO:fmf-AFLABS-URNIK:srecanje:8218
X-WR-TIMEZONE:Europe/Ljubljana
END:VEVENT
BEGIN:VEVENT
SUMMARY:Aktuarska matematika (FM-M\, MAT-M\, PM-5)\, Vaje (V)
DTSTART;TZID=Europe/Ljubljana:20230511T120000
DTEND;TZID=Europe/Ljubljana:20230511T140000
DTSTAMP:20260421T182659Z
UID:fmf-AFLABS-URNIK:premaknjeno-srecanje:928
ATTENDEE:5. letnik (PM)
ATTENDEE:magistrski študij (FM)
ATTENDEE:magistrski študij (M)
CATEGORIES:Entry,Standard
COLOR:darkgreen
DESCRIPTION:Predmet: Aktuarska matematika (FM-M\, MAT-M\, PM-5)\, Vaje (V)
 \nLetniki: magistrski študij (FM)\, magistrski študij (M)\, 5. letnik (P
 M)\nIzvajalci: Daniela Yordanova Tabakova\nProstor: 3.06
LOCATION:3.06
ORGANIZER:Daniela Yordanova Tabakova
RELATED-TO:fmf-AFLABS-URNIK:srecanje:8218
X-WR-TIMEZONE:Europe/Ljubljana
END:VEVENT
BEGIN:VEVENT
SUMMARY:Aktuarska matematika (FM-M\, MAT-M\, PM-5)\, Vaje (V)
DTSTART;TZID=Europe/Ljubljana:20230518T120000
DTEND;TZID=Europe/Ljubljana:20230518T140000
DTSTAMP:20260421T182659Z
UID:fmf-AFLABS-URNIK:premaknjeno-srecanje:929
ATTENDEE:5. letnik (PM)
ATTENDEE:magistrski študij (FM)
ATTENDEE:magistrski študij (M)
CATEGORIES:Entry,Standard
COLOR:darkgreen
DESCRIPTION:Predmet: Aktuarska matematika (FM-M\, MAT-M\, PM-5)\, Vaje (V)
 \nLetniki: magistrski študij (FM)\, magistrski študij (M)\, 5. letnik (P
 M)\nIzvajalci: Daniela Yordanova Tabakova\nProstor: 3.06
LOCATION:3.06
ORGANIZER:Daniela Yordanova Tabakova
RELATED-TO:fmf-AFLABS-URNIK:srecanje:8218
X-WR-TIMEZONE:Europe/Ljubljana
END:VEVENT
BEGIN:VEVENT
SUMMARY:Aktuarska matematika (FM-M\, MAT-M\, PM-5)\, Vaje (V)
DTSTART;TZID=Europe/Ljubljana:20230525T120000
DTEND;TZID=Europe/Ljubljana:20230525T140000
DTSTAMP:20260421T182659Z
UID:fmf-AFLABS-URNIK:premaknjeno-srecanje:930
ATTENDEE:5. letnik (PM)
ATTENDEE:magistrski študij (FM)
ATTENDEE:magistrski študij (M)
CATEGORIES:Entry,Standard
COLOR:darkgreen
DESCRIPTION:Predmet: Aktuarska matematika (FM-M\, MAT-M\, PM-5)\, Vaje (V)
 \nLetniki: magistrski študij (FM)\, magistrski študij (M)\, 5. letnik (P
 M)\nIzvajalci: Daniela Yordanova Tabakova\nProstor: 3.06
LOCATION:3.06
ORGANIZER:Daniela Yordanova Tabakova
RELATED-TO:fmf-AFLABS-URNIK:srecanje:8218
X-WR-TIMEZONE:Europe/Ljubljana
END:VEVENT
BEGIN:VEVENT
SUMMARY:Aktuarska matematika (FM-M\, MAT-M\, PM-5)\, Vaje (V)
DTSTART;TZID=Europe/Ljubljana:20230601T120000
DTEND;TZID=Europe/Ljubljana:20230601T140000
DTSTAMP:20260421T182659Z
UID:fmf-AFLABS-URNIK:premaknjeno-srecanje:931
ATTENDEE:5. letnik (PM)
ATTENDEE:magistrski študij (FM)
ATTENDEE:magistrski študij (M)
CATEGORIES:Entry,Standard
COLOR:darkgreen
DESCRIPTION:Predmet: Aktuarska matematika (FM-M\, MAT-M\, PM-5)\, Vaje (V)
 \nLetniki: magistrski študij (FM)\, magistrski študij (M)\, 5. letnik (P
 M)\nIzvajalci: Daniela Yordanova Tabakova\nProstor: 3.06
LOCATION:3.06
ORGANIZER:Daniela Yordanova Tabakova
RELATED-TO:fmf-AFLABS-URNIK:srecanje:8218
X-WR-TIMEZONE:Europe/Ljubljana
END:VEVENT
BEGIN:VEVENT
SUMMARY:Aktuarska matematika (FM-M\, MAT-M\, PM-5)\, Vaje (V)
DTSTART;TZID=Europe/Ljubljana:20230216T140000
DTEND;TZID=Europe/Ljubljana:20230216T160000
DTSTAMP:20260421T182659Z
UID:fmf-AFLABS-URNIK:premaknjeno-srecanje:932
ATTENDEE:5. letnik (PM)
ATTENDEE:magistrski študij (FM)
ATTENDEE:magistrski študij (M)
CATEGORIES:Entry,Standard
COLOR:darkgreen
DESCRIPTION:Predmet: Aktuarska matematika (FM-M\, MAT-M\, PM-5)\, Vaje (V)
 \nLetniki: magistrski študij (FM)\, magistrski študij (M)\, 5. letnik (P
 M)\nIzvajalci: Daniela Yordanova Tabakova\nProstor: 2.03
LOCATION:2.03
ORGANIZER:Daniela Yordanova Tabakova
RELATED-TO:fmf-AFLABS-URNIK:srecanje:8927
X-WR-TIMEZONE:Europe/Ljubljana
END:VEVENT
BEGIN:VEVENT
SUMMARY:Aktuarska matematika (FM-M\, MAT-M\, PM-5)\, Vaje (V)
DTSTART;TZID=Europe/Ljubljana:20230223T140000
DTEND;TZID=Europe/Ljubljana:20230223T160000
DTSTAMP:20260421T182659Z
UID:fmf-AFLABS-URNIK:premaknjeno-srecanje:933
ATTENDEE:5. letnik (PM)
ATTENDEE:magistrski študij (FM)
ATTENDEE:magistrski študij (M)
CATEGORIES:Entry,Standard
COLOR:darkgreen
DESCRIPTION:Predmet: Aktuarska matematika (FM-M\, MAT-M\, PM-5)\, Vaje (V)
 \nLetniki: magistrski študij (FM)\, magistrski študij (M)\, 5. letnik (P
 M)\nIzvajalci: Daniela Yordanova Tabakova\nProstor: 2.03
LOCATION:2.03
ORGANIZER:Daniela Yordanova Tabakova
RELATED-TO:fmf-AFLABS-URNIK:srecanje:8927
X-WR-TIMEZONE:Europe/Ljubljana
END:VEVENT
BEGIN:VEVENT
SUMMARY:Aktuarska matematika (FM-M\, MAT-M\, PM-5)\, Vaje (V)
DTSTART;TZID=Europe/Ljubljana:20230302T140000
DTEND;TZID=Europe/Ljubljana:20230302T160000
DTSTAMP:20260421T182659Z
UID:fmf-AFLABS-URNIK:premaknjeno-srecanje:934
ATTENDEE:5. letnik (PM)
ATTENDEE:magistrski študij (FM)
ATTENDEE:magistrski študij (M)
CATEGORIES:Entry,Standard
COLOR:darkgreen
DESCRIPTION:Predmet: Aktuarska matematika (FM-M\, MAT-M\, PM-5)\, Vaje (V)
 \nLetniki: magistrski študij (FM)\, magistrski študij (M)\, 5. letnik (P
 M)\nIzvajalci: Daniela Yordanova Tabakova\nProstor: 2.03
LOCATION:2.03
ORGANIZER:Daniela Yordanova Tabakova
RELATED-TO:fmf-AFLABS-URNIK:srecanje:8927
X-WR-TIMEZONE:Europe/Ljubljana
END:VEVENT
BEGIN:VEVENT
SUMMARY:Aktuarska matematika (FM-M\, MAT-M\, PM-5)\, Vaje (V)
DTSTART;TZID=Europe/Ljubljana:20230309T140000
DTEND;TZID=Europe/Ljubljana:20230309T160000
DTSTAMP:20260421T182659Z
UID:fmf-AFLABS-URNIK:premaknjeno-srecanje:935
ATTENDEE:5. letnik (PM)
ATTENDEE:magistrski študij (FM)
ATTENDEE:magistrski študij (M)
CATEGORIES:Entry,Standard
COLOR:darkgreen
DESCRIPTION:Predmet: Aktuarska matematika (FM-M\, MAT-M\, PM-5)\, Vaje (V)
 \nLetniki: magistrski študij (FM)\, magistrski študij (M)\, 5. letnik (P
 M)\nIzvajalci: Daniela Yordanova Tabakova\nProstor: 2.03
LOCATION:2.03
ORGANIZER:Daniela Yordanova Tabakova
RELATED-TO:fmf-AFLABS-URNIK:srecanje:8927
X-WR-TIMEZONE:Europe/Ljubljana
END:VEVENT
BEGIN:VEVENT
SUMMARY:Aktuarska matematika (FM-M\, MAT-M\, PM-5)\, Vaje (V)
DTSTART;TZID=Europe/Ljubljana:20230316T140000
DTEND;TZID=Europe/Ljubljana:20230316T160000
DTSTAMP:20260421T182659Z
UID:fmf-AFLABS-URNIK:premaknjeno-srecanje:936
ATTENDEE:5. letnik (PM)
ATTENDEE:magistrski študij (FM)
ATTENDEE:magistrski študij (M)
CATEGORIES:Entry,Standard
COLOR:darkgreen
DESCRIPTION:Predmet: Aktuarska matematika (FM-M\, MAT-M\, PM-5)\, Vaje (V)
 \nLetniki: magistrski študij (FM)\, magistrski študij (M)\, 5. letnik (P
 M)\nIzvajalci: Daniela Yordanova Tabakova\nProstor: 2.03
LOCATION:2.03
ORGANIZER:Daniela Yordanova Tabakova
RELATED-TO:fmf-AFLABS-URNIK:srecanje:8927
X-WR-TIMEZONE:Europe/Ljubljana
END:VEVENT
BEGIN:VEVENT
SUMMARY:Aktuarska matematika (FM-M\, MAT-M\, PM-5)\, Vaje (V)
DTSTART;TZID=Europe/Ljubljana:20230323T140000
DTEND;TZID=Europe/Ljubljana:20230323T160000
DTSTAMP:20260421T182659Z
UID:fmf-AFLABS-URNIK:premaknjeno-srecanje:937
ATTENDEE:5. letnik (PM)
ATTENDEE:magistrski študij (FM)
ATTENDEE:magistrski študij (M)
CATEGORIES:Entry,Standard
COLOR:darkgreen
DESCRIPTION:Predmet: Aktuarska matematika (FM-M\, MAT-M\, PM-5)\, Vaje (V)
 \nLetniki: magistrski študij (FM)\, magistrski študij (M)\, 5. letnik (P
 M)\nIzvajalci: Daniela Yordanova Tabakova\nProstor: 2.03
LOCATION:2.03
ORGANIZER:Daniela Yordanova Tabakova
RELATED-TO:fmf-AFLABS-URNIK:srecanje:8927
X-WR-TIMEZONE:Europe/Ljubljana
END:VEVENT
BEGIN:VEVENT
SUMMARY:Aktuarska matematika (FM-M\, MAT-M\, PM-5)\, Vaje (V)
DTSTART;TZID=Europe/Ljubljana:20230330T140000
DTEND;TZID=Europe/Ljubljana:20230330T160000
DTSTAMP:20260421T182659Z
UID:fmf-AFLABS-URNIK:premaknjeno-srecanje:938
ATTENDEE:5. letnik (PM)
ATTENDEE:magistrski študij (FM)
ATTENDEE:magistrski študij (M)
CATEGORIES:Entry,Standard
COLOR:darkgreen
DESCRIPTION:Predmet: Aktuarska matematika (FM-M\, MAT-M\, PM-5)\, Vaje (V)
 \nLetniki: magistrski študij (FM)\, magistrski študij (M)\, 5. letnik (P
 M)\nIzvajalci: Daniela Yordanova Tabakova\nProstor: 2.03
LOCATION:2.03
ORGANIZER:Daniela Yordanova Tabakova
RELATED-TO:fmf-AFLABS-URNIK:srecanje:8927
X-WR-TIMEZONE:Europe/Ljubljana
END:VEVENT
BEGIN:VEVENT
SUMMARY:Aktuarska matematika (FM-M\, MAT-M\, PM-5)\, Vaje (V)
DTSTART;TZID=Europe/Ljubljana:20230406T140000
DTEND;TZID=Europe/Ljubljana:20230406T160000
DTSTAMP:20260421T182659Z
UID:fmf-AFLABS-URNIK:premaknjeno-srecanje:939
ATTENDEE:5. letnik (PM)
ATTENDEE:magistrski študij (FM)
ATTENDEE:magistrski študij (M)
CATEGORIES:Entry,Standard
COLOR:darkgreen
DESCRIPTION:Predmet: Aktuarska matematika (FM-M\, MAT-M\, PM-5)\, Vaje (V)
 \nLetniki: magistrski študij (FM)\, magistrski študij (M)\, 5. letnik (P
 M)\nIzvajalci: Daniela Yordanova Tabakova\nProstor: 2.03
LOCATION:2.03
ORGANIZER:Daniela Yordanova Tabakova
RELATED-TO:fmf-AFLABS-URNIK:srecanje:8927
X-WR-TIMEZONE:Europe/Ljubljana
END:VEVENT
BEGIN:VEVENT
SUMMARY:Aktuarska matematika (FM-M\, MAT-M\, PM-5)\, Vaje (V)
DTSTART;TZID=Europe/Ljubljana:20230413T140000
DTEND;TZID=Europe/Ljubljana:20230413T160000
DTSTAMP:20260421T182659Z
UID:fmf-AFLABS-URNIK:premaknjeno-srecanje:940
ATTENDEE:5. letnik (PM)
ATTENDEE:magistrski študij (FM)
ATTENDEE:magistrski študij (M)
CATEGORIES:Entry,Standard
COLOR:darkgreen
DESCRIPTION:Predmet: Aktuarska matematika (FM-M\, MAT-M\, PM-5)\, Vaje (V)
 \nLetniki: magistrski študij (FM)\, magistrski študij (M)\, 5. letnik (P
 M)\nIzvajalci: Daniela Yordanova Tabakova\nProstor: 2.03
LOCATION:2.03
ORGANIZER:Daniela Yordanova Tabakova
RELATED-TO:fmf-AFLABS-URNIK:srecanje:8927
X-WR-TIMEZONE:Europe/Ljubljana
END:VEVENT
BEGIN:VEVENT
SUMMARY:Aktuarska matematika (FM-M\, MAT-M\, PM-5)\, Vaje (V)
DTSTART;TZID=Europe/Ljubljana:20230420T140000
DTEND;TZID=Europe/Ljubljana:20230420T160000
DTSTAMP:20260421T182659Z
UID:fmf-AFLABS-URNIK:premaknjeno-srecanje:941
ATTENDEE:5. letnik (PM)
ATTENDEE:magistrski študij (FM)
ATTENDEE:magistrski študij (M)
CATEGORIES:Entry,Standard
COLOR:darkgreen
DESCRIPTION:Predmet: Aktuarska matematika (FM-M\, MAT-M\, PM-5)\, Vaje (V)
 \nLetniki: magistrski študij (FM)\, magistrski študij (M)\, 5. letnik (P
 M)\nIzvajalci: Daniela Yordanova Tabakova\nProstor: 2.03
LOCATION:2.03
ORGANIZER:Daniela Yordanova Tabakova
RELATED-TO:fmf-AFLABS-URNIK:srecanje:8927
X-WR-TIMEZONE:Europe/Ljubljana
END:VEVENT
BEGIN:VEVENT
SUMMARY:Aktuarska matematika (FM-M\, MAT-M\, PM-5)\, Vaje (V)
DTSTART;TZID=Europe/Ljubljana:20230427T140000
DTEND;TZID=Europe/Ljubljana:20230427T160000
DTSTAMP:20260421T182659Z
UID:fmf-AFLABS-URNIK:premaknjeno-srecanje:942
ATTENDEE:5. letnik (PM)
ATTENDEE:magistrski študij (FM)
ATTENDEE:magistrski študij (M)
CATEGORIES:Entry,Standard
COLOR:darkgreen
DESCRIPTION:Predmet: Aktuarska matematika (FM-M\, MAT-M\, PM-5)\, Vaje (V)
 \nLetniki: magistrski študij (FM)\, magistrski študij (M)\, 5. letnik (P
 M)\nIzvajalci: Daniela Yordanova Tabakova\nProstor: 2.03
LOCATION:2.03
ORGANIZER:Daniela Yordanova Tabakova
RELATED-TO:fmf-AFLABS-URNIK:srecanje:8927
X-WR-TIMEZONE:Europe/Ljubljana
END:VEVENT
BEGIN:VEVENT
SUMMARY:Aktuarska matematika (FM-M\, MAT-M\, PM-5)\, Vaje (V)
DTSTART;TZID=Europe/Ljubljana:20230504T140000
DTEND;TZID=Europe/Ljubljana:20230504T160000
DTSTAMP:20260421T182659Z
UID:fmf-AFLABS-URNIK:premaknjeno-srecanje:943
ATTENDEE:5. letnik (PM)
ATTENDEE:magistrski študij (FM)
ATTENDEE:magistrski študij (M)
CATEGORIES:Entry,Standard
COLOR:darkgreen
DESCRIPTION:Predmet: Aktuarska matematika (FM-M\, MAT-M\, PM-5)\, Vaje (V)
 \nLetniki: magistrski študij (FM)\, magistrski študij (M)\, 5. letnik (P
 M)\nIzvajalci: Daniela Yordanova Tabakova\nProstor: 2.03
LOCATION:2.03
ORGANIZER:Daniela Yordanova Tabakova
RELATED-TO:fmf-AFLABS-URNIK:srecanje:8927
X-WR-TIMEZONE:Europe/Ljubljana
END:VEVENT
BEGIN:VEVENT
SUMMARY:Aktuarska matematika (FM-M\, MAT-M\, PM-5)\, Vaje (V)
DTSTART;TZID=Europe/Ljubljana:20230511T140000
DTEND;TZID=Europe/Ljubljana:20230511T160000
DTSTAMP:20260421T182659Z
UID:fmf-AFLABS-URNIK:premaknjeno-srecanje:944
ATTENDEE:5. letnik (PM)
ATTENDEE:magistrski študij (FM)
ATTENDEE:magistrski študij (M)
CATEGORIES:Entry,Standard
COLOR:darkgreen
DESCRIPTION:Predmet: Aktuarska matematika (FM-M\, MAT-M\, PM-5)\, Vaje (V)
 \nLetniki: magistrski študij (FM)\, magistrski študij (M)\, 5. letnik (P
 M)\nIzvajalci: Daniela Yordanova Tabakova\nProstor: 2.03
LOCATION:2.03
ORGANIZER:Daniela Yordanova Tabakova
RELATED-TO:fmf-AFLABS-URNIK:srecanje:8927
X-WR-TIMEZONE:Europe/Ljubljana
END:VEVENT
BEGIN:VEVENT
SUMMARY:Aktuarska matematika (FM-M\, MAT-M\, PM-5)\, Vaje (V)
DTSTART;TZID=Europe/Ljubljana:20230518T140000
DTEND;TZID=Europe/Ljubljana:20230518T160000
DTSTAMP:20260421T182659Z
UID:fmf-AFLABS-URNIK:premaknjeno-srecanje:945
ATTENDEE:5. letnik (PM)
ATTENDEE:magistrski študij (FM)
ATTENDEE:magistrski študij (M)
CATEGORIES:Entry,Standard
COLOR:darkgreen
DESCRIPTION:Predmet: Aktuarska matematika (FM-M\, MAT-M\, PM-5)\, Vaje (V)
 \nLetniki: magistrski študij (FM)\, magistrski študij (M)\, 5. letnik (P
 M)\nIzvajalci: Daniela Yordanova Tabakova\nProstor: 2.03
LOCATION:2.03
ORGANIZER:Daniela Yordanova Tabakova
RELATED-TO:fmf-AFLABS-URNIK:srecanje:8927
X-WR-TIMEZONE:Europe/Ljubljana
END:VEVENT
BEGIN:VEVENT
SUMMARY:Aktuarska matematika (FM-M\, MAT-M\, PM-5)\, Vaje (V)
DTSTART;TZID=Europe/Ljubljana:20230525T140000
DTEND;TZID=Europe/Ljubljana:20230525T160000
DTSTAMP:20260421T182659Z
UID:fmf-AFLABS-URNIK:premaknjeno-srecanje:946
ATTENDEE:5. letnik (PM)
ATTENDEE:magistrski študij (FM)
ATTENDEE:magistrski študij (M)
CATEGORIES:Entry,Standard
COLOR:darkgreen
DESCRIPTION:Predmet: Aktuarska matematika (FM-M\, MAT-M\, PM-5)\, Vaje (V)
 \nLetniki: magistrski študij (FM)\, magistrski študij (M)\, 5. letnik (P
 M)\nIzvajalci: Daniela Yordanova Tabakova\nProstor: 2.03
LOCATION:2.03
ORGANIZER:Daniela Yordanova Tabakova
RELATED-TO:fmf-AFLABS-URNIK:srecanje:8927
X-WR-TIMEZONE:Europe/Ljubljana
END:VEVENT
BEGIN:VEVENT
SUMMARY:Aktuarska matematika (FM-M\, MAT-M\, PM-5)\, Vaje (V)
DTSTART;TZID=Europe/Ljubljana:20230601T140000
DTEND;TZID=Europe/Ljubljana:20230601T160000
DTSTAMP:20260421T182659Z
UID:fmf-AFLABS-URNIK:premaknjeno-srecanje:947
ATTENDEE:5. letnik (PM)
ATTENDEE:magistrski študij (FM)
ATTENDEE:magistrski študij (M)
CATEGORIES:Entry,Standard
COLOR:darkgreen
DESCRIPTION:Predmet: Aktuarska matematika (FM-M\, MAT-M\, PM-5)\, Vaje (V)
 \nLetniki: magistrski študij (FM)\, magistrski študij (M)\, 5. letnik (P
 M)\nIzvajalci: Daniela Yordanova Tabakova\nProstor: 2.03
LOCATION:2.03
ORGANIZER:Daniela Yordanova Tabakova
RELATED-TO:fmf-AFLABS-URNIK:srecanje:8927
X-WR-TIMEZONE:Europe/Ljubljana
END:VEVENT
END:VCALENDAR
