BEGIN:VCALENDAR
VERSION:2.0
PRODID:-//AFLabs urnik izvoz - fmf//aflabs.si//SI
DTSTAMP:20260425T105917Z
NAME:UL FMF urnik
REFRESH-INTERVAL:PT1H
SOURCE:https://urnik.fmf.uni-lj.si/teacher/788?day=2025-02-03&export=1
URL:https://urnik.fmf.uni-lj.si/teacher/788?day=2025-02-03&export=1
X-PUBLISHED-TTL:PT1H
X-WR-CALNAME:UL FMF urnik
X-WR-TIMEZONE:Europe/Ljubljana
BEGIN:VTIMEZONE
TZID:Europe/Ljubljana
BEGIN:DAYLIGHT
DTSTART:20260329T020000
RDATE:20260329T020000
RDATE:20270328T020000
TZNAME:CEST
TZOFFSETFROM:+0100
TZOFFSETTO:+0200
END:DAYLIGHT
BEGIN:STANDARD
DTSTART:20261025T030000
RDATE:20261025T030000
RDATE:20271031T030000
TZNAME:CET
TZOFFSETFROM:+0200
TZOFFSETTO:+0100
END:STANDARD
END:VTIMEZONE
BEGIN:VEVENT
SUMMARY:Poučevanje matematike in fizike v angleškem jeziku (PEF-1\, PEF-
 2\, PM-4\, PM-5)\, Predavanja (P)
DTSTART;TZID=Europe/Ljubljana:20250220T130000
DTEND;TZID=Europe/Ljubljana:20250220T150000
DTSTAMP:20260425T105917Z
UID:fmf-AFLABS-URNIK:premaknjeno-srecanje:214160
ATTENDEE:1. letnik (Pedagoška fizika, 2. stopnja)
ATTENDEE:2. letnik (Pedagoška fizika, 2. stopnja)
ATTENDEE:4. letnik (PM)
ATTENDEE:5. letnik (PM)
CATEGORIES:Entry,Standard
COLOR:darkgreen
DESCRIPTION:Predmet: Poučevanje matematike in fizike v angleškem jeziku 
 (PEF-1\, PEF-2\, PM-4\, PM-5)\, Predavanja (P)\nLetniki: 1. letnik (Pedago
 ška fizika\, 2. stopnja)\, 2. letnik (Pedagoška fizika\, 2. stopnja)\, 4
 . letnik (PM)\, 5. letnik (PM)\nIzvajalci: Bor Gregorčič\, Alexander Kei
 th Simpson\nProstor: 3.06
LOCATION:3.06
ORGANIZER:Bor Gregorčič, Alexander Keith Simpson
RELATED-TO:fmf-AFLABS-URNIK:srecanje:15502
X-WR-TIMEZONE:Europe/Ljubljana
END:VEVENT
BEGIN:VEVENT
SUMMARY:Poučevanje matematike in fizike v angleškem jeziku (PEF-1\, PEF-
 2\, PM-4\, PM-5)\, Predavanja (P)
DTSTART;TZID=Europe/Ljubljana:20250227T130000
DTEND;TZID=Europe/Ljubljana:20250227T150000
DTSTAMP:20260425T105917Z
UID:fmf-AFLABS-URNIK:premaknjeno-srecanje:214161
ATTENDEE:1. letnik (Pedagoška fizika, 2. stopnja)
ATTENDEE:2. letnik (Pedagoška fizika, 2. stopnja)
ATTENDEE:4. letnik (PM)
ATTENDEE:5. letnik (PM)
CATEGORIES:Entry,Standard
COLOR:darkgreen
DESCRIPTION:Predmet: Poučevanje matematike in fizike v angleškem jeziku 
 (PEF-1\, PEF-2\, PM-4\, PM-5)\, Predavanja (P)\nLetniki: 1. letnik (Pedago
 ška fizika\, 2. stopnja)\, 2. letnik (Pedagoška fizika\, 2. stopnja)\, 4
 . letnik (PM)\, 5. letnik (PM)\nIzvajalci: Bor Gregorčič\, Alexander Kei
 th Simpson\nProstor: 3.06
LOCATION:3.06
ORGANIZER:Bor Gregorčič, Alexander Keith Simpson
RELATED-TO:fmf-AFLABS-URNIK:srecanje:15502
X-WR-TIMEZONE:Europe/Ljubljana
END:VEVENT
BEGIN:VEVENT
SUMMARY:Poučevanje matematike in fizike v angleškem jeziku (PEF-1\, PEF-
 2\, PM-4\, PM-5)\, Predavanja (P)
DTSTART;TZID=Europe/Ljubljana:20250306T130000
DTEND;TZID=Europe/Ljubljana:20250306T150000
DTSTAMP:20260425T105917Z
UID:fmf-AFLABS-URNIK:premaknjeno-srecanje:214162
ATTENDEE:1. letnik (Pedagoška fizika, 2. stopnja)
ATTENDEE:2. letnik (Pedagoška fizika, 2. stopnja)
ATTENDEE:4. letnik (PM)
ATTENDEE:5. letnik (PM)
CATEGORIES:Entry,Standard
COLOR:darkgreen
DESCRIPTION:Predmet: Poučevanje matematike in fizike v angleškem jeziku 
 (PEF-1\, PEF-2\, PM-4\, PM-5)\, Predavanja (P)\nLetniki: 1. letnik (Pedago
 ška fizika\, 2. stopnja)\, 2. letnik (Pedagoška fizika\, 2. stopnja)\, 4
 . letnik (PM)\, 5. letnik (PM)\nIzvajalci: Bor Gregorčič\, Alexander Kei
 th Simpson\nProstor: 3.06
LOCATION:3.06
ORGANIZER:Bor Gregorčič, Alexander Keith Simpson
RELATED-TO:fmf-AFLABS-URNIK:srecanje:15502
X-WR-TIMEZONE:Europe/Ljubljana
END:VEVENT
END:VCALENDAR
