BEGIN:VCALENDAR
VERSION:2.0
PRODID:-//AFLabs urnik izvoz - fmf//aflabs.si//SI
DTSTAMP:20260423T193942Z
NAME:UL FMF urnik
REFRESH-INTERVAL:PT1H
SOURCE:https://urnik.fmf.uni-lj.si/teacher/78?day=2020-06-08&export=1
URL:https://urnik.fmf.uni-lj.si/teacher/78?day=2020-06-08&export=1
X-PUBLISHED-TTL:PT1H
X-WR-CALNAME:UL FMF urnik
X-WR-TIMEZONE:Europe/Ljubljana
BEGIN:VTIMEZONE
TZID:Europe/Ljubljana
BEGIN:DAYLIGHT
DTSTART:20260329T020000
RDATE:20260329T020000
RDATE:20270328T020000
TZNAME:CEST
TZOFFSETFROM:+0100
TZOFFSETTO:+0200
END:DAYLIGHT
BEGIN:STANDARD
DTSTART:20261025T030000
RDATE:20261025T030000
RDATE:20271031T030000
TZNAME:CET
TZOFFSETFROM:+0200
TZOFFSETTO:+0100
END:STANDARD
END:VTIMEZONE
BEGIN:VEVENT
SUMMARY:Klasična mehanika (FIZ-2)\, Predavanja (P)
DTSTART;TZID=Europe/Ljubljana:20200505T080000
DTEND;TZID=Europe/Ljubljana:20200505T110000
DTSTAMP:20260423T193942Z
UID:fmf-AFLABS-URNIK:premaknjeno-srecanje:51575
ATTENDEE:2. letnik (Fizika, 1. stopnja)
CATEGORIES:Entry,Standard
COLOR:darkgreen
DESCRIPTION:Predmet: Klasična mehanika (FIZ-2)\, Predavanja (P)\nLetniki:
  2. letnik (Fizika\, 1. stopnja)\nIzvajalci: Anton Ramšak\nProstor: F1
LOCATION:F1
ORGANIZER:Anton Ramšak
RELATED-TO:fmf-AFLABS-URNIK:srecanje:4208
X-WR-TIMEZONE:Europe/Ljubljana
END:VEVENT
BEGIN:VEVENT
SUMMARY:Klasična mehanika (FIZ-2)\, Predavanja (P)
DTSTART;TZID=Europe/Ljubljana:20200512T080000
DTEND;TZID=Europe/Ljubljana:20200512T110000
DTSTAMP:20260423T193942Z
UID:fmf-AFLABS-URNIK:premaknjeno-srecanje:51576
ATTENDEE:2. letnik (Fizika, 1. stopnja)
CATEGORIES:Entry,Standard
COLOR:darkgreen
DESCRIPTION:Predmet: Klasična mehanika (FIZ-2)\, Predavanja (P)\nLetniki:
  2. letnik (Fizika\, 1. stopnja)\nIzvajalci: Anton Ramšak\nProstor: F1
LOCATION:F1
ORGANIZER:Anton Ramšak
RELATED-TO:fmf-AFLABS-URNIK:srecanje:4208
X-WR-TIMEZONE:Europe/Ljubljana
END:VEVENT
BEGIN:VEVENT
SUMMARY:Klasična mehanika (FIZ-2)\, Predavanja (P)
DTSTART;TZID=Europe/Ljubljana:20200519T080000
DTEND;TZID=Europe/Ljubljana:20200519T110000
DTSTAMP:20260423T193942Z
UID:fmf-AFLABS-URNIK:premaknjeno-srecanje:51577
ATTENDEE:2. letnik (Fizika, 1. stopnja)
CATEGORIES:Entry,Standard
COLOR:darkgreen
DESCRIPTION:Predmet: Klasična mehanika (FIZ-2)\, Predavanja (P)\nLetniki:
  2. letnik (Fizika\, 1. stopnja)\nIzvajalci: Anton Ramšak\nProstor: F1
LOCATION:F1
ORGANIZER:Anton Ramšak
RELATED-TO:fmf-AFLABS-URNIK:srecanje:4208
X-WR-TIMEZONE:Europe/Ljubljana
END:VEVENT
BEGIN:VEVENT
SUMMARY:Klasična mehanika (FIZ-2)\, Predavanja (P)
DTSTART;TZID=Europe/Ljubljana:20200526T080000
DTEND;TZID=Europe/Ljubljana:20200526T110000
DTSTAMP:20260423T193942Z
UID:fmf-AFLABS-URNIK:premaknjeno-srecanje:51578
ATTENDEE:2. letnik (Fizika, 1. stopnja)
CATEGORIES:Entry,Standard
COLOR:darkgreen
DESCRIPTION:Predmet: Klasična mehanika (FIZ-2)\, Predavanja (P)\nLetniki:
  2. letnik (Fizika\, 1. stopnja)\nIzvajalci: Anton Ramšak\nProstor: F1
LOCATION:F1
ORGANIZER:Anton Ramšak
RELATED-TO:fmf-AFLABS-URNIK:srecanje:4208
X-WR-TIMEZONE:Europe/Ljubljana
END:VEVENT
BEGIN:VEVENT
SUMMARY:Seminar I (FIZ-M1\, JET-1\, JET-2\, MEF-1\, PEF-1)\, Predavanja (P
 )
DTSTART;TZID=Europe/Ljubljana:20200506T100000
DTEND;TZID=Europe/Ljubljana:20200506T130000
DTSTAMP:20260423T193942Z
UID:fmf-AFLABS-URNIK:premaknjeno-srecanje:101406
ATTENDEE:1. letnik (Fizika, 2. stopnja)
ATTENDEE:1. letnik (Jedrska tehnika, 2. stopnja)
ATTENDEE:1. letnik (Medicinska fizika, 2. stopnja)
ATTENDEE:1. letnik (Pedagoška fizika, 2. stopnja)
ATTENDEE:2. letnik (Jedrska tehnika, 2. stopnja)
CATEGORIES:Entry,Standard
COLOR:darkgreen
DESCRIPTION:Predmet: Seminar I (FIZ-M1\, JET-1\, JET-2\, MEF-1\, PEF-1)\, 
 Predavanja (P)\nLetniki: 1. letnik (Fizika\, 2. stopnja)\, 1. letnik (Jedr
 ska tehnika\, 2. stopnja)\, 2. letnik (Jedrska tehnika\, 2. stopnja)\, 1. 
 letnik (Medicinska fizika\, 2. stopnja)\, 1. letnik (Pedagoška fizika\, 2
 . stopnja)\nIzvajalci: Denis Arčon\, Anton Ramšak\nProstor: F4
LOCATION:F4
ORGANIZER:Denis Arčon, Anton Ramšak
RELATED-TO:fmf-AFLABS-URNIK:srecanje:4439
X-WR-TIMEZONE:Europe/Ljubljana
END:VEVENT
BEGIN:VEVENT
SUMMARY:Seminar I (FIZ-M1\, JET-1\, JET-2\, MEF-1\, PEF-1)\, Predavanja (P
 )
DTSTART;TZID=Europe/Ljubljana:20200513T100000
DTEND;TZID=Europe/Ljubljana:20200513T130000
DTSTAMP:20260423T193942Z
UID:fmf-AFLABS-URNIK:premaknjeno-srecanje:101407
ATTENDEE:1. letnik (Fizika, 2. stopnja)
ATTENDEE:1. letnik (Jedrska tehnika, 2. stopnja)
ATTENDEE:1. letnik (Medicinska fizika, 2. stopnja)
ATTENDEE:1. letnik (Pedagoška fizika, 2. stopnja)
ATTENDEE:2. letnik (Jedrska tehnika, 2. stopnja)
CATEGORIES:Entry,Standard
COLOR:darkgreen
DESCRIPTION:Predmet: Seminar I (FIZ-M1\, JET-1\, JET-2\, MEF-1\, PEF-1)\, 
 Predavanja (P)\nLetniki: 1. letnik (Fizika\, 2. stopnja)\, 1. letnik (Jedr
 ska tehnika\, 2. stopnja)\, 2. letnik (Jedrska tehnika\, 2. stopnja)\, 1. 
 letnik (Medicinska fizika\, 2. stopnja)\, 1. letnik (Pedagoška fizika\, 2
 . stopnja)\nIzvajalci: Denis Arčon\, Anton Ramšak\nProstor: F4
LOCATION:F4
ORGANIZER:Denis Arčon, Anton Ramšak
RELATED-TO:fmf-AFLABS-URNIK:srecanje:4439
X-WR-TIMEZONE:Europe/Ljubljana
END:VEVENT
BEGIN:VEVENT
SUMMARY:Seminar I (FIZ-M1\, JET-1\, JET-2\, MEF-1\, PEF-1)\, Predavanja (P
 )
DTSTART;TZID=Europe/Ljubljana:20200520T100000
DTEND;TZID=Europe/Ljubljana:20200520T130000
DTSTAMP:20260423T193942Z
UID:fmf-AFLABS-URNIK:premaknjeno-srecanje:101408
ATTENDEE:1. letnik (Fizika, 2. stopnja)
ATTENDEE:1. letnik (Jedrska tehnika, 2. stopnja)
ATTENDEE:1. letnik (Medicinska fizika, 2. stopnja)
ATTENDEE:1. letnik (Pedagoška fizika, 2. stopnja)
ATTENDEE:2. letnik (Jedrska tehnika, 2. stopnja)
CATEGORIES:Entry,Standard
COLOR:darkgreen
DESCRIPTION:Predmet: Seminar I (FIZ-M1\, JET-1\, JET-2\, MEF-1\, PEF-1)\, 
 Predavanja (P)\nLetniki: 1. letnik (Fizika\, 2. stopnja)\, 1. letnik (Jedr
 ska tehnika\, 2. stopnja)\, 2. letnik (Jedrska tehnika\, 2. stopnja)\, 1. 
 letnik (Medicinska fizika\, 2. stopnja)\, 1. letnik (Pedagoška fizika\, 2
 . stopnja)\nIzvajalci: Denis Arčon\, Anton Ramšak\nProstor: F4
LOCATION:F4
ORGANIZER:Denis Arčon, Anton Ramšak
RELATED-TO:fmf-AFLABS-URNIK:srecanje:4439
X-WR-TIMEZONE:Europe/Ljubljana
END:VEVENT
BEGIN:VEVENT
SUMMARY:Seminar I (FIZ-M1\, JET-1\, JET-2\, MEF-1\, PEF-1)\, Predavanja (P
 )
DTSTART;TZID=Europe/Ljubljana:20200527T100000
DTEND;TZID=Europe/Ljubljana:20200527T130000
DTSTAMP:20260423T193942Z
UID:fmf-AFLABS-URNIK:premaknjeno-srecanje:101409
ATTENDEE:1. letnik (Fizika, 2. stopnja)
ATTENDEE:1. letnik (Jedrska tehnika, 2. stopnja)
ATTENDEE:1. letnik (Medicinska fizika, 2. stopnja)
ATTENDEE:1. letnik (Pedagoška fizika, 2. stopnja)
ATTENDEE:2. letnik (Jedrska tehnika, 2. stopnja)
CATEGORIES:Entry,Standard
COLOR:darkgreen
DESCRIPTION:Predmet: Seminar I (FIZ-M1\, JET-1\, JET-2\, MEF-1\, PEF-1)\, 
 Predavanja (P)\nLetniki: 1. letnik (Fizika\, 2. stopnja)\, 1. letnik (Jedr
 ska tehnika\, 2. stopnja)\, 2. letnik (Jedrska tehnika\, 2. stopnja)\, 1. 
 letnik (Medicinska fizika\, 2. stopnja)\, 1. letnik (Pedagoška fizika\, 2
 . stopnja)\nIzvajalci: Denis Arčon\, Anton Ramšak\nProstor: F4
LOCATION:F4
ORGANIZER:Denis Arčon, Anton Ramšak
RELATED-TO:fmf-AFLABS-URNIK:srecanje:4439
X-WR-TIMEZONE:Europe/Ljubljana
END:VEVENT
BEGIN:VEVENT
SUMMARY:Rezervacija
DTSTART;TZID=Europe/Ljubljana:20200522T120000
DTEND;TZID=Europe/Ljubljana:20200522T140000
DTSTAMP:20260423T193942Z
UID:fmf-AFLABS-URNIK:rezervacija:5357
CATEGORIES:Reservation
COLOR:royalblue
DESCRIPTION:Predmeti: \nLetniki: \nIzvajalci: Anton Ramšak\nProstori: MFP
 \, VFP\, avla J26
LOCATION:MFP\, VFP\, avla J26
ORGANIZER:Anton Ramšak
X-WR-TIMEZONE:Europe/Ljubljana
END:VEVENT
BEGIN:VEVENT
SUMMARY:Rezervacija
DTSTART;TZID=Europe/Ljubljana:20200525T090000
DTEND;TZID=Europe/Ljubljana:20200525T120000
DTSTAMP:20260423T193942Z
UID:fmf-AFLABS-URNIK:rezervacija:5360
CATEGORIES:Reservation
COLOR:royalblue
DESCRIPTION:Predmeti: \nLetniki: \nIzvajalci: Sergio Cabello Justo\, Berna
 rda Golob Hribar\, Anton Ramšak\nProstori: P.02
LOCATION:P.02
ORGANIZER:Sergio Cabello Justo, Bernarda Golob Hribar, Anton Ramšak
X-WR-TIMEZONE:Europe/Ljubljana
END:VEVENT
BEGIN:VEVENT
SUMMARY:Rezervacija
DTSTART;TZID=Europe/Ljubljana:20200527T080000
DTEND;TZID=Europe/Ljubljana:20200527T140000
DTSTAMP:20260423T193942Z
UID:fmf-AFLABS-URNIK:rezervacija:5367
CATEGORIES:Reservation
COLOR:royalblue
DESCRIPTION:Predmeti: \nLetniki: \nIzvajalci: Anton Ramšak\nProstori: F2
LOCATION:F2
ORGANIZER:Anton Ramšak
X-WR-TIMEZONE:Europe/Ljubljana
END:VEVENT
BEGIN:VEVENT
SUMMARY:Rezervacija
DTSTART;TZID=Europe/Ljubljana:20200528T080000
DTEND;TZID=Europe/Ljubljana:20200528T140000
DTSTAMP:20260423T193942Z
UID:fmf-AFLABS-URNIK:rezervacija:5372
CATEGORIES:Reservation
COLOR:royalblue
DESCRIPTION:Predmeti: \nLetniki: \nIzvajalci: Anton Ramšak\nProstori: F2
LOCATION:F2
ORGANIZER:Anton Ramšak
X-WR-TIMEZONE:Europe/Ljubljana
END:VEVENT
BEGIN:VEVENT
SUMMARY:Rezervacija
DTSTART;TZID=Europe/Ljubljana:20200619T100000
DTEND;TZID=Europe/Ljubljana:20200619T120000
DTSTAMP:20260423T193942Z
UID:fmf-AFLABS-URNIK:rezervacija:5592
CATEGORIES:Reservation
COLOR:royalblue
DESCRIPTION:Predmeti: \nLetniki: \nIzvajalci: Anton Ramšak\nProstori: VFP
LOCATION:VFP
ORGANIZER:Anton Ramšak
X-WR-TIMEZONE:Europe/Ljubljana
END:VEVENT
BEGIN:VEVENT
SUMMARY:Rezervacija
DTSTART;TZID=Europe/Ljubljana:20200626T080000
DTEND;TZID=Europe/Ljubljana:20200626T120000
DTSTAMP:20260423T193942Z
UID:fmf-AFLABS-URNIK:rezervacija:5663
CATEGORIES:Reservation
COLOR:royalblue
DESCRIPTION:Predmeti: \nLetniki: \nIzvajalci: Anton Ramšak\nProstori: F2
LOCATION:F2
ORGANIZER:Anton Ramšak
X-WR-TIMEZONE:Europe/Ljubljana
END:VEVENT
BEGIN:VEVENT
SUMMARY:Rezervacija
DTSTART;TZID=Europe/Ljubljana:20200629T080000
DTEND;TZID=Europe/Ljubljana:20200629T130000
DTSTAMP:20260423T193942Z
UID:fmf-AFLABS-URNIK:rezervacija:5681
CATEGORIES:Reservation
COLOR:royalblue
DESCRIPTION:Predmeti: \nLetniki: \nIzvajalci: Anton Ramšak\nProstori: F2
LOCATION:F2
ORGANIZER:Anton Ramšak
X-WR-TIMEZONE:Europe/Ljubljana
END:VEVENT
BEGIN:VEVENT
SUMMARY:Rezervacija
DTSTART;TZID=Europe/Ljubljana:20200630T080000
DTEND;TZID=Europe/Ljubljana:20200630T130000
DTSTAMP:20260423T193942Z
UID:fmf-AFLABS-URNIK:rezervacija:5708
CATEGORIES:Reservation
COLOR:royalblue
DESCRIPTION:Predmeti: \nLetniki: \nIzvajalci: Anton Ramšak\nProstori: F2
LOCATION:F2
ORGANIZER:Anton Ramšak
X-WR-TIMEZONE:Europe/Ljubljana
END:VEVENT
END:VCALENDAR
