BEGIN:VCALENDAR
VERSION:2.0
PRODID:-//AFLabs urnik izvoz - fmf//aflabs.si//SI
DTSTAMP:20260423T233600Z
NAME:UL FMF urnik
REFRESH-INTERVAL:PT1H
SOURCE:https://urnik.fmf.uni-lj.si/teacher/78?day=2020-08-10&export=1
URL:https://urnik.fmf.uni-lj.si/teacher/78?day=2020-08-10&export=1
X-PUBLISHED-TTL:PT1H
X-WR-CALNAME:UL FMF urnik
X-WR-TIMEZONE:Europe/Ljubljana
BEGIN:VTIMEZONE
TZID:Europe/Ljubljana
BEGIN:DAYLIGHT
DTSTART:20260329T020000
RDATE:20260329T020000
RDATE:20270328T020000
TZNAME:CEST
TZOFFSETFROM:+0100
TZOFFSETTO:+0200
END:DAYLIGHT
BEGIN:STANDARD
DTSTART:20261025T030000
RDATE:20261025T030000
RDATE:20271031T030000
TZNAME:CET
TZOFFSETFROM:+0200
TZOFFSETTO:+0100
END:STANDARD
END:VTIMEZONE
BEGIN:VEVENT
SUMMARY:Rezervacija
DTSTART;TZID=Europe/Ljubljana:20200821T100000
DTEND;TZID=Europe/Ljubljana:20200821T120000
DTSTAMP:20260423T233600Z
UID:fmf-AFLABS-URNIK:rezervacija:6001
CATEGORIES:Reservation
COLOR:royalblue
DESCRIPTION:Predmeti: \nLetniki: \nIzvajalci: Anton Ramšak\nProstori: VFP
LOCATION:VFP
ORGANIZER:Anton Ramšak
X-WR-TIMEZONE:Europe/Ljubljana
END:VEVENT
BEGIN:VEVENT
SUMMARY:Rezervacija
DTSTART;TZID=Europe/Ljubljana:20200902T080000
DTEND;TZID=Europe/Ljubljana:20200902T120000
DTSTAMP:20260423T233600Z
UID:fmf-AFLABS-URNIK:rezervacija:6175
CATEGORIES:Reservation
COLOR:royalblue
DESCRIPTION:Predmeti: \nLetniki: \nIzvajalci: Anton Ramšak\nProstori: MFP
LOCATION:MFP
ORGANIZER:Anton Ramšak
X-WR-TIMEZONE:Europe/Ljubljana
END:VEVENT
BEGIN:VEVENT
SUMMARY:Rezervacija
DTSTART;TZID=Europe/Ljubljana:20200902T100000
DTEND;TZID=Europe/Ljubljana:20200902T120000
DTSTAMP:20260423T233600Z
UID:fmf-AFLABS-URNIK:rezervacija:6192
CATEGORIES:Reservation
COLOR:royalblue
DESCRIPTION:Predmeti: \nLetniki: \nIzvajalci: Anton Ramšak\nProstori: VFP
LOCATION:VFP
ORGANIZER:Anton Ramšak
X-WR-TIMEZONE:Europe/Ljubljana
END:VEVENT
BEGIN:VEVENT
SUMMARY:Rezervacija
DTSTART;TZID=Europe/Ljubljana:20200911T080000
DTEND;TZID=Europe/Ljubljana:20200911T140000
DTSTAMP:20260423T233600Z
UID:fmf-AFLABS-URNIK:rezervacija:6374
ATTENDEE:2. letnik (Fizika, 1. stopnja)
ATTENDEE:3. letnik (Fizika, 1. stopnja)
CATEGORIES:Reservation
COLOR:royalblue
DESCRIPTION:Predmeti: Klasična mehanika (FIZ-2)\, Kvantna mehanika (FIZ-3
 )\nLetniki: 2. letnik (Fizika\, 1. stopnja)\, 3. letnik (Fizika\, 1. stopn
 ja)\nIzvajalci: Anton Ramšak\nProstori: F2
LOCATION:F2
ORGANIZER:Anton Ramšak
X-WR-TIMEZONE:Europe/Ljubljana
END:VEVENT
END:VCALENDAR
