BEGIN:VCALENDAR
VERSION:2.0
PRODID:-//AFLabs urnik izvoz - fmf//aflabs.si//SI
DTSTAMP:20260423T235246Z
NAME:UL FMF urnik
REFRESH-INTERVAL:PT1H
SOURCE:https://urnik.fmf.uni-lj.si/teacher/78?day=2021-01-11&export=1
URL:https://urnik.fmf.uni-lj.si/teacher/78?day=2021-01-11&export=1
X-PUBLISHED-TTL:PT1H
X-WR-CALNAME:UL FMF urnik
X-WR-TIMEZONE:Europe/Ljubljana
BEGIN:VTIMEZONE
TZID:Europe/Ljubljana
BEGIN:DAYLIGHT
DTSTART:20260329T020000
RDATE:20260329T020000
RDATE:20270328T020000
TZNAME:CEST
TZOFFSETFROM:+0100
TZOFFSETTO:+0200
END:DAYLIGHT
BEGIN:STANDARD
DTSTART:20261025T030000
RDATE:20261025T030000
RDATE:20271031T030000
TZNAME:CET
TZOFFSETFROM:+0200
TZOFFSETTO:+0100
END:STANDARD
END:VTIMEZONE
BEGIN:VEVENT
SUMMARY:Kvantna mehanika (FIZ-3)\, Predavanja (P)
DTSTART;TZID=Europe/Ljubljana:20201006T080000
DTEND;TZID=Europe/Ljubljana:20201006T110000
DTSTAMP:20260423T235246Z
UID:fmf-AFLABS-URNIK:premaknjeno-srecanje:55717
ATTENDEE:3. letnik (Fizika, 1. stopnja)
CATEGORIES:Entry,Standard
COLOR:darkgreen
DESCRIPTION:Predmet: Kvantna mehanika (FIZ-3)\, Predavanja (P)\nLetniki: 3
 . letnik (Fizika\, 1. stopnja)\nIzvajalci: Anton Ramšak\nProstor: F2
LOCATION:F2
ORGANIZER:Anton Ramšak
RELATED-TO:fmf-AFLABS-URNIK:srecanje:4926
X-WR-TIMEZONE:Europe/Ljubljana
END:VEVENT
BEGIN:VEVENT
SUMMARY:Kvantna mehanika (FIZ-3)\, Predavanja (P)
DTSTART;TZID=Europe/Ljubljana:20201013T080000
DTEND;TZID=Europe/Ljubljana:20201013T110000
DTSTAMP:20260423T235246Z
UID:fmf-AFLABS-URNIK:premaknjeno-srecanje:55718
ATTENDEE:3. letnik (Fizika, 1. stopnja)
CATEGORIES:Entry,Standard
COLOR:darkgreen
DESCRIPTION:Predmet: Kvantna mehanika (FIZ-3)\, Predavanja (P)\nLetniki: 3
 . letnik (Fizika\, 1. stopnja)\nIzvajalci: Anton Ramšak\nProstor: F2
LOCATION:F2
ORGANIZER:Anton Ramšak
RELATED-TO:fmf-AFLABS-URNIK:srecanje:4926
X-WR-TIMEZONE:Europe/Ljubljana
END:VEVENT
BEGIN:VEVENT
SUMMARY:Kvantna mehanika (FIZ-3)\, Predavanja (P)
DTSTART;TZID=Europe/Ljubljana:20201020T080000
DTEND;TZID=Europe/Ljubljana:20201020T110000
DTSTAMP:20260423T235246Z
UID:fmf-AFLABS-URNIK:premaknjeno-srecanje:55719
ATTENDEE:3. letnik (Fizika, 1. stopnja)
CATEGORIES:Entry,Standard
COLOR:darkgreen
DESCRIPTION:Predmet: Kvantna mehanika (FIZ-3)\, Predavanja (P)\nLetniki: 3
 . letnik (Fizika\, 1. stopnja)\nIzvajalci: Anton Ramšak\nProstor: F2
LOCATION:F2
ORGANIZER:Anton Ramšak
RELATED-TO:fmf-AFLABS-URNIK:srecanje:4926
X-WR-TIMEZONE:Europe/Ljubljana
END:VEVENT
BEGIN:VEVENT
SUMMARY:Kvantna mehanika (FIZ-3)\, Predavanja (P)
DTSTART;TZID=Europe/Ljubljana:20201027T080000
DTEND;TZID=Europe/Ljubljana:20201027T110000
DTSTAMP:20260423T235246Z
UID:fmf-AFLABS-URNIK:premaknjeno-srecanje:55720
ATTENDEE:3. letnik (Fizika, 1. stopnja)
CATEGORIES:Entry,Standard
COLOR:darkgreen
DESCRIPTION:Predmet: Kvantna mehanika (FIZ-3)\, Predavanja (P)\nLetniki: 3
 . letnik (Fizika\, 1. stopnja)\nIzvajalci: Anton Ramšak\nProstor: F2
LOCATION:F2
ORGANIZER:Anton Ramšak
RELATED-TO:fmf-AFLABS-URNIK:srecanje:4926
X-WR-TIMEZONE:Europe/Ljubljana
END:VEVENT
BEGIN:VEVENT
SUMMARY:Kvantna mehanika (FIZ-3)\, Predavanja (P)
DTSTART;TZID=Europe/Ljubljana:20201103T080000
DTEND;TZID=Europe/Ljubljana:20201103T110000
DTSTAMP:20260423T235246Z
UID:fmf-AFLABS-URNIK:premaknjeno-srecanje:55721
ATTENDEE:3. letnik (Fizika, 1. stopnja)
CATEGORIES:Entry,Standard
COLOR:darkgreen
DESCRIPTION:Predmet: Kvantna mehanika (FIZ-3)\, Predavanja (P)\nLetniki: 3
 . letnik (Fizika\, 1. stopnja)\nIzvajalci: Anton Ramšak\nProstor: F2
LOCATION:F2
ORGANIZER:Anton Ramšak
RELATED-TO:fmf-AFLABS-URNIK:srecanje:4926
X-WR-TIMEZONE:Europe/Ljubljana
END:VEVENT
BEGIN:VEVENT
SUMMARY:Kvantna mehanika (FIZ-3)\, Predavanja (P)
DTSTART;TZID=Europe/Ljubljana:20201110T080000
DTEND;TZID=Europe/Ljubljana:20201110T110000
DTSTAMP:20260423T235246Z
UID:fmf-AFLABS-URNIK:premaknjeno-srecanje:55722
ATTENDEE:3. letnik (Fizika, 1. stopnja)
CATEGORIES:Entry,Standard
COLOR:darkgreen
DESCRIPTION:Predmet: Kvantna mehanika (FIZ-3)\, Predavanja (P)\nLetniki: 3
 . letnik (Fizika\, 1. stopnja)\nIzvajalci: Anton Ramšak\nProstor: F2
LOCATION:F2
ORGANIZER:Anton Ramšak
RELATED-TO:fmf-AFLABS-URNIK:srecanje:4926
X-WR-TIMEZONE:Europe/Ljubljana
END:VEVENT
BEGIN:VEVENT
SUMMARY:Kvantna mehanika (FIZ-3)\, Predavanja (P)
DTSTART;TZID=Europe/Ljubljana:20201117T080000
DTEND;TZID=Europe/Ljubljana:20201117T110000
DTSTAMP:20260423T235246Z
UID:fmf-AFLABS-URNIK:premaknjeno-srecanje:55723
ATTENDEE:3. letnik (Fizika, 1. stopnja)
CATEGORIES:Entry,Standard
COLOR:darkgreen
DESCRIPTION:Predmet: Kvantna mehanika (FIZ-3)\, Predavanja (P)\nLetniki: 3
 . letnik (Fizika\, 1. stopnja)\nIzvajalci: Anton Ramšak\nProstor: F2
LOCATION:F2
ORGANIZER:Anton Ramšak
RELATED-TO:fmf-AFLABS-URNIK:srecanje:4926
X-WR-TIMEZONE:Europe/Ljubljana
END:VEVENT
BEGIN:VEVENT
SUMMARY:Kvantna mehanika (FIZ-3)\, Predavanja (P)
DTSTART;TZID=Europe/Ljubljana:20201124T080000
DTEND;TZID=Europe/Ljubljana:20201124T110000
DTSTAMP:20260423T235246Z
UID:fmf-AFLABS-URNIK:premaknjeno-srecanje:55724
ATTENDEE:3. letnik (Fizika, 1. stopnja)
CATEGORIES:Entry,Standard
COLOR:darkgreen
DESCRIPTION:Predmet: Kvantna mehanika (FIZ-3)\, Predavanja (P)\nLetniki: 3
 . letnik (Fizika\, 1. stopnja)\nIzvajalci: Anton Ramšak\nProstor: F2
LOCATION:F2
ORGANIZER:Anton Ramšak
RELATED-TO:fmf-AFLABS-URNIK:srecanje:4926
X-WR-TIMEZONE:Europe/Ljubljana
END:VEVENT
BEGIN:VEVENT
SUMMARY:Kvantna mehanika (FIZ-3)\, Predavanja (P)
DTSTART;TZID=Europe/Ljubljana:20201201T080000
DTEND;TZID=Europe/Ljubljana:20201201T110000
DTSTAMP:20260423T235246Z
UID:fmf-AFLABS-URNIK:premaknjeno-srecanje:55725
ATTENDEE:3. letnik (Fizika, 1. stopnja)
CATEGORIES:Entry,Standard
COLOR:darkgreen
DESCRIPTION:Predmet: Kvantna mehanika (FIZ-3)\, Predavanja (P)\nLetniki: 3
 . letnik (Fizika\, 1. stopnja)\nIzvajalci: Anton Ramšak\nProstor: F2
LOCATION:F2
ORGANIZER:Anton Ramšak
RELATED-TO:fmf-AFLABS-URNIK:srecanje:4926
X-WR-TIMEZONE:Europe/Ljubljana
END:VEVENT
BEGIN:VEVENT
SUMMARY:Kvantna mehanika (FIZ-3)\, Predavanja (P)
DTSTART;TZID=Europe/Ljubljana:20201208T080000
DTEND;TZID=Europe/Ljubljana:20201208T110000
DTSTAMP:20260423T235246Z
UID:fmf-AFLABS-URNIK:premaknjeno-srecanje:55726
ATTENDEE:3. letnik (Fizika, 1. stopnja)
CATEGORIES:Entry,Standard
COLOR:darkgreen
DESCRIPTION:Predmet: Kvantna mehanika (FIZ-3)\, Predavanja (P)\nLetniki: 3
 . letnik (Fizika\, 1. stopnja)\nIzvajalci: Anton Ramšak\nProstor: F2
LOCATION:F2
ORGANIZER:Anton Ramšak
RELATED-TO:fmf-AFLABS-URNIK:srecanje:4926
X-WR-TIMEZONE:Europe/Ljubljana
END:VEVENT
BEGIN:VEVENT
SUMMARY:Kvantna mehanika (FIZ-3)\, Predavanja (P)
DTSTART;TZID=Europe/Ljubljana:20201215T080000
DTEND;TZID=Europe/Ljubljana:20201215T110000
DTSTAMP:20260423T235246Z
UID:fmf-AFLABS-URNIK:premaknjeno-srecanje:55727
ATTENDEE:3. letnik (Fizika, 1. stopnja)
CATEGORIES:Entry,Standard
COLOR:darkgreen
DESCRIPTION:Predmet: Kvantna mehanika (FIZ-3)\, Predavanja (P)\nLetniki: 3
 . letnik (Fizika\, 1. stopnja)\nIzvajalci: Anton Ramšak\nProstor: F2
LOCATION:F2
ORGANIZER:Anton Ramšak
RELATED-TO:fmf-AFLABS-URNIK:srecanje:4926
X-WR-TIMEZONE:Europe/Ljubljana
END:VEVENT
BEGIN:VEVENT
SUMMARY:Kvantna mehanika (FIZ-3)\, Predavanja (P)
DTSTART;TZID=Europe/Ljubljana:20201222T080000
DTEND;TZID=Europe/Ljubljana:20201222T110000
DTSTAMP:20260423T235246Z
UID:fmf-AFLABS-URNIK:premaknjeno-srecanje:55728
ATTENDEE:3. letnik (Fizika, 1. stopnja)
CATEGORIES:Entry,Standard
COLOR:darkgreen
DESCRIPTION:Predmet: Kvantna mehanika (FIZ-3)\, Predavanja (P)\nLetniki: 3
 . letnik (Fizika\, 1. stopnja)\nIzvajalci: Anton Ramšak\nProstor: F2
LOCATION:F2
ORGANIZER:Anton Ramšak
RELATED-TO:fmf-AFLABS-URNIK:srecanje:4926
X-WR-TIMEZONE:Europe/Ljubljana
END:VEVENT
BEGIN:VEVENT
SUMMARY:Kvantna mehanika (FIZ-3)\, Predavanja (P)
DTSTART;TZID=Europe/Ljubljana:20201229T080000
DTEND;TZID=Europe/Ljubljana:20201229T110000
DTSTAMP:20260423T235246Z
UID:fmf-AFLABS-URNIK:premaknjeno-srecanje:55729
ATTENDEE:3. letnik (Fizika, 1. stopnja)
CATEGORIES:Entry,Standard
COLOR:darkgreen
DESCRIPTION:Predmet: Kvantna mehanika (FIZ-3)\, Predavanja (P)\nLetniki: 3
 . letnik (Fizika\, 1. stopnja)\nIzvajalci: Anton Ramšak\nProstor: F2
LOCATION:F2
ORGANIZER:Anton Ramšak
RELATED-TO:fmf-AFLABS-URNIK:srecanje:4926
X-WR-TIMEZONE:Europe/Ljubljana
END:VEVENT
BEGIN:VEVENT
SUMMARY:Kvantna mehanika (FIZ-3)\, Predavanja (P)
DTSTART;TZID=Europe/Ljubljana:20210105T080000
DTEND;TZID=Europe/Ljubljana:20210105T110000
DTSTAMP:20260423T235246Z
UID:fmf-AFLABS-URNIK:premaknjeno-srecanje:55730
ATTENDEE:3. letnik (Fizika, 1. stopnja)
CATEGORIES:Entry,Standard
COLOR:darkgreen
DESCRIPTION:Predmet: Kvantna mehanika (FIZ-3)\, Predavanja (P)\nLetniki: 3
 . letnik (Fizika\, 1. stopnja)\nIzvajalci: Anton Ramšak\nProstor: F2
LOCATION:F2
ORGANIZER:Anton Ramšak
RELATED-TO:fmf-AFLABS-URNIK:srecanje:4926
X-WR-TIMEZONE:Europe/Ljubljana
END:VEVENT
BEGIN:VEVENT
SUMMARY:Kvantna mehanika (FIZ-3)\, Predavanja (P)
DTSTART;TZID=Europe/Ljubljana:20210112T080000
DTEND;TZID=Europe/Ljubljana:20210112T110000
DTSTAMP:20260423T235246Z
UID:fmf-AFLABS-URNIK:premaknjeno-srecanje:55731
ATTENDEE:3. letnik (Fizika, 1. stopnja)
CATEGORIES:Entry,Standard
COLOR:darkgreen
DESCRIPTION:Predmet: Kvantna mehanika (FIZ-3)\, Predavanja (P)\nLetniki: 3
 . letnik (Fizika\, 1. stopnja)\nIzvajalci: Anton Ramšak\nProstor: F2
LOCATION:F2
ORGANIZER:Anton Ramšak
RELATED-TO:fmf-AFLABS-URNIK:srecanje:4926
X-WR-TIMEZONE:Europe/Ljubljana
END:VEVENT
END:VCALENDAR
