BEGIN:VCALENDAR
VERSION:2.0
PRODID:-//AFLabs urnik izvoz - fmf//aflabs.si//SI
DTSTAMP:20260423T144311Z
NAME:UL FMF urnik
REFRESH-INTERVAL:PT1H
SOURCE:https://urnik.fmf.uni-lj.si/teacher/78?day=2021-12-27&export=1
URL:https://urnik.fmf.uni-lj.si/teacher/78?day=2021-12-27&export=1
X-PUBLISHED-TTL:PT1H
X-WR-CALNAME:UL FMF urnik
X-WR-TIMEZONE:Europe/Ljubljana
BEGIN:VTIMEZONE
TZID:Europe/Ljubljana
BEGIN:DAYLIGHT
DTSTART:20260329T020000
RDATE:20260329T020000
RDATE:20270328T020000
TZNAME:CEST
TZOFFSETFROM:+0100
TZOFFSETTO:+0200
END:DAYLIGHT
BEGIN:STANDARD
DTSTART:20261025T030000
RDATE:20261025T030000
RDATE:20271031T030000
TZNAME:CET
TZOFFSETFROM:+0200
TZOFFSETTO:+0100
END:STANDARD
END:VTIMEZONE
BEGIN:VEVENT
SUMMARY:Kvantna mehanika (FIZ-3)\, Predavanja (P)
DTSTART;TZID=Europe/Ljubljana:20211006T080000
DTEND;TZID=Europe/Ljubljana:20211006T110000
DTSTAMP:20260423T144311Z
UID:fmf-AFLABS-URNIK:premaknjeno-srecanje:55732
ATTENDEE:3. letnik (Fizika, 1. stopnja)
CATEGORIES:Entry,Standard
COLOR:darkgreen
DESCRIPTION:Predmet: Kvantna mehanika (FIZ-3)\, Predavanja (P)\nLetniki: 3
 . letnik (Fizika\, 1. stopnja)\nIzvajalci: Anton Ramšak\nProstor: F2
LOCATION:F2
ORGANIZER:Anton Ramšak
RELATED-TO:fmf-AFLABS-URNIK:srecanje:6361
X-WR-TIMEZONE:Europe/Ljubljana
END:VEVENT
BEGIN:VEVENT
SUMMARY:Kvantna mehanika (FIZ-3)\, Predavanja (P)
DTSTART;TZID=Europe/Ljubljana:20211013T080000
DTEND;TZID=Europe/Ljubljana:20211013T110000
DTSTAMP:20260423T144311Z
UID:fmf-AFLABS-URNIK:premaknjeno-srecanje:55733
ATTENDEE:3. letnik (Fizika, 1. stopnja)
CATEGORIES:Entry,Standard
COLOR:darkgreen
DESCRIPTION:Predmet: Kvantna mehanika (FIZ-3)\, Predavanja (P)\nLetniki: 3
 . letnik (Fizika\, 1. stopnja)\nIzvajalci: Anton Ramšak\nProstor: F2
LOCATION:F2
ORGANIZER:Anton Ramšak
RELATED-TO:fmf-AFLABS-URNIK:srecanje:6361
X-WR-TIMEZONE:Europe/Ljubljana
END:VEVENT
BEGIN:VEVENT
SUMMARY:Kvantna mehanika (FIZ-3)\, Predavanja (P)
DTSTART;TZID=Europe/Ljubljana:20211020T080000
DTEND;TZID=Europe/Ljubljana:20211020T110000
DTSTAMP:20260423T144311Z
UID:fmf-AFLABS-URNIK:premaknjeno-srecanje:55734
ATTENDEE:3. letnik (Fizika, 1. stopnja)
CATEGORIES:Entry,Standard
COLOR:darkgreen
DESCRIPTION:Predmet: Kvantna mehanika (FIZ-3)\, Predavanja (P)\nLetniki: 3
 . letnik (Fizika\, 1. stopnja)\nIzvajalci: Anton Ramšak\nProstor: F2
LOCATION:F2
ORGANIZER:Anton Ramšak
RELATED-TO:fmf-AFLABS-URNIK:srecanje:6361
X-WR-TIMEZONE:Europe/Ljubljana
END:VEVENT
BEGIN:VEVENT
SUMMARY:Kvantna mehanika (FIZ-3)\, Predavanja (P)
DTSTART;TZID=Europe/Ljubljana:20211027T080000
DTEND;TZID=Europe/Ljubljana:20211027T110000
DTSTAMP:20260423T144311Z
UID:fmf-AFLABS-URNIK:premaknjeno-srecanje:55735
ATTENDEE:3. letnik (Fizika, 1. stopnja)
CATEGORIES:Entry,Standard
COLOR:darkgreen
DESCRIPTION:Predmet: Kvantna mehanika (FIZ-3)\, Predavanja (P)\nLetniki: 3
 . letnik (Fizika\, 1. stopnja)\nIzvajalci: Anton Ramšak\nProstor: F2
LOCATION:F2
ORGANIZER:Anton Ramšak
RELATED-TO:fmf-AFLABS-URNIK:srecanje:6361
X-WR-TIMEZONE:Europe/Ljubljana
END:VEVENT
BEGIN:VEVENT
SUMMARY:Kvantna mehanika (FIZ-3)\, Predavanja (P)
DTSTART;TZID=Europe/Ljubljana:20211103T080000
DTEND;TZID=Europe/Ljubljana:20211103T110000
DTSTAMP:20260423T144311Z
UID:fmf-AFLABS-URNIK:premaknjeno-srecanje:55736
ATTENDEE:3. letnik (Fizika, 1. stopnja)
CATEGORIES:Entry,Standard
COLOR:darkgreen
DESCRIPTION:Predmet: Kvantna mehanika (FIZ-3)\, Predavanja (P)\nLetniki: 3
 . letnik (Fizika\, 1. stopnja)\nIzvajalci: Anton Ramšak\nProstor: F2
LOCATION:F2
ORGANIZER:Anton Ramšak
RELATED-TO:fmf-AFLABS-URNIK:srecanje:6361
X-WR-TIMEZONE:Europe/Ljubljana
END:VEVENT
BEGIN:VEVENT
SUMMARY:Kvantna mehanika (FIZ-3)\, Predavanja (P)
DTSTART;TZID=Europe/Ljubljana:20211110T080000
DTEND;TZID=Europe/Ljubljana:20211110T110000
DTSTAMP:20260423T144311Z
UID:fmf-AFLABS-URNIK:premaknjeno-srecanje:55737
ATTENDEE:3. letnik (Fizika, 1. stopnja)
CATEGORIES:Entry,Standard
COLOR:darkgreen
DESCRIPTION:Predmet: Kvantna mehanika (FIZ-3)\, Predavanja (P)\nLetniki: 3
 . letnik (Fizika\, 1. stopnja)\nIzvajalci: Anton Ramšak\nProstor: F2
LOCATION:F2
ORGANIZER:Anton Ramšak
RELATED-TO:fmf-AFLABS-URNIK:srecanje:6361
X-WR-TIMEZONE:Europe/Ljubljana
END:VEVENT
BEGIN:VEVENT
SUMMARY:Kvantna mehanika (FIZ-3)\, Predavanja (P)
DTSTART;TZID=Europe/Ljubljana:20211117T080000
DTEND;TZID=Europe/Ljubljana:20211117T110000
DTSTAMP:20260423T144311Z
UID:fmf-AFLABS-URNIK:premaknjeno-srecanje:55738
ATTENDEE:3. letnik (Fizika, 1. stopnja)
CATEGORIES:Entry,Standard
COLOR:darkgreen
DESCRIPTION:Predmet: Kvantna mehanika (FIZ-3)\, Predavanja (P)\nLetniki: 3
 . letnik (Fizika\, 1. stopnja)\nIzvajalci: Anton Ramšak\nProstor: F2
LOCATION:F2
ORGANIZER:Anton Ramšak
RELATED-TO:fmf-AFLABS-URNIK:srecanje:6361
X-WR-TIMEZONE:Europe/Ljubljana
END:VEVENT
BEGIN:VEVENT
SUMMARY:Kvantna mehanika (FIZ-3)\, Predavanja (P)
DTSTART;TZID=Europe/Ljubljana:20211124T080000
DTEND;TZID=Europe/Ljubljana:20211124T110000
DTSTAMP:20260423T144311Z
UID:fmf-AFLABS-URNIK:premaknjeno-srecanje:55739
ATTENDEE:3. letnik (Fizika, 1. stopnja)
CATEGORIES:Entry,Standard
COLOR:darkgreen
DESCRIPTION:Predmet: Kvantna mehanika (FIZ-3)\, Predavanja (P)\nLetniki: 3
 . letnik (Fizika\, 1. stopnja)\nIzvajalci: Anton Ramšak\nProstor: F2
LOCATION:F2
ORGANIZER:Anton Ramšak
RELATED-TO:fmf-AFLABS-URNIK:srecanje:6361
X-WR-TIMEZONE:Europe/Ljubljana
END:VEVENT
BEGIN:VEVENT
SUMMARY:Kvantna mehanika (FIZ-3)\, Predavanja (P)
DTSTART;TZID=Europe/Ljubljana:20211201T080000
DTEND;TZID=Europe/Ljubljana:20211201T110000
DTSTAMP:20260423T144311Z
UID:fmf-AFLABS-URNIK:premaknjeno-srecanje:55740
ATTENDEE:3. letnik (Fizika, 1. stopnja)
CATEGORIES:Entry,Standard
COLOR:darkgreen
DESCRIPTION:Predmet: Kvantna mehanika (FIZ-3)\, Predavanja (P)\nLetniki: 3
 . letnik (Fizika\, 1. stopnja)\nIzvajalci: Anton Ramšak\nProstor: F2
LOCATION:F2
ORGANIZER:Anton Ramšak
RELATED-TO:fmf-AFLABS-URNIK:srecanje:6361
X-WR-TIMEZONE:Europe/Ljubljana
END:VEVENT
BEGIN:VEVENT
SUMMARY:Kvantna mehanika (FIZ-3)\, Predavanja (P)
DTSTART;TZID=Europe/Ljubljana:20211208T080000
DTEND;TZID=Europe/Ljubljana:20211208T110000
DTSTAMP:20260423T144311Z
UID:fmf-AFLABS-URNIK:premaknjeno-srecanje:55741
ATTENDEE:3. letnik (Fizika, 1. stopnja)
CATEGORIES:Entry,Standard
COLOR:darkgreen
DESCRIPTION:Predmet: Kvantna mehanika (FIZ-3)\, Predavanja (P)\nLetniki: 3
 . letnik (Fizika\, 1. stopnja)\nIzvajalci: Anton Ramšak\nProstor: F2
LOCATION:F2
ORGANIZER:Anton Ramšak
RELATED-TO:fmf-AFLABS-URNIK:srecanje:6361
X-WR-TIMEZONE:Europe/Ljubljana
END:VEVENT
BEGIN:VEVENT
SUMMARY:Kvantna mehanika (FIZ-3)\, Predavanja (P)
DTSTART;TZID=Europe/Ljubljana:20211215T080000
DTEND;TZID=Europe/Ljubljana:20211215T110000
DTSTAMP:20260423T144311Z
UID:fmf-AFLABS-URNIK:premaknjeno-srecanje:55742
ATTENDEE:3. letnik (Fizika, 1. stopnja)
CATEGORIES:Entry,Standard
COLOR:darkgreen
DESCRIPTION:Predmet: Kvantna mehanika (FIZ-3)\, Predavanja (P)\nLetniki: 3
 . letnik (Fizika\, 1. stopnja)\nIzvajalci: Anton Ramšak\nProstor: F2
LOCATION:F2
ORGANIZER:Anton Ramšak
RELATED-TO:fmf-AFLABS-URNIK:srecanje:6361
X-WR-TIMEZONE:Europe/Ljubljana
END:VEVENT
BEGIN:VEVENT
SUMMARY:Kvantna mehanika (FIZ-3)\, Predavanja (P)
DTSTART;TZID=Europe/Ljubljana:20211222T080000
DTEND;TZID=Europe/Ljubljana:20211222T110000
DTSTAMP:20260423T144311Z
UID:fmf-AFLABS-URNIK:premaknjeno-srecanje:55743
ATTENDEE:3. letnik (Fizika, 1. stopnja)
CATEGORIES:Entry,Standard
COLOR:darkgreen
DESCRIPTION:Predmet: Kvantna mehanika (FIZ-3)\, Predavanja (P)\nLetniki: 3
 . letnik (Fizika\, 1. stopnja)\nIzvajalci: Anton Ramšak\nProstor: F2
LOCATION:F2
ORGANIZER:Anton Ramšak
RELATED-TO:fmf-AFLABS-URNIK:srecanje:6361
X-WR-TIMEZONE:Europe/Ljubljana
END:VEVENT
BEGIN:VEVENT
SUMMARY:Kvantna mehanika (FIZ-3)\, Predavanja (P)
DTSTART;TZID=Europe/Ljubljana:20211229T080000
DTEND;TZID=Europe/Ljubljana:20211229T110000
DTSTAMP:20260423T144311Z
UID:fmf-AFLABS-URNIK:premaknjeno-srecanje:55744
ATTENDEE:3. letnik (Fizika, 1. stopnja)
CATEGORIES:Entry,Standard
COLOR:darkgreen
DESCRIPTION:Predmet: Kvantna mehanika (FIZ-3)\, Predavanja (P)\nLetniki: 3
 . letnik (Fizika\, 1. stopnja)\nIzvajalci: Anton Ramšak\nProstor: F2
LOCATION:F2
ORGANIZER:Anton Ramšak
RELATED-TO:fmf-AFLABS-URNIK:srecanje:6361
X-WR-TIMEZONE:Europe/Ljubljana
END:VEVENT
BEGIN:VEVENT
SUMMARY:Kvantna mehanika (FIZ-3)\, Predavanja (P)
DTSTART;TZID=Europe/Ljubljana:20220105T080000
DTEND;TZID=Europe/Ljubljana:20220105T110000
DTSTAMP:20260423T144311Z
UID:fmf-AFLABS-URNIK:premaknjeno-srecanje:55745
ATTENDEE:3. letnik (Fizika, 1. stopnja)
CATEGORIES:Entry,Standard
COLOR:darkgreen
DESCRIPTION:Predmet: Kvantna mehanika (FIZ-3)\, Predavanja (P)\nLetniki: 3
 . letnik (Fizika\, 1. stopnja)\nIzvajalci: Anton Ramšak\nProstor: F2
LOCATION:F2
ORGANIZER:Anton Ramšak
RELATED-TO:fmf-AFLABS-URNIK:srecanje:6361
X-WR-TIMEZONE:Europe/Ljubljana
END:VEVENT
BEGIN:VEVENT
SUMMARY:Kvantna mehanika (FIZ-3)\, Predavanja (P)
DTSTART;TZID=Europe/Ljubljana:20220112T080000
DTEND;TZID=Europe/Ljubljana:20220112T110000
DTSTAMP:20260423T144311Z
UID:fmf-AFLABS-URNIK:premaknjeno-srecanje:55746
ATTENDEE:3. letnik (Fizika, 1. stopnja)
CATEGORIES:Entry,Standard
COLOR:darkgreen
DESCRIPTION:Predmet: Kvantna mehanika (FIZ-3)\, Predavanja (P)\nLetniki: 3
 . letnik (Fizika\, 1. stopnja)\nIzvajalci: Anton Ramšak\nProstor: F2
LOCATION:F2
ORGANIZER:Anton Ramšak
RELATED-TO:fmf-AFLABS-URNIK:srecanje:6361
X-WR-TIMEZONE:Europe/Ljubljana
END:VEVENT
END:VCALENDAR
