BEGIN:VCALENDAR
VERSION:2.0
PRODID:-//AFLabs urnik izvoz - fmf//aflabs.si//SI
DTSTAMP:20260421T140854Z
NAME:UL FMF urnik
REFRESH-INTERVAL:PT1H
SOURCE:https://urnik.fmf.uni-lj.si/teacher/792?day=2022-11-14&export=1
URL:https://urnik.fmf.uni-lj.si/teacher/792?day=2022-11-14&export=1
X-PUBLISHED-TTL:PT1H
X-WR-CALNAME:UL FMF urnik
X-WR-TIMEZONE:Europe/Ljubljana
BEGIN:VTIMEZONE
TZID:Europe/Ljubljana
BEGIN:DAYLIGHT
DTSTART:20260329T020000
RDATE:20260329T020000
RDATE:20270328T020000
TZNAME:CEST
TZOFFSETFROM:+0100
TZOFFSETTO:+0200
END:DAYLIGHT
BEGIN:STANDARD
DTSTART:20261025T030000
RDATE:20261025T030000
RDATE:20271031T030000
TZNAME:CET
TZOFFSETFROM:+0200
TZOFFSETTO:+0100
END:STANDARD
END:VTIMEZONE
BEGIN:VEVENT
SUMMARY:Eksperimentalna reaktorska fizika (JET-1\, JET-2)\, Laboratorijske
  vaje (L)\, [1]
DTSTART;TZID=Europe/Ljubljana:20221003T090000
DTEND;TZID=Europe/Ljubljana:20221003T130000
DTSTAMP:20260421T140854Z
UID:fmf-AFLABS-URNIK:premaknjeno-srecanje:17937
ATTENDEE:1. letnik (Jedrska tehnika, 2. stopnja)
ATTENDEE:2. letnik (Jedrska tehnika, 2. stopnja)
CATEGORIES:Entry,Standard
COLOR:darkgreen
DESCRIPTION:Predmet: Eksperimentalna reaktorska fizika (JET-1\, JET-2)\, L
 aboratorijske vaje (L)\, [1]\nLetniki: 1. letnik (Jedrska tehnika\, 2. sto
 pnja)\, 2. letnik (Jedrska tehnika\, 2. stopnja)\nIzvajalci: Vladimir Radu
 lović\, Luka Snoj\, Gašper Žerovnik\nProstor: Reaktor
LOCATION:Reaktor
ORGANIZER:Vladimir Radulović, Luka Snoj, Gašper Žerovnik
RELATED-TO:fmf-AFLABS-URNIK:srecanje:7531
X-WR-TIMEZONE:Europe/Ljubljana
END:VEVENT
BEGIN:VEVENT
SUMMARY:Eksperimentalna reaktorska fizika (JET-1\, JET-2)\, Laboratorijske
  vaje (L)\, [1]
DTSTART;TZID=Europe/Ljubljana:20221010T090000
DTEND;TZID=Europe/Ljubljana:20221010T130000
DTSTAMP:20260421T140854Z
UID:fmf-AFLABS-URNIK:premaknjeno-srecanje:17938
ATTENDEE:1. letnik (Jedrska tehnika, 2. stopnja)
ATTENDEE:2. letnik (Jedrska tehnika, 2. stopnja)
CATEGORIES:Entry,Standard
COLOR:darkgreen
DESCRIPTION:Predmet: Eksperimentalna reaktorska fizika (JET-1\, JET-2)\, L
 aboratorijske vaje (L)\, [1]\nLetniki: 1. letnik (Jedrska tehnika\, 2. sto
 pnja)\, 2. letnik (Jedrska tehnika\, 2. stopnja)\nIzvajalci: Vladimir Radu
 lović\, Luka Snoj\, Gašper Žerovnik\nProstor: Reaktor
LOCATION:Reaktor
ORGANIZER:Vladimir Radulović, Luka Snoj, Gašper Žerovnik
RELATED-TO:fmf-AFLABS-URNIK:srecanje:7531
X-WR-TIMEZONE:Europe/Ljubljana
END:VEVENT
BEGIN:VEVENT
SUMMARY:Eksperimentalna reaktorska fizika (JET-1\, JET-2)\, Laboratorijske
  vaje (L)\, [1]
DTSTART;TZID=Europe/Ljubljana:20221017T090000
DTEND;TZID=Europe/Ljubljana:20221017T130000
DTSTAMP:20260421T140854Z
UID:fmf-AFLABS-URNIK:premaknjeno-srecanje:17939
ATTENDEE:1. letnik (Jedrska tehnika, 2. stopnja)
ATTENDEE:2. letnik (Jedrska tehnika, 2. stopnja)
CATEGORIES:Entry,Standard
COLOR:darkgreen
DESCRIPTION:Predmet: Eksperimentalna reaktorska fizika (JET-1\, JET-2)\, L
 aboratorijske vaje (L)\, [1]\nLetniki: 1. letnik (Jedrska tehnika\, 2. sto
 pnja)\, 2. letnik (Jedrska tehnika\, 2. stopnja)\nIzvajalci: Vladimir Radu
 lović\, Luka Snoj\, Gašper Žerovnik\nProstor: Reaktor
LOCATION:Reaktor
ORGANIZER:Vladimir Radulović, Luka Snoj, Gašper Žerovnik
RELATED-TO:fmf-AFLABS-URNIK:srecanje:7531
X-WR-TIMEZONE:Europe/Ljubljana
END:VEVENT
BEGIN:VEVENT
SUMMARY:Eksperimentalna reaktorska fizika (JET-1\, JET-2)\, Laboratorijske
  vaje (L)\, [1]
DTSTART;TZID=Europe/Ljubljana:20221024T090000
DTEND;TZID=Europe/Ljubljana:20221024T130000
DTSTAMP:20260421T140854Z
UID:fmf-AFLABS-URNIK:premaknjeno-srecanje:17940
ATTENDEE:1. letnik (Jedrska tehnika, 2. stopnja)
ATTENDEE:2. letnik (Jedrska tehnika, 2. stopnja)
CATEGORIES:Entry,Standard
COLOR:darkgreen
DESCRIPTION:Predmet: Eksperimentalna reaktorska fizika (JET-1\, JET-2)\, L
 aboratorijske vaje (L)\, [1]\nLetniki: 1. letnik (Jedrska tehnika\, 2. sto
 pnja)\, 2. letnik (Jedrska tehnika\, 2. stopnja)\nIzvajalci: Vladimir Radu
 lović\, Luka Snoj\, Gašper Žerovnik\nProstor: Reaktor
LOCATION:Reaktor
ORGANIZER:Vladimir Radulović, Luka Snoj, Gašper Žerovnik
RELATED-TO:fmf-AFLABS-URNIK:srecanje:7531
X-WR-TIMEZONE:Europe/Ljubljana
END:VEVENT
BEGIN:VEVENT
SUMMARY:Eksperimentalna reaktorska fizika (JET-1\, JET-2)\, Laboratorijske
  vaje (L)\, [1]
DTSTART;TZID=Europe/Ljubljana:20221031T090000
DTEND;TZID=Europe/Ljubljana:20221031T130000
DTSTAMP:20260421T140854Z
UID:fmf-AFLABS-URNIK:premaknjeno-srecanje:17941
ATTENDEE:1. letnik (Jedrska tehnika, 2. stopnja)
ATTENDEE:2. letnik (Jedrska tehnika, 2. stopnja)
CATEGORIES:Entry,Standard
COLOR:darkgreen
DESCRIPTION:Predmet: Eksperimentalna reaktorska fizika (JET-1\, JET-2)\, L
 aboratorijske vaje (L)\, [1]\nLetniki: 1. letnik (Jedrska tehnika\, 2. sto
 pnja)\, 2. letnik (Jedrska tehnika\, 2. stopnja)\nIzvajalci: Vladimir Radu
 lović\, Luka Snoj\, Gašper Žerovnik\nProstor: Reaktor
LOCATION:Reaktor
ORGANIZER:Vladimir Radulović, Luka Snoj, Gašper Žerovnik
RELATED-TO:fmf-AFLABS-URNIK:srecanje:7531
X-WR-TIMEZONE:Europe/Ljubljana
END:VEVENT
BEGIN:VEVENT
SUMMARY:Eksperimentalna reaktorska fizika (JET-1\, JET-2)\, Laboratorijske
  vaje (L)\, [1]
DTSTART;TZID=Europe/Ljubljana:20221107T090000
DTEND;TZID=Europe/Ljubljana:20221107T130000
DTSTAMP:20260421T140854Z
UID:fmf-AFLABS-URNIK:premaknjeno-srecanje:17942
ATTENDEE:1. letnik (Jedrska tehnika, 2. stopnja)
ATTENDEE:2. letnik (Jedrska tehnika, 2. stopnja)
CATEGORIES:Entry,Standard
COLOR:darkgreen
DESCRIPTION:Predmet: Eksperimentalna reaktorska fizika (JET-1\, JET-2)\, L
 aboratorijske vaje (L)\, [1]\nLetniki: 1. letnik (Jedrska tehnika\, 2. sto
 pnja)\, 2. letnik (Jedrska tehnika\, 2. stopnja)\nIzvajalci: Vladimir Radu
 lović\, Luka Snoj\, Gašper Žerovnik\nProstor: Reaktor
LOCATION:Reaktor
ORGANIZER:Vladimir Radulović, Luka Snoj, Gašper Žerovnik
RELATED-TO:fmf-AFLABS-URNIK:srecanje:7531
X-WR-TIMEZONE:Europe/Ljubljana
END:VEVENT
BEGIN:VEVENT
SUMMARY:Eksperimentalna reaktorska fizika (JET-1\, JET-2)\, Laboratorijske
  vaje (L)\, [1]
DTSTART;TZID=Europe/Ljubljana:20221114T090000
DTEND;TZID=Europe/Ljubljana:20221114T130000
DTSTAMP:20260421T140854Z
UID:fmf-AFLABS-URNIK:premaknjeno-srecanje:17943
ATTENDEE:1. letnik (Jedrska tehnika, 2. stopnja)
ATTENDEE:2. letnik (Jedrska tehnika, 2. stopnja)
CATEGORIES:Entry,Standard
COLOR:darkgreen
DESCRIPTION:Predmet: Eksperimentalna reaktorska fizika (JET-1\, JET-2)\, L
 aboratorijske vaje (L)\, [1]\nLetniki: 1. letnik (Jedrska tehnika\, 2. sto
 pnja)\, 2. letnik (Jedrska tehnika\, 2. stopnja)\nIzvajalci: Vladimir Radu
 lović\, Luka Snoj\, Gašper Žerovnik\nProstor: Reaktor
LOCATION:Reaktor
ORGANIZER:Vladimir Radulović, Luka Snoj, Gašper Žerovnik
RELATED-TO:fmf-AFLABS-URNIK:srecanje:7531
X-WR-TIMEZONE:Europe/Ljubljana
END:VEVENT
BEGIN:VEVENT
SUMMARY:Eksperimentalna reaktorska fizika (JET-1\, JET-2)\, Laboratorijske
  vaje (L)\, [1]
DTSTART;TZID=Europe/Ljubljana:20221121T090000
DTEND;TZID=Europe/Ljubljana:20221121T130000
DTSTAMP:20260421T140854Z
UID:fmf-AFLABS-URNIK:premaknjeno-srecanje:17944
ATTENDEE:1. letnik (Jedrska tehnika, 2. stopnja)
ATTENDEE:2. letnik (Jedrska tehnika, 2. stopnja)
CATEGORIES:Entry,Standard
COLOR:darkgreen
DESCRIPTION:Predmet: Eksperimentalna reaktorska fizika (JET-1\, JET-2)\, L
 aboratorijske vaje (L)\, [1]\nLetniki: 1. letnik (Jedrska tehnika\, 2. sto
 pnja)\, 2. letnik (Jedrska tehnika\, 2. stopnja)\nIzvajalci: Vladimir Radu
 lović\, Luka Snoj\, Gašper Žerovnik\nProstor: Reaktor
LOCATION:Reaktor
ORGANIZER:Vladimir Radulović, Luka Snoj, Gašper Žerovnik
RELATED-TO:fmf-AFLABS-URNIK:srecanje:7531
X-WR-TIMEZONE:Europe/Ljubljana
END:VEVENT
BEGIN:VEVENT
SUMMARY:Eksperimentalna reaktorska fizika (JET-1\, JET-2)\, Laboratorijske
  vaje (L)\, [1]
DTSTART;TZID=Europe/Ljubljana:20221128T090000
DTEND;TZID=Europe/Ljubljana:20221128T130000
DTSTAMP:20260421T140854Z
UID:fmf-AFLABS-URNIK:premaknjeno-srecanje:17945
ATTENDEE:1. letnik (Jedrska tehnika, 2. stopnja)
ATTENDEE:2. letnik (Jedrska tehnika, 2. stopnja)
CATEGORIES:Entry,Standard
COLOR:darkgreen
DESCRIPTION:Predmet: Eksperimentalna reaktorska fizika (JET-1\, JET-2)\, L
 aboratorijske vaje (L)\, [1]\nLetniki: 1. letnik (Jedrska tehnika\, 2. sto
 pnja)\, 2. letnik (Jedrska tehnika\, 2. stopnja)\nIzvajalci: Vladimir Radu
 lović\, Luka Snoj\, Gašper Žerovnik\nProstor: Reaktor
LOCATION:Reaktor
ORGANIZER:Vladimir Radulović, Luka Snoj, Gašper Žerovnik
RELATED-TO:fmf-AFLABS-URNIK:srecanje:7531
X-WR-TIMEZONE:Europe/Ljubljana
END:VEVENT
BEGIN:VEVENT
SUMMARY:Eksperimentalna reaktorska fizika (JET-1\, JET-2)\, Laboratorijske
  vaje (L)\, [1]
DTSTART;TZID=Europe/Ljubljana:20221205T090000
DTEND;TZID=Europe/Ljubljana:20221205T130000
DTSTAMP:20260421T140854Z
UID:fmf-AFLABS-URNIK:premaknjeno-srecanje:17946
ATTENDEE:1. letnik (Jedrska tehnika, 2. stopnja)
ATTENDEE:2. letnik (Jedrska tehnika, 2. stopnja)
CATEGORIES:Entry,Standard
COLOR:darkgreen
DESCRIPTION:Predmet: Eksperimentalna reaktorska fizika (JET-1\, JET-2)\, L
 aboratorijske vaje (L)\, [1]\nLetniki: 1. letnik (Jedrska tehnika\, 2. sto
 pnja)\, 2. letnik (Jedrska tehnika\, 2. stopnja)\nIzvajalci: Vladimir Radu
 lović\, Luka Snoj\, Gašper Žerovnik\nProstor: Reaktor
LOCATION:Reaktor
ORGANIZER:Vladimir Radulović, Luka Snoj, Gašper Žerovnik
RELATED-TO:fmf-AFLABS-URNIK:srecanje:7531
X-WR-TIMEZONE:Europe/Ljubljana
END:VEVENT
BEGIN:VEVENT
SUMMARY:Eksperimentalna reaktorska fizika (JET-1\, JET-2)\, Laboratorijske
  vaje (L)\, [1]
DTSTART;TZID=Europe/Ljubljana:20221212T090000
DTEND;TZID=Europe/Ljubljana:20221212T130000
DTSTAMP:20260421T140854Z
UID:fmf-AFLABS-URNIK:premaknjeno-srecanje:17947
ATTENDEE:1. letnik (Jedrska tehnika, 2. stopnja)
ATTENDEE:2. letnik (Jedrska tehnika, 2. stopnja)
CATEGORIES:Entry,Standard
COLOR:darkgreen
DESCRIPTION:Predmet: Eksperimentalna reaktorska fizika (JET-1\, JET-2)\, L
 aboratorijske vaje (L)\, [1]\nLetniki: 1. letnik (Jedrska tehnika\, 2. sto
 pnja)\, 2. letnik (Jedrska tehnika\, 2. stopnja)\nIzvajalci: Vladimir Radu
 lović\, Luka Snoj\, Gašper Žerovnik\nProstor: Reaktor
LOCATION:Reaktor
ORGANIZER:Vladimir Radulović, Luka Snoj, Gašper Žerovnik
RELATED-TO:fmf-AFLABS-URNIK:srecanje:7531
X-WR-TIMEZONE:Europe/Ljubljana
END:VEVENT
BEGIN:VEVENT
SUMMARY:Eksperimentalna reaktorska fizika (JET-1\, JET-2)\, Laboratorijske
  vaje (L)\, [1]
DTSTART;TZID=Europe/Ljubljana:20221219T090000
DTEND;TZID=Europe/Ljubljana:20221219T130000
DTSTAMP:20260421T140854Z
UID:fmf-AFLABS-URNIK:premaknjeno-srecanje:17948
ATTENDEE:1. letnik (Jedrska tehnika, 2. stopnja)
ATTENDEE:2. letnik (Jedrska tehnika, 2. stopnja)
CATEGORIES:Entry,Standard
COLOR:darkgreen
DESCRIPTION:Predmet: Eksperimentalna reaktorska fizika (JET-1\, JET-2)\, L
 aboratorijske vaje (L)\, [1]\nLetniki: 1. letnik (Jedrska tehnika\, 2. sto
 pnja)\, 2. letnik (Jedrska tehnika\, 2. stopnja)\nIzvajalci: Vladimir Radu
 lović\, Luka Snoj\, Gašper Žerovnik\nProstor: Reaktor
LOCATION:Reaktor
ORGANIZER:Vladimir Radulović, Luka Snoj, Gašper Žerovnik
RELATED-TO:fmf-AFLABS-URNIK:srecanje:7531
X-WR-TIMEZONE:Europe/Ljubljana
END:VEVENT
BEGIN:VEVENT
SUMMARY:Eksperimentalna reaktorska fizika (JET-1\, JET-2)\, Laboratorijske
  vaje (L)\, [1]
DTSTART;TZID=Europe/Ljubljana:20221226T090000
DTEND;TZID=Europe/Ljubljana:20221226T130000
DTSTAMP:20260421T140854Z
UID:fmf-AFLABS-URNIK:premaknjeno-srecanje:17949
ATTENDEE:1. letnik (Jedrska tehnika, 2. stopnja)
ATTENDEE:2. letnik (Jedrska tehnika, 2. stopnja)
CATEGORIES:Entry,Standard
COLOR:darkgreen
DESCRIPTION:Predmet: Eksperimentalna reaktorska fizika (JET-1\, JET-2)\, L
 aboratorijske vaje (L)\, [1]\nLetniki: 1. letnik (Jedrska tehnika\, 2. sto
 pnja)\, 2. letnik (Jedrska tehnika\, 2. stopnja)\nIzvajalci: Vladimir Radu
 lović\, Luka Snoj\, Gašper Žerovnik\nProstor: Reaktor
LOCATION:Reaktor
ORGANIZER:Vladimir Radulović, Luka Snoj, Gašper Žerovnik
RELATED-TO:fmf-AFLABS-URNIK:srecanje:7531
X-WR-TIMEZONE:Europe/Ljubljana
END:VEVENT
BEGIN:VEVENT
SUMMARY:Eksperimentalna reaktorska fizika (JET-1\, JET-2)\, Laboratorijske
  vaje (L)\, [1]
DTSTART;TZID=Europe/Ljubljana:20230102T090000
DTEND;TZID=Europe/Ljubljana:20230102T130000
DTSTAMP:20260421T140854Z
UID:fmf-AFLABS-URNIK:premaknjeno-srecanje:17950
ATTENDEE:1. letnik (Jedrska tehnika, 2. stopnja)
ATTENDEE:2. letnik (Jedrska tehnika, 2. stopnja)
CATEGORIES:Entry,Standard
COLOR:darkgreen
DESCRIPTION:Predmet: Eksperimentalna reaktorska fizika (JET-1\, JET-2)\, L
 aboratorijske vaje (L)\, [1]\nLetniki: 1. letnik (Jedrska tehnika\, 2. sto
 pnja)\, 2. letnik (Jedrska tehnika\, 2. stopnja)\nIzvajalci: Vladimir Radu
 lović\, Luka Snoj\, Gašper Žerovnik\nProstor: Reaktor
LOCATION:Reaktor
ORGANIZER:Vladimir Radulović, Luka Snoj, Gašper Žerovnik
RELATED-TO:fmf-AFLABS-URNIK:srecanje:7531
X-WR-TIMEZONE:Europe/Ljubljana
END:VEVENT
BEGIN:VEVENT
SUMMARY:Eksperimentalna reaktorska fizika (JET-1\, JET-2)\, Laboratorijske
  vaje (L)\, [1]
DTSTART;TZID=Europe/Ljubljana:20230109T090000
DTEND;TZID=Europe/Ljubljana:20230109T130000
DTSTAMP:20260421T140854Z
UID:fmf-AFLABS-URNIK:premaknjeno-srecanje:17951
ATTENDEE:1. letnik (Jedrska tehnika, 2. stopnja)
ATTENDEE:2. letnik (Jedrska tehnika, 2. stopnja)
CATEGORIES:Entry,Standard
COLOR:darkgreen
DESCRIPTION:Predmet: Eksperimentalna reaktorska fizika (JET-1\, JET-2)\, L
 aboratorijske vaje (L)\, [1]\nLetniki: 1. letnik (Jedrska tehnika\, 2. sto
 pnja)\, 2. letnik (Jedrska tehnika\, 2. stopnja)\nIzvajalci: Vladimir Radu
 lović\, Luka Snoj\, Gašper Žerovnik\nProstor: Reaktor
LOCATION:Reaktor
ORGANIZER:Vladimir Radulović, Luka Snoj, Gašper Žerovnik
RELATED-TO:fmf-AFLABS-URNIK:srecanje:7531
X-WR-TIMEZONE:Europe/Ljubljana
END:VEVENT
BEGIN:VEVENT
SUMMARY:Eksperimentalna reaktorska fizika (JET-1\, JET-2)\, Laboratorijske
  vaje (L)\, [1]
DTSTART;TZID=Europe/Ljubljana:20230116T090000
DTEND;TZID=Europe/Ljubljana:20230116T130000
DTSTAMP:20260421T140854Z
UID:fmf-AFLABS-URNIK:premaknjeno-srecanje:17952
ATTENDEE:1. letnik (Jedrska tehnika, 2. stopnja)
ATTENDEE:2. letnik (Jedrska tehnika, 2. stopnja)
CATEGORIES:Entry,Standard
COLOR:darkgreen
DESCRIPTION:Predmet: Eksperimentalna reaktorska fizika (JET-1\, JET-2)\, L
 aboratorijske vaje (L)\, [1]\nLetniki: 1. letnik (Jedrska tehnika\, 2. sto
 pnja)\, 2. letnik (Jedrska tehnika\, 2. stopnja)\nIzvajalci: Vladimir Radu
 lović\, Luka Snoj\, Gašper Žerovnik\nProstor: Reaktor
LOCATION:Reaktor
ORGANIZER:Vladimir Radulović, Luka Snoj, Gašper Žerovnik
RELATED-TO:fmf-AFLABS-URNIK:srecanje:7531
X-WR-TIMEZONE:Europe/Ljubljana
END:VEVENT
BEGIN:VEVENT
SUMMARY:Eksperimentalna reaktorska fizika (JET-1\, JET-2)\, Laboratorijske
  vaje (L)\, [2]
DTSTART;TZID=Europe/Ljubljana:20221003T140000
DTEND;TZID=Europe/Ljubljana:20221003T180000
DTSTAMP:20260421T140854Z
UID:fmf-AFLABS-URNIK:premaknjeno-srecanje:17953
ATTENDEE:1. letnik (Jedrska tehnika, 2. stopnja)
ATTENDEE:2. letnik (Jedrska tehnika, 2. stopnja)
CATEGORIES:Entry,Standard
COLOR:darkgreen
DESCRIPTION:Predmet: Eksperimentalna reaktorska fizika (JET-1\, JET-2)\, L
 aboratorijske vaje (L)\, [2]\nLetniki: 1. letnik (Jedrska tehnika\, 2. sto
 pnja)\, 2. letnik (Jedrska tehnika\, 2. stopnja)\nIzvajalci: Vladimir Radu
 lović\, Luka Snoj\, Gašper Žerovnik\nProstor: Reaktor
LOCATION:Reaktor
ORGANIZER:Vladimir Radulović, Luka Snoj, Gašper Žerovnik
RELATED-TO:fmf-AFLABS-URNIK:srecanje:8143
X-WR-TIMEZONE:Europe/Ljubljana
END:VEVENT
BEGIN:VEVENT
SUMMARY:Eksperimentalna reaktorska fizika (JET-1\, JET-2)\, Laboratorijske
  vaje (L)\, [2]
DTSTART;TZID=Europe/Ljubljana:20221010T140000
DTEND;TZID=Europe/Ljubljana:20221010T180000
DTSTAMP:20260421T140854Z
UID:fmf-AFLABS-URNIK:premaknjeno-srecanje:17954
ATTENDEE:1. letnik (Jedrska tehnika, 2. stopnja)
ATTENDEE:2. letnik (Jedrska tehnika, 2. stopnja)
CATEGORIES:Entry,Standard
COLOR:darkgreen
DESCRIPTION:Predmet: Eksperimentalna reaktorska fizika (JET-1\, JET-2)\, L
 aboratorijske vaje (L)\, [2]\nLetniki: 1. letnik (Jedrska tehnika\, 2. sto
 pnja)\, 2. letnik (Jedrska tehnika\, 2. stopnja)\nIzvajalci: Vladimir Radu
 lović\, Luka Snoj\, Gašper Žerovnik\nProstor: Reaktor
LOCATION:Reaktor
ORGANIZER:Vladimir Radulović, Luka Snoj, Gašper Žerovnik
RELATED-TO:fmf-AFLABS-URNIK:srecanje:8143
X-WR-TIMEZONE:Europe/Ljubljana
END:VEVENT
BEGIN:VEVENT
SUMMARY:Eksperimentalna reaktorska fizika (JET-1\, JET-2)\, Laboratorijske
  vaje (L)\, [2]
DTSTART;TZID=Europe/Ljubljana:20221017T140000
DTEND;TZID=Europe/Ljubljana:20221017T180000
DTSTAMP:20260421T140854Z
UID:fmf-AFLABS-URNIK:premaknjeno-srecanje:17955
ATTENDEE:1. letnik (Jedrska tehnika, 2. stopnja)
ATTENDEE:2. letnik (Jedrska tehnika, 2. stopnja)
CATEGORIES:Entry,Standard
COLOR:darkgreen
DESCRIPTION:Predmet: Eksperimentalna reaktorska fizika (JET-1\, JET-2)\, L
 aboratorijske vaje (L)\, [2]\nLetniki: 1. letnik (Jedrska tehnika\, 2. sto
 pnja)\, 2. letnik (Jedrska tehnika\, 2. stopnja)\nIzvajalci: Vladimir Radu
 lović\, Luka Snoj\, Gašper Žerovnik\nProstor: Reaktor
LOCATION:Reaktor
ORGANIZER:Vladimir Radulović, Luka Snoj, Gašper Žerovnik
RELATED-TO:fmf-AFLABS-URNIK:srecanje:8143
X-WR-TIMEZONE:Europe/Ljubljana
END:VEVENT
BEGIN:VEVENT
SUMMARY:Eksperimentalna reaktorska fizika (JET-1\, JET-2)\, Laboratorijske
  vaje (L)\, [2]
DTSTART;TZID=Europe/Ljubljana:20221024T140000
DTEND;TZID=Europe/Ljubljana:20221024T180000
DTSTAMP:20260421T140854Z
UID:fmf-AFLABS-URNIK:premaknjeno-srecanje:17956
ATTENDEE:1. letnik (Jedrska tehnika, 2. stopnja)
ATTENDEE:2. letnik (Jedrska tehnika, 2. stopnja)
CATEGORIES:Entry,Standard
COLOR:darkgreen
DESCRIPTION:Predmet: Eksperimentalna reaktorska fizika (JET-1\, JET-2)\, L
 aboratorijske vaje (L)\, [2]\nLetniki: 1. letnik (Jedrska tehnika\, 2. sto
 pnja)\, 2. letnik (Jedrska tehnika\, 2. stopnja)\nIzvajalci: Vladimir Radu
 lović\, Luka Snoj\, Gašper Žerovnik\nProstor: Reaktor
LOCATION:Reaktor
ORGANIZER:Vladimir Radulović, Luka Snoj, Gašper Žerovnik
RELATED-TO:fmf-AFLABS-URNIK:srecanje:8143
X-WR-TIMEZONE:Europe/Ljubljana
END:VEVENT
BEGIN:VEVENT
SUMMARY:Eksperimentalna reaktorska fizika (JET-1\, JET-2)\, Laboratorijske
  vaje (L)\, [2]
DTSTART;TZID=Europe/Ljubljana:20221031T140000
DTEND;TZID=Europe/Ljubljana:20221031T180000
DTSTAMP:20260421T140854Z
UID:fmf-AFLABS-URNIK:premaknjeno-srecanje:17957
ATTENDEE:1. letnik (Jedrska tehnika, 2. stopnja)
ATTENDEE:2. letnik (Jedrska tehnika, 2. stopnja)
CATEGORIES:Entry,Standard
COLOR:darkgreen
DESCRIPTION:Predmet: Eksperimentalna reaktorska fizika (JET-1\, JET-2)\, L
 aboratorijske vaje (L)\, [2]\nLetniki: 1. letnik (Jedrska tehnika\, 2. sto
 pnja)\, 2. letnik (Jedrska tehnika\, 2. stopnja)\nIzvajalci: Vladimir Radu
 lović\, Luka Snoj\, Gašper Žerovnik\nProstor: Reaktor
LOCATION:Reaktor
ORGANIZER:Vladimir Radulović, Luka Snoj, Gašper Žerovnik
RELATED-TO:fmf-AFLABS-URNIK:srecanje:8143
X-WR-TIMEZONE:Europe/Ljubljana
END:VEVENT
BEGIN:VEVENT
SUMMARY:Eksperimentalna reaktorska fizika (JET-1\, JET-2)\, Laboratorijske
  vaje (L)\, [2]
DTSTART;TZID=Europe/Ljubljana:20221107T140000
DTEND;TZID=Europe/Ljubljana:20221107T180000
DTSTAMP:20260421T140854Z
UID:fmf-AFLABS-URNIK:premaknjeno-srecanje:17958
ATTENDEE:1. letnik (Jedrska tehnika, 2. stopnja)
ATTENDEE:2. letnik (Jedrska tehnika, 2. stopnja)
CATEGORIES:Entry,Standard
COLOR:darkgreen
DESCRIPTION:Predmet: Eksperimentalna reaktorska fizika (JET-1\, JET-2)\, L
 aboratorijske vaje (L)\, [2]\nLetniki: 1. letnik (Jedrska tehnika\, 2. sto
 pnja)\, 2. letnik (Jedrska tehnika\, 2. stopnja)\nIzvajalci: Vladimir Radu
 lović\, Luka Snoj\, Gašper Žerovnik\nProstor: Reaktor
LOCATION:Reaktor
ORGANIZER:Vladimir Radulović, Luka Snoj, Gašper Žerovnik
RELATED-TO:fmf-AFLABS-URNIK:srecanje:8143
X-WR-TIMEZONE:Europe/Ljubljana
END:VEVENT
BEGIN:VEVENT
SUMMARY:Eksperimentalna reaktorska fizika (JET-1\, JET-2)\, Laboratorijske
  vaje (L)\, [2]
DTSTART;TZID=Europe/Ljubljana:20221114T140000
DTEND;TZID=Europe/Ljubljana:20221114T180000
DTSTAMP:20260421T140854Z
UID:fmf-AFLABS-URNIK:premaknjeno-srecanje:17959
ATTENDEE:1. letnik (Jedrska tehnika, 2. stopnja)
ATTENDEE:2. letnik (Jedrska tehnika, 2. stopnja)
CATEGORIES:Entry,Standard
COLOR:darkgreen
DESCRIPTION:Predmet: Eksperimentalna reaktorska fizika (JET-1\, JET-2)\, L
 aboratorijske vaje (L)\, [2]\nLetniki: 1. letnik (Jedrska tehnika\, 2. sto
 pnja)\, 2. letnik (Jedrska tehnika\, 2. stopnja)\nIzvajalci: Vladimir Radu
 lović\, Luka Snoj\, Gašper Žerovnik\nProstor: Reaktor
LOCATION:Reaktor
ORGANIZER:Vladimir Radulović, Luka Snoj, Gašper Žerovnik
RELATED-TO:fmf-AFLABS-URNIK:srecanje:8143
X-WR-TIMEZONE:Europe/Ljubljana
END:VEVENT
BEGIN:VEVENT
SUMMARY:Eksperimentalna reaktorska fizika (JET-1\, JET-2)\, Laboratorijske
  vaje (L)\, [2]
DTSTART;TZID=Europe/Ljubljana:20221121T140000
DTEND;TZID=Europe/Ljubljana:20221121T180000
DTSTAMP:20260421T140854Z
UID:fmf-AFLABS-URNIK:premaknjeno-srecanje:17960
ATTENDEE:1. letnik (Jedrska tehnika, 2. stopnja)
ATTENDEE:2. letnik (Jedrska tehnika, 2. stopnja)
CATEGORIES:Entry,Standard
COLOR:darkgreen
DESCRIPTION:Predmet: Eksperimentalna reaktorska fizika (JET-1\, JET-2)\, L
 aboratorijske vaje (L)\, [2]\nLetniki: 1. letnik (Jedrska tehnika\, 2. sto
 pnja)\, 2. letnik (Jedrska tehnika\, 2. stopnja)\nIzvajalci: Vladimir Radu
 lović\, Luka Snoj\, Gašper Žerovnik\nProstor: Reaktor
LOCATION:Reaktor
ORGANIZER:Vladimir Radulović, Luka Snoj, Gašper Žerovnik
RELATED-TO:fmf-AFLABS-URNIK:srecanje:8143
X-WR-TIMEZONE:Europe/Ljubljana
END:VEVENT
BEGIN:VEVENT
SUMMARY:Eksperimentalna reaktorska fizika (JET-1\, JET-2)\, Laboratorijske
  vaje (L)\, [2]
DTSTART;TZID=Europe/Ljubljana:20221128T140000
DTEND;TZID=Europe/Ljubljana:20221128T180000
DTSTAMP:20260421T140854Z
UID:fmf-AFLABS-URNIK:premaknjeno-srecanje:17961
ATTENDEE:1. letnik (Jedrska tehnika, 2. stopnja)
ATTENDEE:2. letnik (Jedrska tehnika, 2. stopnja)
CATEGORIES:Entry,Standard
COLOR:darkgreen
DESCRIPTION:Predmet: Eksperimentalna reaktorska fizika (JET-1\, JET-2)\, L
 aboratorijske vaje (L)\, [2]\nLetniki: 1. letnik (Jedrska tehnika\, 2. sto
 pnja)\, 2. letnik (Jedrska tehnika\, 2. stopnja)\nIzvajalci: Vladimir Radu
 lović\, Luka Snoj\, Gašper Žerovnik\nProstor: Reaktor
LOCATION:Reaktor
ORGANIZER:Vladimir Radulović, Luka Snoj, Gašper Žerovnik
RELATED-TO:fmf-AFLABS-URNIK:srecanje:8143
X-WR-TIMEZONE:Europe/Ljubljana
END:VEVENT
BEGIN:VEVENT
SUMMARY:Eksperimentalna reaktorska fizika (JET-1\, JET-2)\, Laboratorijske
  vaje (L)\, [2]
DTSTART;TZID=Europe/Ljubljana:20221205T140000
DTEND;TZID=Europe/Ljubljana:20221205T180000
DTSTAMP:20260421T140854Z
UID:fmf-AFLABS-URNIK:premaknjeno-srecanje:17962
ATTENDEE:1. letnik (Jedrska tehnika, 2. stopnja)
ATTENDEE:2. letnik (Jedrska tehnika, 2. stopnja)
CATEGORIES:Entry,Standard
COLOR:darkgreen
DESCRIPTION:Predmet: Eksperimentalna reaktorska fizika (JET-1\, JET-2)\, L
 aboratorijske vaje (L)\, [2]\nLetniki: 1. letnik (Jedrska tehnika\, 2. sto
 pnja)\, 2. letnik (Jedrska tehnika\, 2. stopnja)\nIzvajalci: Vladimir Radu
 lović\, Luka Snoj\, Gašper Žerovnik\nProstor: Reaktor
LOCATION:Reaktor
ORGANIZER:Vladimir Radulović, Luka Snoj, Gašper Žerovnik
RELATED-TO:fmf-AFLABS-URNIK:srecanje:8143
X-WR-TIMEZONE:Europe/Ljubljana
END:VEVENT
BEGIN:VEVENT
SUMMARY:Eksperimentalna reaktorska fizika (JET-1\, JET-2)\, Laboratorijske
  vaje (L)\, [2]
DTSTART;TZID=Europe/Ljubljana:20221212T140000
DTEND;TZID=Europe/Ljubljana:20221212T180000
DTSTAMP:20260421T140854Z
UID:fmf-AFLABS-URNIK:premaknjeno-srecanje:17963
ATTENDEE:1. letnik (Jedrska tehnika, 2. stopnja)
ATTENDEE:2. letnik (Jedrska tehnika, 2. stopnja)
CATEGORIES:Entry,Standard
COLOR:darkgreen
DESCRIPTION:Predmet: Eksperimentalna reaktorska fizika (JET-1\, JET-2)\, L
 aboratorijske vaje (L)\, [2]\nLetniki: 1. letnik (Jedrska tehnika\, 2. sto
 pnja)\, 2. letnik (Jedrska tehnika\, 2. stopnja)\nIzvajalci: Vladimir Radu
 lović\, Luka Snoj\, Gašper Žerovnik\nProstor: Reaktor
LOCATION:Reaktor
ORGANIZER:Vladimir Radulović, Luka Snoj, Gašper Žerovnik
RELATED-TO:fmf-AFLABS-URNIK:srecanje:8143
X-WR-TIMEZONE:Europe/Ljubljana
END:VEVENT
BEGIN:VEVENT
SUMMARY:Eksperimentalna reaktorska fizika (JET-1\, JET-2)\, Laboratorijske
  vaje (L)\, [2]
DTSTART;TZID=Europe/Ljubljana:20221219T140000
DTEND;TZID=Europe/Ljubljana:20221219T180000
DTSTAMP:20260421T140854Z
UID:fmf-AFLABS-URNIK:premaknjeno-srecanje:17964
ATTENDEE:1. letnik (Jedrska tehnika, 2. stopnja)
ATTENDEE:2. letnik (Jedrska tehnika, 2. stopnja)
CATEGORIES:Entry,Standard
COLOR:darkgreen
DESCRIPTION:Predmet: Eksperimentalna reaktorska fizika (JET-1\, JET-2)\, L
 aboratorijske vaje (L)\, [2]\nLetniki: 1. letnik (Jedrska tehnika\, 2. sto
 pnja)\, 2. letnik (Jedrska tehnika\, 2. stopnja)\nIzvajalci: Vladimir Radu
 lović\, Luka Snoj\, Gašper Žerovnik\nProstor: Reaktor
LOCATION:Reaktor
ORGANIZER:Vladimir Radulović, Luka Snoj, Gašper Žerovnik
RELATED-TO:fmf-AFLABS-URNIK:srecanje:8143
X-WR-TIMEZONE:Europe/Ljubljana
END:VEVENT
BEGIN:VEVENT
SUMMARY:Eksperimentalna reaktorska fizika (JET-1\, JET-2)\, Laboratorijske
  vaje (L)\, [2]
DTSTART;TZID=Europe/Ljubljana:20221226T140000
DTEND;TZID=Europe/Ljubljana:20221226T180000
DTSTAMP:20260421T140854Z
UID:fmf-AFLABS-URNIK:premaknjeno-srecanje:17965
ATTENDEE:1. letnik (Jedrska tehnika, 2. stopnja)
ATTENDEE:2. letnik (Jedrska tehnika, 2. stopnja)
CATEGORIES:Entry,Standard
COLOR:darkgreen
DESCRIPTION:Predmet: Eksperimentalna reaktorska fizika (JET-1\, JET-2)\, L
 aboratorijske vaje (L)\, [2]\nLetniki: 1. letnik (Jedrska tehnika\, 2. sto
 pnja)\, 2. letnik (Jedrska tehnika\, 2. stopnja)\nIzvajalci: Vladimir Radu
 lović\, Luka Snoj\, Gašper Žerovnik\nProstor: Reaktor
LOCATION:Reaktor
ORGANIZER:Vladimir Radulović, Luka Snoj, Gašper Žerovnik
RELATED-TO:fmf-AFLABS-URNIK:srecanje:8143
X-WR-TIMEZONE:Europe/Ljubljana
END:VEVENT
BEGIN:VEVENT
SUMMARY:Eksperimentalna reaktorska fizika (JET-1\, JET-2)\, Laboratorijske
  vaje (L)\, [2]
DTSTART;TZID=Europe/Ljubljana:20230102T140000
DTEND;TZID=Europe/Ljubljana:20230102T180000
DTSTAMP:20260421T140854Z
UID:fmf-AFLABS-URNIK:premaknjeno-srecanje:17966
ATTENDEE:1. letnik (Jedrska tehnika, 2. stopnja)
ATTENDEE:2. letnik (Jedrska tehnika, 2. stopnja)
CATEGORIES:Entry,Standard
COLOR:darkgreen
DESCRIPTION:Predmet: Eksperimentalna reaktorska fizika (JET-1\, JET-2)\, L
 aboratorijske vaje (L)\, [2]\nLetniki: 1. letnik (Jedrska tehnika\, 2. sto
 pnja)\, 2. letnik (Jedrska tehnika\, 2. stopnja)\nIzvajalci: Vladimir Radu
 lović\, Luka Snoj\, Gašper Žerovnik\nProstor: Reaktor
LOCATION:Reaktor
ORGANIZER:Vladimir Radulović, Luka Snoj, Gašper Žerovnik
RELATED-TO:fmf-AFLABS-URNIK:srecanje:8143
X-WR-TIMEZONE:Europe/Ljubljana
END:VEVENT
BEGIN:VEVENT
SUMMARY:Eksperimentalna reaktorska fizika (JET-1\, JET-2)\, Laboratorijske
  vaje (L)\, [2]
DTSTART;TZID=Europe/Ljubljana:20230109T140000
DTEND;TZID=Europe/Ljubljana:20230109T180000
DTSTAMP:20260421T140854Z
UID:fmf-AFLABS-URNIK:premaknjeno-srecanje:17967
ATTENDEE:1. letnik (Jedrska tehnika, 2. stopnja)
ATTENDEE:2. letnik (Jedrska tehnika, 2. stopnja)
CATEGORIES:Entry,Standard
COLOR:darkgreen
DESCRIPTION:Predmet: Eksperimentalna reaktorska fizika (JET-1\, JET-2)\, L
 aboratorijske vaje (L)\, [2]\nLetniki: 1. letnik (Jedrska tehnika\, 2. sto
 pnja)\, 2. letnik (Jedrska tehnika\, 2. stopnja)\nIzvajalci: Vladimir Radu
 lović\, Luka Snoj\, Gašper Žerovnik\nProstor: Reaktor
LOCATION:Reaktor
ORGANIZER:Vladimir Radulović, Luka Snoj, Gašper Žerovnik
RELATED-TO:fmf-AFLABS-URNIK:srecanje:8143
X-WR-TIMEZONE:Europe/Ljubljana
END:VEVENT
BEGIN:VEVENT
SUMMARY:Eksperimentalna reaktorska fizika (JET-1\, JET-2)\, Laboratorijske
  vaje (L)\, [2]
DTSTART;TZID=Europe/Ljubljana:20230116T140000
DTEND;TZID=Europe/Ljubljana:20230116T180000
DTSTAMP:20260421T140854Z
UID:fmf-AFLABS-URNIK:premaknjeno-srecanje:17968
ATTENDEE:1. letnik (Jedrska tehnika, 2. stopnja)
ATTENDEE:2. letnik (Jedrska tehnika, 2. stopnja)
CATEGORIES:Entry,Standard
COLOR:darkgreen
DESCRIPTION:Predmet: Eksperimentalna reaktorska fizika (JET-1\, JET-2)\, L
 aboratorijske vaje (L)\, [2]\nLetniki: 1. letnik (Jedrska tehnika\, 2. sto
 pnja)\, 2. letnik (Jedrska tehnika\, 2. stopnja)\nIzvajalci: Vladimir Radu
 lović\, Luka Snoj\, Gašper Žerovnik\nProstor: Reaktor
LOCATION:Reaktor
ORGANIZER:Vladimir Radulović, Luka Snoj, Gašper Žerovnik
RELATED-TO:fmf-AFLABS-URNIK:srecanje:8143
X-WR-TIMEZONE:Europe/Ljubljana
END:VEVENT
END:VCALENDAR
