BEGIN:VCALENDAR
VERSION:2.0
PRODID:-//AFLabs urnik izvoz - fmf//aflabs.si//SI
DTSTAMP:20260419T222038Z
NAME:UL FMF urnik
REFRESH-INTERVAL:PT1H
SOURCE:https://urnik.fmf.uni-lj.si/teacher/792?day=2023-06-05&export=1
URL:https://urnik.fmf.uni-lj.si/teacher/792?day=2023-06-05&export=1
X-PUBLISHED-TTL:PT1H
X-WR-CALNAME:UL FMF urnik
X-WR-TIMEZONE:Europe/Ljubljana
BEGIN:VTIMEZONE
TZID:Europe/Ljubljana
BEGIN:DAYLIGHT
DTSTART:20260329T020000
RDATE:20260329T020000
RDATE:20270328T020000
TZNAME:CEST
TZOFFSETFROM:+0100
TZOFFSETTO:+0200
END:DAYLIGHT
BEGIN:STANDARD
DTSTART:20261025T030000
RDATE:20261025T030000
RDATE:20271031T030000
TZNAME:CET
TZOFFSETFROM:+0200
TZOFFSETTO:+0100
END:STANDARD
END:VTIMEZONE
BEGIN:VEVENT
SUMMARY:Jedrska\, reaktorska in radiološka fizika (JET-1\, JET-2)\, Preda
 vanja (P)
DTSTART;TZID=Europe/Ljubljana:20230502T110000
DTEND;TZID=Europe/Ljubljana:20230502T130000
DTSTAMP:20260419T222038Z
UID:fmf-AFLABS-URNIK:premaknjeno-srecanje:45693
ATTENDEE:1. letnik (Jedrska tehnika, 2. stopnja)
ATTENDEE:2. letnik (Jedrska tehnika, 2. stopnja)
CATEGORIES:Entry,Standard
COLOR:darkgreen
DESCRIPTION:Predmet: Jedrska\, reaktorska in radiološka fizika (JET-1\, J
 ET-2)\, Predavanja (P)\nLetniki: 1. letnik (Jedrska tehnika\, 2. stopnja)\
 , 2. letnik (Jedrska tehnika\, 2. stopnja)\nIzvajalci: Gašper Žerovnik\n
 Prostor: Reaktor
LOCATION:Reaktor
ORGANIZER:Gašper Žerovnik
RELATED-TO:fmf-AFLABS-URNIK:srecanje:8435
X-WR-TIMEZONE:Europe/Ljubljana
END:VEVENT
BEGIN:VEVENT
SUMMARY:Jedrska\, reaktorska in radiološka fizika (JET-1\, JET-2)\, Preda
 vanja (P)
DTSTART;TZID=Europe/Ljubljana:20230509T110000
DTEND;TZID=Europe/Ljubljana:20230509T130000
DTSTAMP:20260419T222038Z
UID:fmf-AFLABS-URNIK:premaknjeno-srecanje:45694
ATTENDEE:1. letnik (Jedrska tehnika, 2. stopnja)
ATTENDEE:2. letnik (Jedrska tehnika, 2. stopnja)
CATEGORIES:Entry,Standard
COLOR:darkgreen
DESCRIPTION:Predmet: Jedrska\, reaktorska in radiološka fizika (JET-1\, J
 ET-2)\, Predavanja (P)\nLetniki: 1. letnik (Jedrska tehnika\, 2. stopnja)\
 , 2. letnik (Jedrska tehnika\, 2. stopnja)\nIzvajalci: Gašper Žerovnik\n
 Prostor: Reaktor
LOCATION:Reaktor
ORGANIZER:Gašper Žerovnik
RELATED-TO:fmf-AFLABS-URNIK:srecanje:8435
X-WR-TIMEZONE:Europe/Ljubljana
END:VEVENT
BEGIN:VEVENT
SUMMARY:Jedrska\, reaktorska in radiološka fizika (JET-1\, JET-2)\, Preda
 vanja (P)
DTSTART;TZID=Europe/Ljubljana:20230516T110000
DTEND;TZID=Europe/Ljubljana:20230516T130000
DTSTAMP:20260419T222038Z
UID:fmf-AFLABS-URNIK:premaknjeno-srecanje:45695
ATTENDEE:1. letnik (Jedrska tehnika, 2. stopnja)
ATTENDEE:2. letnik (Jedrska tehnika, 2. stopnja)
CATEGORIES:Entry,Standard
COLOR:darkgreen
DESCRIPTION:Predmet: Jedrska\, reaktorska in radiološka fizika (JET-1\, J
 ET-2)\, Predavanja (P)\nLetniki: 1. letnik (Jedrska tehnika\, 2. stopnja)\
 , 2. letnik (Jedrska tehnika\, 2. stopnja)\nIzvajalci: Gašper Žerovnik\n
 Prostor: Reaktor
LOCATION:Reaktor
ORGANIZER:Gašper Žerovnik
RELATED-TO:fmf-AFLABS-URNIK:srecanje:8435
X-WR-TIMEZONE:Europe/Ljubljana
END:VEVENT
BEGIN:VEVENT
SUMMARY:Jedrska\, reaktorska in radiološka fizika (JET-1\, JET-2)\, Preda
 vanja (P)
DTSTART;TZID=Europe/Ljubljana:20230523T110000
DTEND;TZID=Europe/Ljubljana:20230523T130000
DTSTAMP:20260419T222038Z
UID:fmf-AFLABS-URNIK:premaknjeno-srecanje:45696
ATTENDEE:1. letnik (Jedrska tehnika, 2. stopnja)
ATTENDEE:2. letnik (Jedrska tehnika, 2. stopnja)
CATEGORIES:Entry,Standard
COLOR:darkgreen
DESCRIPTION:Predmet: Jedrska\, reaktorska in radiološka fizika (JET-1\, J
 ET-2)\, Predavanja (P)\nLetniki: 1. letnik (Jedrska tehnika\, 2. stopnja)\
 , 2. letnik (Jedrska tehnika\, 2. stopnja)\nIzvajalci: Gašper Žerovnik\n
 Prostor: Reaktor
LOCATION:Reaktor
ORGANIZER:Gašper Žerovnik
RELATED-TO:fmf-AFLABS-URNIK:srecanje:8435
X-WR-TIMEZONE:Europe/Ljubljana
END:VEVENT
BEGIN:VEVENT
SUMMARY:Jedrska\, reaktorska in radiološka fizika (JET-1\, JET-2)\, Preda
 vanja (P)
DTSTART;TZID=Europe/Ljubljana:20230530T110000
DTEND;TZID=Europe/Ljubljana:20230530T130000
DTSTAMP:20260419T222038Z
UID:fmf-AFLABS-URNIK:premaknjeno-srecanje:45697
ATTENDEE:1. letnik (Jedrska tehnika, 2. stopnja)
ATTENDEE:2. letnik (Jedrska tehnika, 2. stopnja)
CATEGORIES:Entry,Standard
COLOR:darkgreen
DESCRIPTION:Predmet: Jedrska\, reaktorska in radiološka fizika (JET-1\, J
 ET-2)\, Predavanja (P)\nLetniki: 1. letnik (Jedrska tehnika\, 2. stopnja)\
 , 2. letnik (Jedrska tehnika\, 2. stopnja)\nIzvajalci: Gašper Žerovnik\n
 Prostor: Reaktor
LOCATION:Reaktor
ORGANIZER:Gašper Žerovnik
RELATED-TO:fmf-AFLABS-URNIK:srecanje:8435
X-WR-TIMEZONE:Europe/Ljubljana
END:VEVENT
BEGIN:VEVENT
SUMMARY:Jedrska\, reaktorska in radiološka fizika (JET-1\, JET-2)\, Vaje 
 (V)
DTSTART;TZID=Europe/Ljubljana:20230502T130000
DTEND;TZID=Europe/Ljubljana:20230502T150000
DTSTAMP:20260419T222038Z
UID:fmf-AFLABS-URNIK:premaknjeno-srecanje:45740
ATTENDEE:1. letnik (Jedrska tehnika, 2. stopnja)
ATTENDEE:2. letnik (Jedrska tehnika, 2. stopnja)
CATEGORIES:Entry,Standard
COLOR:darkgreen
DESCRIPTION:Predmet: Jedrska\, reaktorska in radiološka fizika (JET-1\, J
 ET-2)\, Vaje (V)\nLetniki: 1. letnik (Jedrska tehnika\, 2. stopnja)\, 2. l
 etnik (Jedrska tehnika\, 2. stopnja)\nIzvajalci: Vladimir Radulović\, Ga
 šper Žerovnik\nProstor: Reaktor
LOCATION:Reaktor
ORGANIZER:Vladimir Radulović, Gašper Žerovnik
RELATED-TO:fmf-AFLABS-URNIK:srecanje:8436
X-WR-TIMEZONE:Europe/Ljubljana
END:VEVENT
BEGIN:VEVENT
SUMMARY:Jedrska\, reaktorska in radiološka fizika (JET-1\, JET-2)\, Vaje 
 (V)
DTSTART;TZID=Europe/Ljubljana:20230509T130000
DTEND;TZID=Europe/Ljubljana:20230509T150000
DTSTAMP:20260419T222038Z
UID:fmf-AFLABS-URNIK:premaknjeno-srecanje:45741
ATTENDEE:1. letnik (Jedrska tehnika, 2. stopnja)
ATTENDEE:2. letnik (Jedrska tehnika, 2. stopnja)
CATEGORIES:Entry,Standard
COLOR:darkgreen
DESCRIPTION:Predmet: Jedrska\, reaktorska in radiološka fizika (JET-1\, J
 ET-2)\, Vaje (V)\nLetniki: 1. letnik (Jedrska tehnika\, 2. stopnja)\, 2. l
 etnik (Jedrska tehnika\, 2. stopnja)\nIzvajalci: Vladimir Radulović\, Ga
 šper Žerovnik\nProstor: Reaktor
LOCATION:Reaktor
ORGANIZER:Vladimir Radulović, Gašper Žerovnik
RELATED-TO:fmf-AFLABS-URNIK:srecanje:8436
X-WR-TIMEZONE:Europe/Ljubljana
END:VEVENT
BEGIN:VEVENT
SUMMARY:Jedrska\, reaktorska in radiološka fizika (JET-1\, JET-2)\, Vaje 
 (V)
DTSTART;TZID=Europe/Ljubljana:20230516T130000
DTEND;TZID=Europe/Ljubljana:20230516T150000
DTSTAMP:20260419T222038Z
UID:fmf-AFLABS-URNIK:premaknjeno-srecanje:45742
ATTENDEE:1. letnik (Jedrska tehnika, 2. stopnja)
ATTENDEE:2. letnik (Jedrska tehnika, 2. stopnja)
CATEGORIES:Entry,Standard
COLOR:darkgreen
DESCRIPTION:Predmet: Jedrska\, reaktorska in radiološka fizika (JET-1\, J
 ET-2)\, Vaje (V)\nLetniki: 1. letnik (Jedrska tehnika\, 2. stopnja)\, 2. l
 etnik (Jedrska tehnika\, 2. stopnja)\nIzvajalci: Vladimir Radulović\, Ga
 šper Žerovnik\nProstor: Reaktor
LOCATION:Reaktor
ORGANIZER:Vladimir Radulović, Gašper Žerovnik
RELATED-TO:fmf-AFLABS-URNIK:srecanje:8436
X-WR-TIMEZONE:Europe/Ljubljana
END:VEVENT
BEGIN:VEVENT
SUMMARY:Jedrska\, reaktorska in radiološka fizika (JET-1\, JET-2)\, Vaje 
 (V)
DTSTART;TZID=Europe/Ljubljana:20230523T130000
DTEND;TZID=Europe/Ljubljana:20230523T150000
DTSTAMP:20260419T222038Z
UID:fmf-AFLABS-URNIK:premaknjeno-srecanje:45743
ATTENDEE:1. letnik (Jedrska tehnika, 2. stopnja)
ATTENDEE:2. letnik (Jedrska tehnika, 2. stopnja)
CATEGORIES:Entry,Standard
COLOR:darkgreen
DESCRIPTION:Predmet: Jedrska\, reaktorska in radiološka fizika (JET-1\, J
 ET-2)\, Vaje (V)\nLetniki: 1. letnik (Jedrska tehnika\, 2. stopnja)\, 2. l
 etnik (Jedrska tehnika\, 2. stopnja)\nIzvajalci: Vladimir Radulović\, Ga
 šper Žerovnik\nProstor: Reaktor
LOCATION:Reaktor
ORGANIZER:Vladimir Radulović, Gašper Žerovnik
RELATED-TO:fmf-AFLABS-URNIK:srecanje:8436
X-WR-TIMEZONE:Europe/Ljubljana
END:VEVENT
BEGIN:VEVENT
SUMMARY:Jedrska\, reaktorska in radiološka fizika (JET-1\, JET-2)\, Vaje 
 (V)
DTSTART;TZID=Europe/Ljubljana:20230530T130000
DTEND;TZID=Europe/Ljubljana:20230530T150000
DTSTAMP:20260419T222038Z
UID:fmf-AFLABS-URNIK:premaknjeno-srecanje:45744
ATTENDEE:1. letnik (Jedrska tehnika, 2. stopnja)
ATTENDEE:2. letnik (Jedrska tehnika, 2. stopnja)
CATEGORIES:Entry,Standard
COLOR:darkgreen
DESCRIPTION:Predmet: Jedrska\, reaktorska in radiološka fizika (JET-1\, J
 ET-2)\, Vaje (V)\nLetniki: 1. letnik (Jedrska tehnika\, 2. stopnja)\, 2. l
 etnik (Jedrska tehnika\, 2. stopnja)\nIzvajalci: Vladimir Radulović\, Ga
 šper Žerovnik\nProstor: Reaktor
LOCATION:Reaktor
ORGANIZER:Vladimir Radulović, Gašper Žerovnik
RELATED-TO:fmf-AFLABS-URNIK:srecanje:8436
X-WR-TIMEZONE:Europe/Ljubljana
END:VEVENT
BEGIN:VEVENT
SUMMARY:Radiacijska in reaktorska fizika (FIZ-3)\, Vaje (V)
DTSTART;TZID=Europe/Ljubljana:20230504T150000
DTEND;TZID=Europe/Ljubljana:20230504T160000
DTSTAMP:20260419T222038Z
UID:fmf-AFLABS-URNIK:premaknjeno-srecanje:90913
ATTENDEE:3. letnik (Fizika, 1. stopnja)
CATEGORIES:Entry,Standard
COLOR:darkgreen
DESCRIPTION:Predmet: Radiacijska in reaktorska fizika (FIZ-3)\, Vaje (V)\n
 Letniki: 3. letnik (Fizika\, 1. stopnja)\nIzvajalci: Gašper Žerovnik\nPr
 ostor: F5
LOCATION:F5
ORGANIZER:Gašper Žerovnik
RELATED-TO:fmf-AFLABS-URNIK:srecanje:8667
X-WR-TIMEZONE:Europe/Ljubljana
END:VEVENT
BEGIN:VEVENT
SUMMARY:Radiacijska in reaktorska fizika (FIZ-3)\, Vaje (V)
DTSTART;TZID=Europe/Ljubljana:20230511T150000
DTEND;TZID=Europe/Ljubljana:20230511T160000
DTSTAMP:20260419T222038Z
UID:fmf-AFLABS-URNIK:premaknjeno-srecanje:90914
ATTENDEE:3. letnik (Fizika, 1. stopnja)
CATEGORIES:Entry,Standard
COLOR:darkgreen
DESCRIPTION:Predmet: Radiacijska in reaktorska fizika (FIZ-3)\, Vaje (V)\n
 Letniki: 3. letnik (Fizika\, 1. stopnja)\nIzvajalci: Gašper Žerovnik\nPr
 ostor: F5
LOCATION:F5
ORGANIZER:Gašper Žerovnik
RELATED-TO:fmf-AFLABS-URNIK:srecanje:8667
X-WR-TIMEZONE:Europe/Ljubljana
END:VEVENT
BEGIN:VEVENT
SUMMARY:Radiacijska in reaktorska fizika (FIZ-3)\, Vaje (V)
DTSTART;TZID=Europe/Ljubljana:20230518T150000
DTEND;TZID=Europe/Ljubljana:20230518T160000
DTSTAMP:20260419T222038Z
UID:fmf-AFLABS-URNIK:premaknjeno-srecanje:90915
ATTENDEE:3. letnik (Fizika, 1. stopnja)
CATEGORIES:Entry,Standard
COLOR:darkgreen
DESCRIPTION:Predmet: Radiacijska in reaktorska fizika (FIZ-3)\, Vaje (V)\n
 Letniki: 3. letnik (Fizika\, 1. stopnja)\nIzvajalci: Gašper Žerovnik\nPr
 ostor: F5
LOCATION:F5
ORGANIZER:Gašper Žerovnik
RELATED-TO:fmf-AFLABS-URNIK:srecanje:8667
X-WR-TIMEZONE:Europe/Ljubljana
END:VEVENT
BEGIN:VEVENT
SUMMARY:Radiacijska in reaktorska fizika (FIZ-3)\, Vaje (V)
DTSTART;TZID=Europe/Ljubljana:20230525T150000
DTEND;TZID=Europe/Ljubljana:20230525T160000
DTSTAMP:20260419T222038Z
UID:fmf-AFLABS-URNIK:premaknjeno-srecanje:90916
ATTENDEE:3. letnik (Fizika, 1. stopnja)
CATEGORIES:Entry,Standard
COLOR:darkgreen
DESCRIPTION:Predmet: Radiacijska in reaktorska fizika (FIZ-3)\, Vaje (V)\n
 Letniki: 3. letnik (Fizika\, 1. stopnja)\nIzvajalci: Gašper Žerovnik\nPr
 ostor: F5
LOCATION:F5
ORGANIZER:Gašper Žerovnik
RELATED-TO:fmf-AFLABS-URNIK:srecanje:8667
X-WR-TIMEZONE:Europe/Ljubljana
END:VEVENT
BEGIN:VEVENT
SUMMARY:Radiacijska in reaktorska fizika (FIZ-3)\, Vaje (V)
DTSTART;TZID=Europe/Ljubljana:20230601T150000
DTEND;TZID=Europe/Ljubljana:20230601T160000
DTSTAMP:20260419T222038Z
UID:fmf-AFLABS-URNIK:premaknjeno-srecanje:90917
ATTENDEE:3. letnik (Fizika, 1. stopnja)
CATEGORIES:Entry,Standard
COLOR:darkgreen
DESCRIPTION:Predmet: Radiacijska in reaktorska fizika (FIZ-3)\, Vaje (V)\n
 Letniki: 3. letnik (Fizika\, 1. stopnja)\nIzvajalci: Gašper Žerovnik\nPr
 ostor: F5
LOCATION:F5
ORGANIZER:Gašper Žerovnik
RELATED-TO:fmf-AFLABS-URNIK:srecanje:8667
X-WR-TIMEZONE:Europe/Ljubljana
END:VEVENT
END:VCALENDAR
