BEGIN:VCALENDAR
VERSION:2.0
PRODID:-//AFLabs urnik izvoz - fmf//aflabs.si//SI
DTSTAMP:20260421T070916Z
NAME:UL FMF urnik
REFRESH-INTERVAL:PT1H
SOURCE:https://urnik.fmf.uni-lj.si/teacher/800?day=2022-02-21&export=1
URL:https://urnik.fmf.uni-lj.si/teacher/800?day=2022-02-21&export=1
X-PUBLISHED-TTL:PT1H
X-WR-CALNAME:UL FMF urnik
X-WR-TIMEZONE:Europe/Ljubljana
BEGIN:VTIMEZONE
TZID:Europe/Ljubljana
BEGIN:DAYLIGHT
DTSTART:20260329T020000
RDATE:20260329T020000
RDATE:20270328T020000
TZNAME:CEST
TZOFFSETFROM:+0100
TZOFFSETTO:+0200
END:DAYLIGHT
BEGIN:STANDARD
DTSTART:20261025T030000
RDATE:20261025T030000
RDATE:20271031T030000
TZNAME:CET
TZOFFSETFROM:+0200
TZOFFSETTO:+0100
END:STANDARD
END:VTIMEZONE
BEGIN:VEVENT
SUMMARY:Matematična orodja v fiziki (APM-2)\, Vaje (V)
DTSTART;TZID=Europe/Ljubljana:20220217T110000
DTEND;TZID=Europe/Ljubljana:20220217T140000
DTSTAMP:20260421T070916Z
UID:fmf-AFLABS-URNIK:premaknjeno-srecanje:68747
ATTENDEE:2. letnik (APM)
CATEGORIES:Entry,Standard
COLOR:darkgreen
DESCRIPTION:Predmet: Matematična orodja v fiziki (APM-2)\, Vaje (V)\nLetn
 iki: 2. letnik (APM)\nIzvajalci: Žiga Gosar\nProstor: 3.05
LOCATION:3.05
ORGANIZER:Žiga Gosar
RELATED-TO:fmf-AFLABS-URNIK:srecanje:7110
X-WR-TIMEZONE:Europe/Ljubljana
END:VEVENT
BEGIN:VEVENT
SUMMARY:Matematična orodja v fiziki (APM-2)\, Vaje (V)
DTSTART;TZID=Europe/Ljubljana:20220224T110000
DTEND;TZID=Europe/Ljubljana:20220224T140000
DTSTAMP:20260421T070916Z
UID:fmf-AFLABS-URNIK:premaknjeno-srecanje:68748
ATTENDEE:2. letnik (APM)
CATEGORIES:Entry,Standard
COLOR:darkgreen
DESCRIPTION:Predmet: Matematična orodja v fiziki (APM-2)\, Vaje (V)\nLetn
 iki: 2. letnik (APM)\nIzvajalci: Žiga Gosar\nProstor: 3.05
LOCATION:3.05
ORGANIZER:Žiga Gosar
RELATED-TO:fmf-AFLABS-URNIK:srecanje:7110
X-WR-TIMEZONE:Europe/Ljubljana
END:VEVENT
BEGIN:VEVENT
SUMMARY:Matematična orodja v fiziki (APM-2)\, Vaje (V)
DTSTART;TZID=Europe/Ljubljana:20220303T110000
DTEND;TZID=Europe/Ljubljana:20220303T140000
DTSTAMP:20260421T070916Z
UID:fmf-AFLABS-URNIK:premaknjeno-srecanje:68749
ATTENDEE:2. letnik (APM)
CATEGORIES:Entry,Standard
COLOR:darkgreen
DESCRIPTION:Predmet: Matematična orodja v fiziki (APM-2)\, Vaje (V)\nLetn
 iki: 2. letnik (APM)\nIzvajalci: Žiga Gosar\nProstor: 3.05
LOCATION:3.05
ORGANIZER:Žiga Gosar
RELATED-TO:fmf-AFLABS-URNIK:srecanje:7110
X-WR-TIMEZONE:Europe/Ljubljana
END:VEVENT
BEGIN:VEVENT
SUMMARY:Matematična orodja v fiziki (APM-2)\, Vaje (V)
DTSTART;TZID=Europe/Ljubljana:20220310T110000
DTEND;TZID=Europe/Ljubljana:20220310T140000
DTSTAMP:20260421T070916Z
UID:fmf-AFLABS-URNIK:premaknjeno-srecanje:68750
ATTENDEE:2. letnik (APM)
CATEGORIES:Entry,Standard
COLOR:darkgreen
DESCRIPTION:Predmet: Matematična orodja v fiziki (APM-2)\, Vaje (V)\nLetn
 iki: 2. letnik (APM)\nIzvajalci: Žiga Gosar\nProstor: 3.05
LOCATION:3.05
ORGANIZER:Žiga Gosar
RELATED-TO:fmf-AFLABS-URNIK:srecanje:7110
X-WR-TIMEZONE:Europe/Ljubljana
END:VEVENT
BEGIN:VEVENT
SUMMARY:Matematična orodja v fiziki (APM-2)\, Vaje (V)
DTSTART;TZID=Europe/Ljubljana:20220317T110000
DTEND;TZID=Europe/Ljubljana:20220317T140000
DTSTAMP:20260421T070916Z
UID:fmf-AFLABS-URNIK:premaknjeno-srecanje:68751
ATTENDEE:2. letnik (APM)
CATEGORIES:Entry,Standard
COLOR:darkgreen
DESCRIPTION:Predmet: Matematična orodja v fiziki (APM-2)\, Vaje (V)\nLetn
 iki: 2. letnik (APM)\nIzvajalci: Žiga Gosar\nProstor: 3.05
LOCATION:3.05
ORGANIZER:Žiga Gosar
RELATED-TO:fmf-AFLABS-URNIK:srecanje:7110
X-WR-TIMEZONE:Europe/Ljubljana
END:VEVENT
BEGIN:VEVENT
SUMMARY:Matematična orodja v fiziki (APM-2)\, Vaje (V)
DTSTART;TZID=Europe/Ljubljana:20220324T110000
DTEND;TZID=Europe/Ljubljana:20220324T140000
DTSTAMP:20260421T070916Z
UID:fmf-AFLABS-URNIK:premaknjeno-srecanje:68752
ATTENDEE:2. letnik (APM)
CATEGORIES:Entry,Standard
COLOR:darkgreen
DESCRIPTION:Predmet: Matematična orodja v fiziki (APM-2)\, Vaje (V)\nLetn
 iki: 2. letnik (APM)\nIzvajalci: Žiga Gosar\nProstor: 3.05
LOCATION:3.05
ORGANIZER:Žiga Gosar
RELATED-TO:fmf-AFLABS-URNIK:srecanje:7110
X-WR-TIMEZONE:Europe/Ljubljana
END:VEVENT
BEGIN:VEVENT
SUMMARY:Matematična orodja v fiziki (APM-2)\, Vaje (V)
DTSTART;TZID=Europe/Ljubljana:20220331T110000
DTEND;TZID=Europe/Ljubljana:20220331T140000
DTSTAMP:20260421T070916Z
UID:fmf-AFLABS-URNIK:premaknjeno-srecanje:68753
ATTENDEE:2. letnik (APM)
CATEGORIES:Entry,Standard
COLOR:darkgreen
DESCRIPTION:Predmet: Matematična orodja v fiziki (APM-2)\, Vaje (V)\nLetn
 iki: 2. letnik (APM)\nIzvajalci: Žiga Gosar\nProstor: 3.05
LOCATION:3.05
ORGANIZER:Žiga Gosar
RELATED-TO:fmf-AFLABS-URNIK:srecanje:7110
X-WR-TIMEZONE:Europe/Ljubljana
END:VEVENT
BEGIN:VEVENT
SUMMARY:Matematična orodja v fiziki (APM-2)\, Vaje (V)
DTSTART;TZID=Europe/Ljubljana:20220407T110000
DTEND;TZID=Europe/Ljubljana:20220407T140000
DTSTAMP:20260421T070916Z
UID:fmf-AFLABS-URNIK:premaknjeno-srecanje:68754
ATTENDEE:2. letnik (APM)
CATEGORIES:Entry,Standard
COLOR:darkgreen
DESCRIPTION:Predmet: Matematična orodja v fiziki (APM-2)\, Vaje (V)\nLetn
 iki: 2. letnik (APM)\nIzvajalci: Žiga Gosar\nProstor: 3.05
LOCATION:3.05
ORGANIZER:Žiga Gosar
RELATED-TO:fmf-AFLABS-URNIK:srecanje:7110
X-WR-TIMEZONE:Europe/Ljubljana
END:VEVENT
BEGIN:VEVENT
SUMMARY:Matematična orodja v fiziki (APM-2)\, Vaje (V)
DTSTART;TZID=Europe/Ljubljana:20220414T110000
DTEND;TZID=Europe/Ljubljana:20220414T140000
DTSTAMP:20260421T070916Z
UID:fmf-AFLABS-URNIK:premaknjeno-srecanje:68755
ATTENDEE:2. letnik (APM)
CATEGORIES:Entry,Standard
COLOR:darkgreen
DESCRIPTION:Predmet: Matematična orodja v fiziki (APM-2)\, Vaje (V)\nLetn
 iki: 2. letnik (APM)\nIzvajalci: Žiga Gosar\nProstor: 3.05
LOCATION:3.05
ORGANIZER:Žiga Gosar
RELATED-TO:fmf-AFLABS-URNIK:srecanje:7110
X-WR-TIMEZONE:Europe/Ljubljana
END:VEVENT
BEGIN:VEVENT
SUMMARY:Matematična orodja v fiziki (APM-2)\, Vaje (V)
DTSTART;TZID=Europe/Ljubljana:20220421T110000
DTEND;TZID=Europe/Ljubljana:20220421T140000
DTSTAMP:20260421T070916Z
UID:fmf-AFLABS-URNIK:premaknjeno-srecanje:68756
ATTENDEE:2. letnik (APM)
CATEGORIES:Entry,Standard
COLOR:darkgreen
DESCRIPTION:Predmet: Matematična orodja v fiziki (APM-2)\, Vaje (V)\nLetn
 iki: 2. letnik (APM)\nIzvajalci: Žiga Gosar\nProstor: 3.05
LOCATION:3.05
ORGANIZER:Žiga Gosar
RELATED-TO:fmf-AFLABS-URNIK:srecanje:7110
X-WR-TIMEZONE:Europe/Ljubljana
END:VEVENT
BEGIN:VEVENT
SUMMARY:Matematična orodja v fiziki (APM-2)\, Vaje (V)
DTSTART;TZID=Europe/Ljubljana:20220428T110000
DTEND;TZID=Europe/Ljubljana:20220428T140000
DTSTAMP:20260421T070916Z
UID:fmf-AFLABS-URNIK:premaknjeno-srecanje:68757
ATTENDEE:2. letnik (APM)
CATEGORIES:Entry,Standard
COLOR:darkgreen
DESCRIPTION:Predmet: Matematična orodja v fiziki (APM-2)\, Vaje (V)\nLetn
 iki: 2. letnik (APM)\nIzvajalci: Žiga Gosar\nProstor: 3.05
LOCATION:3.05
ORGANIZER:Žiga Gosar
RELATED-TO:fmf-AFLABS-URNIK:srecanje:7110
X-WR-TIMEZONE:Europe/Ljubljana
END:VEVENT
BEGIN:VEVENT
SUMMARY:Matematična orodja v fiziki (APM-2)\, Vaje (V)
DTSTART;TZID=Europe/Ljubljana:20220505T110000
DTEND;TZID=Europe/Ljubljana:20220505T140000
DTSTAMP:20260421T070916Z
UID:fmf-AFLABS-URNIK:premaknjeno-srecanje:68758
ATTENDEE:2. letnik (APM)
CATEGORIES:Entry,Standard
COLOR:darkgreen
DESCRIPTION:Predmet: Matematična orodja v fiziki (APM-2)\, Vaje (V)\nLetn
 iki: 2. letnik (APM)\nIzvajalci: Žiga Gosar\nProstor: 3.05
LOCATION:3.05
ORGANIZER:Žiga Gosar
RELATED-TO:fmf-AFLABS-URNIK:srecanje:7110
X-WR-TIMEZONE:Europe/Ljubljana
END:VEVENT
BEGIN:VEVENT
SUMMARY:Matematična orodja v fiziki (APM-2)\, Vaje (V)
DTSTART;TZID=Europe/Ljubljana:20220512T110000
DTEND;TZID=Europe/Ljubljana:20220512T140000
DTSTAMP:20260421T070916Z
UID:fmf-AFLABS-URNIK:premaknjeno-srecanje:68759
ATTENDEE:2. letnik (APM)
CATEGORIES:Entry,Standard
COLOR:darkgreen
DESCRIPTION:Predmet: Matematična orodja v fiziki (APM-2)\, Vaje (V)\nLetn
 iki: 2. letnik (APM)\nIzvajalci: Žiga Gosar\nProstor: 3.05
LOCATION:3.05
ORGANIZER:Žiga Gosar
RELATED-TO:fmf-AFLABS-URNIK:srecanje:7110
X-WR-TIMEZONE:Europe/Ljubljana
END:VEVENT
BEGIN:VEVENT
SUMMARY:Matematična orodja v fiziki (APM-2)\, Vaje (V)
DTSTART;TZID=Europe/Ljubljana:20220519T110000
DTEND;TZID=Europe/Ljubljana:20220519T140000
DTSTAMP:20260421T070916Z
UID:fmf-AFLABS-URNIK:premaknjeno-srecanje:68760
ATTENDEE:2. letnik (APM)
CATEGORIES:Entry,Standard
COLOR:darkgreen
DESCRIPTION:Predmet: Matematična orodja v fiziki (APM-2)\, Vaje (V)\nLetn
 iki: 2. letnik (APM)\nIzvajalci: Žiga Gosar\nProstor: 3.05
LOCATION:3.05
ORGANIZER:Žiga Gosar
RELATED-TO:fmf-AFLABS-URNIK:srecanje:7110
X-WR-TIMEZONE:Europe/Ljubljana
END:VEVENT
BEGIN:VEVENT
SUMMARY:Matematična orodja v fiziki (APM-2)\, Vaje (V)
DTSTART;TZID=Europe/Ljubljana:20220526T110000
DTEND;TZID=Europe/Ljubljana:20220526T140000
DTSTAMP:20260421T070916Z
UID:fmf-AFLABS-URNIK:premaknjeno-srecanje:68761
ATTENDEE:2. letnik (APM)
CATEGORIES:Entry,Standard
COLOR:darkgreen
DESCRIPTION:Predmet: Matematična orodja v fiziki (APM-2)\, Vaje (V)\nLetn
 iki: 2. letnik (APM)\nIzvajalci: Žiga Gosar\nProstor: 3.05
LOCATION:3.05
ORGANIZER:Žiga Gosar
RELATED-TO:fmf-AFLABS-URNIK:srecanje:7110
X-WR-TIMEZONE:Europe/Ljubljana
END:VEVENT
BEGIN:VEVENT
SUMMARY:Rezervacija
DTSTART;TZID=Europe/Ljubljana:20220520T110000
DTEND;TZID=Europe/Ljubljana:20220520T130000
DTSTAMP:20260421T070916Z
UID:fmf-AFLABS-URNIK:rezervacija:5797
ATTENDEE:2. letnik (APM)
CATEGORIES:Reservation
COLOR:royalblue
DESCRIPTION:Predmeti: Matematična orodja v fiziki (APM-2)\nLetniki: 2. le
 tnik (APM)\nIzvajalci: Žiga Gosar\nProstori: F1
LOCATION:F1
ORGANIZER:Žiga Gosar
X-WR-TIMEZONE:Europe/Ljubljana
END:VEVENT
BEGIN:VEVENT
SUMMARY:Rezervacija
DTSTART;TZID=Europe/Ljubljana:20220415T100000
DTEND;TZID=Europe/Ljubljana:20220415T120000
DTSTAMP:20260421T070916Z
UID:fmf-AFLABS-URNIK:rezervacija:8885
ATTENDEE:2. letnik (APM)
CATEGORIES:Reservation
COLOR:royalblue
DESCRIPTION:Predmeti: Matematična orodja v fiziki (APM-2)\nLetniki: 2. le
 tnik (APM)\nIzvajalci: Žiga Gosar\nProstori: MFP
LOCATION:MFP
ORGANIZER:Žiga Gosar
X-WR-TIMEZONE:Europe/Ljubljana
END:VEVENT
BEGIN:VEVENT
SUMMARY:Rezervacija
DTSTART;TZID=Europe/Ljubljana:20220517T160000
DTEND;TZID=Europe/Ljubljana:20220517T180000
DTSTAMP:20260421T070916Z
UID:fmf-AFLABS-URNIK:rezervacija:9053
ATTENDEE:2. letnik (APM)
CATEGORIES:Reservation
COLOR:royalblue
DESCRIPTION:Predmeti: Matematična orodja v fiziki (APM-2)\nLetniki: 2. le
 tnik (APM)\nIzvajalci: Žiga Gosar\nProstori: 2.01
LOCATION:2.01
ORGANIZER:Žiga Gosar
X-WR-TIMEZONE:Europe/Ljubljana
END:VEVENT
END:VCALENDAR
