BEGIN:VCALENDAR
VERSION:2.0
PRODID:-//AFLabs urnik izvoz - fmf//aflabs.si//SI
DTSTAMP:20260421T230955Z
NAME:UL FMF urnik
REFRESH-INTERVAL:PT1H
SOURCE:https://urnik.fmf.uni-lj.si/teacher/800?day=2022-06-06&export=1
URL:https://urnik.fmf.uni-lj.si/teacher/800?day=2022-06-06&export=1
X-PUBLISHED-TTL:PT1H
X-WR-CALNAME:UL FMF urnik
X-WR-TIMEZONE:Europe/Ljubljana
BEGIN:VTIMEZONE
TZID:Europe/Ljubljana
BEGIN:DAYLIGHT
DTSTART:20260329T020000
RDATE:20260329T020000
RDATE:20270328T020000
TZNAME:CEST
TZOFFSETFROM:+0100
TZOFFSETTO:+0200
END:DAYLIGHT
BEGIN:STANDARD
DTSTART:20261025T030000
RDATE:20261025T030000
RDATE:20271031T030000
TZNAME:CET
TZOFFSETFROM:+0200
TZOFFSETTO:+0100
END:STANDARD
END:VTIMEZONE
BEGIN:VEVENT
SUMMARY:Matematična orodja v fiziki (APM-2)\, Vaje (V)
DTSTART;TZID=Europe/Ljubljana:20220505T110000
DTEND;TZID=Europe/Ljubljana:20220505T140000
DTSTAMP:20260421T230955Z
UID:fmf-AFLABS-URNIK:premaknjeno-srecanje:68758
ATTENDEE:2. letnik (APM)
CATEGORIES:Entry,Standard
COLOR:darkgreen
DESCRIPTION:Predmet: Matematična orodja v fiziki (APM-2)\, Vaje (V)\nLetn
 iki: 2. letnik (APM)\nIzvajalci: Žiga Gosar\nProstor: 3.05
LOCATION:3.05
ORGANIZER:Žiga Gosar
RELATED-TO:fmf-AFLABS-URNIK:srecanje:7110
X-WR-TIMEZONE:Europe/Ljubljana
END:VEVENT
BEGIN:VEVENT
SUMMARY:Matematična orodja v fiziki (APM-2)\, Vaje (V)
DTSTART;TZID=Europe/Ljubljana:20220512T110000
DTEND;TZID=Europe/Ljubljana:20220512T140000
DTSTAMP:20260421T230955Z
UID:fmf-AFLABS-URNIK:premaknjeno-srecanje:68759
ATTENDEE:2. letnik (APM)
CATEGORIES:Entry,Standard
COLOR:darkgreen
DESCRIPTION:Predmet: Matematična orodja v fiziki (APM-2)\, Vaje (V)\nLetn
 iki: 2. letnik (APM)\nIzvajalci: Žiga Gosar\nProstor: 3.05
LOCATION:3.05
ORGANIZER:Žiga Gosar
RELATED-TO:fmf-AFLABS-URNIK:srecanje:7110
X-WR-TIMEZONE:Europe/Ljubljana
END:VEVENT
BEGIN:VEVENT
SUMMARY:Matematična orodja v fiziki (APM-2)\, Vaje (V)
DTSTART;TZID=Europe/Ljubljana:20220519T110000
DTEND;TZID=Europe/Ljubljana:20220519T140000
DTSTAMP:20260421T230955Z
UID:fmf-AFLABS-URNIK:premaknjeno-srecanje:68760
ATTENDEE:2. letnik (APM)
CATEGORIES:Entry,Standard
COLOR:darkgreen
DESCRIPTION:Predmet: Matematična orodja v fiziki (APM-2)\, Vaje (V)\nLetn
 iki: 2. letnik (APM)\nIzvajalci: Žiga Gosar\nProstor: 3.05
LOCATION:3.05
ORGANIZER:Žiga Gosar
RELATED-TO:fmf-AFLABS-URNIK:srecanje:7110
X-WR-TIMEZONE:Europe/Ljubljana
END:VEVENT
BEGIN:VEVENT
SUMMARY:Matematična orodja v fiziki (APM-2)\, Vaje (V)
DTSTART;TZID=Europe/Ljubljana:20220526T110000
DTEND;TZID=Europe/Ljubljana:20220526T140000
DTSTAMP:20260421T230955Z
UID:fmf-AFLABS-URNIK:premaknjeno-srecanje:68761
ATTENDEE:2. letnik (APM)
CATEGORIES:Entry,Standard
COLOR:darkgreen
DESCRIPTION:Predmet: Matematična orodja v fiziki (APM-2)\, Vaje (V)\nLetn
 iki: 2. letnik (APM)\nIzvajalci: Žiga Gosar\nProstor: 3.05
LOCATION:3.05
ORGANIZER:Žiga Gosar
RELATED-TO:fmf-AFLABS-URNIK:srecanje:7110
X-WR-TIMEZONE:Europe/Ljubljana
END:VEVENT
BEGIN:VEVENT
SUMMARY:Rezervacija
DTSTART;TZID=Europe/Ljubljana:20220520T110000
DTEND;TZID=Europe/Ljubljana:20220520T130000
DTSTAMP:20260421T230955Z
UID:fmf-AFLABS-URNIK:rezervacija:5797
ATTENDEE:2. letnik (APM)
CATEGORIES:Reservation
COLOR:royalblue
DESCRIPTION:Predmeti: Matematična orodja v fiziki (APM-2)\nLetniki: 2. le
 tnik (APM)\nIzvajalci: Žiga Gosar\nProstori: F1
LOCATION:F1
ORGANIZER:Žiga Gosar
X-WR-TIMEZONE:Europe/Ljubljana
END:VEVENT
BEGIN:VEVENT
SUMMARY:Rezervacija
DTSTART;TZID=Europe/Ljubljana:20220517T160000
DTEND;TZID=Europe/Ljubljana:20220517T180000
DTSTAMP:20260421T230955Z
UID:fmf-AFLABS-URNIK:rezervacija:9053
ATTENDEE:2. letnik (APM)
CATEGORIES:Reservation
COLOR:royalblue
DESCRIPTION:Predmeti: Matematična orodja v fiziki (APM-2)\nLetniki: 2. le
 tnik (APM)\nIzvajalci: Žiga Gosar\nProstori: 2.01
LOCATION:2.01
ORGANIZER:Žiga Gosar
X-WR-TIMEZONE:Europe/Ljubljana
END:VEVENT
BEGIN:VEVENT
SUMMARY:Rezervacija
DTSTART;TZID=Europe/Ljubljana:20220602T100000
DTEND;TZID=Europe/Ljubljana:20220602T120000
DTSTAMP:20260421T230955Z
UID:fmf-AFLABS-URNIK:rezervacija:9150
ATTENDEE:2. letnik (APM)
CATEGORIES:Reservation
COLOR:royalblue
DESCRIPTION:Predmeti: Matematična orodja v fiziki (APM-2)\nLetniki: 2. le
 tnik (APM)\nIzvajalci: Žiga Gosar\nProstori: F2
LOCATION:F2
ORGANIZER:Žiga Gosar
X-WR-TIMEZONE:Europe/Ljubljana
END:VEVENT
END:VCALENDAR
