BEGIN:VCALENDAR
VERSION:2.0
PRODID:-//AFLabs urnik izvoz - fmf//aflabs.si//SI
DTSTAMP:20260425T120739Z
NAME:UL FMF urnik
REFRESH-INTERVAL:PT1H
SOURCE:https://urnik.fmf.uni-lj.si/teacher/81?day=2020-09-07&export=1
URL:https://urnik.fmf.uni-lj.si/teacher/81?day=2020-09-07&export=1
X-PUBLISHED-TTL:PT1H
X-WR-CALNAME:UL FMF urnik
X-WR-TIMEZONE:Europe/Ljubljana
BEGIN:VTIMEZONE
TZID:Europe/Ljubljana
BEGIN:DAYLIGHT
DTSTART:20260329T020000
RDATE:20260329T020000
RDATE:20270328T020000
TZNAME:CEST
TZOFFSETFROM:+0100
TZOFFSETTO:+0200
END:DAYLIGHT
BEGIN:STANDARD
DTSTART:20261025T030000
RDATE:20261025T030000
RDATE:20271031T030000
TZNAME:CET
TZOFFSETFROM:+0200
TZOFFSETTO:+0100
END:STANDARD
END:VTIMEZONE
BEGIN:VEVENT
SUMMARY:Nihanje in valovanje v poučevanju (PeF) ()\, Predavanja (P)
DTSTART;TZID=Europe/Ljubljana:20201001T080000
DTEND;TZID=Europe/Ljubljana:20201001T100000
DTSTAMP:20260425T120739Z
UID:fmf-AFLABS-URNIK:premaknjeno-srecanje:76365
CATEGORIES:Entry,Standard
COLOR:darkgreen
DESCRIPTION:Predmet: Nihanje in valovanje v poučevanju (PeF) ()\, Predava
 nja (P)\nLetniki: \nIzvajalci: Irena Drevenšek Olenik\nProstor: PEF
LOCATION:PEF
ORGANIZER:Irena Drevenšek Olenik
RELATED-TO:fmf-AFLABS-URNIK:srecanje:5039
X-WR-TIMEZONE:Europe/Ljubljana
END:VEVENT
BEGIN:VEVENT
SUMMARY:Nihanje in valovanje v poučevanju (PeF) ()\, Predavanja (P)
DTSTART;TZID=Europe/Ljubljana:20201008T080000
DTEND;TZID=Europe/Ljubljana:20201008T100000
DTSTAMP:20260425T120739Z
UID:fmf-AFLABS-URNIK:premaknjeno-srecanje:76366
CATEGORIES:Entry,Standard
COLOR:darkgreen
DESCRIPTION:Predmet: Nihanje in valovanje v poučevanju (PeF) ()\, Predava
 nja (P)\nLetniki: \nIzvajalci: Irena Drevenšek Olenik\nProstor: PEF
LOCATION:PEF
ORGANIZER:Irena Drevenšek Olenik
RELATED-TO:fmf-AFLABS-URNIK:srecanje:5039
X-WR-TIMEZONE:Europe/Ljubljana
END:VEVENT
BEGIN:VEVENT
SUMMARY:Nihanje in valovanje v poučevanju (PeF) ()\, Predavanja (P)
DTSTART;TZID=Europe/Ljubljana:20201006T090000
DTEND;TZID=Europe/Ljubljana:20201006T110000
DTSTAMP:20260425T120739Z
UID:fmf-AFLABS-URNIK:premaknjeno-srecanje:76302
CATEGORIES:Entry,Standard
COLOR:darkgreen
DESCRIPTION:Predmet: Nihanje in valovanje v poučevanju (PeF) ()\, Predava
 nja (P)\nLetniki: \nIzvajalci: Irena Drevenšek Olenik\nProstor: PEF
LOCATION:PEF
ORGANIZER:Irena Drevenšek Olenik
RELATED-TO:fmf-AFLABS-URNIK:srecanje:5038
X-WR-TIMEZONE:Europe/Ljubljana
END:VEVENT
BEGIN:VEVENT
SUMMARY:Rezervacija
DTSTART;TZID=Europe/Ljubljana:20200825T150000
DTEND;TZID=Europe/Ljubljana:20200825T170000
DTSTAMP:20260425T120739Z
UID:fmf-AFLABS-URNIK:rezervacija:6054
CATEGORIES:Reservation
COLOR:royalblue
DESCRIPTION:Predmeti: \nLetniki: \nIzvajalci: Irena Drevenšek Olenik\nPro
 stori: F6
LOCATION:F6
ORGANIZER:Irena Drevenšek Olenik
X-WR-TIMEZONE:Europe/Ljubljana
END:VEVENT
BEGIN:VEVENT
SUMMARY:Rezervacija
DTSTART;TZID=Europe/Ljubljana:20200828T130000
DTEND;TZID=Europe/Ljubljana:20200828T150000
DTSTAMP:20260425T120739Z
UID:fmf-AFLABS-URNIK:rezervacija:6117
CATEGORIES:Reservation
COLOR:royalblue
DESCRIPTION:Predmeti: \nLetniki: \nIzvajalci: Irena Drevenšek Olenik\nPro
 stori: F4\, F5
LOCATION:F4\, F5
ORGANIZER:Irena Drevenšek Olenik
X-WR-TIMEZONE:Europe/Ljubljana
END:VEVENT
BEGIN:VEVENT
SUMMARY:Rezervacija
DTSTART;TZID=Europe/Ljubljana:20200902T140000
DTEND;TZID=Europe/Ljubljana:20200902T170000
DTSTAMP:20260425T120739Z
UID:fmf-AFLABS-URNIK:rezervacija:6199
CATEGORIES:Reservation
COLOR:royalblue
DESCRIPTION:Predmeti: \nLetniki: \nIzvajalci: Irena Drevenšek Olenik\nPro
 stori: VFP
LOCATION:VFP
ORGANIZER:Irena Drevenšek Olenik
X-WR-TIMEZONE:Europe/Ljubljana
END:VEVENT
BEGIN:VEVENT
SUMMARY:Rezervacija
DTSTART;TZID=Europe/Ljubljana:20200904T080000
DTEND;TZID=Europe/Ljubljana:20200904T110000
DTSTAMP:20260425T120739Z
UID:fmf-AFLABS-URNIK:rezervacija:6235
CATEGORIES:Reservation
COLOR:royalblue
DESCRIPTION:Predmeti: \nLetniki: \nIzvajalci: Irena Drevenšek Olenik\nPro
 stori: MFP
LOCATION:MFP
ORGANIZER:Irena Drevenšek Olenik
X-WR-TIMEZONE:Europe/Ljubljana
END:VEVENT
BEGIN:VEVENT
SUMMARY:Rezervacija
DTSTART;TZID=Europe/Ljubljana:20200910T150000
DTEND;TZID=Europe/Ljubljana:20200910T180000
DTSTAMP:20260425T120739Z
UID:fmf-AFLABS-URNIK:rezervacija:6369
CATEGORIES:Reservation
COLOR:royalblue
DESCRIPTION:Predmeti: \nLetniki: \nIzvajalci: Irena Drevenšek Olenik\nPro
 stori: MFP
LOCATION:MFP
ORGANIZER:Irena Drevenšek Olenik
X-WR-TIMEZONE:Europe/Ljubljana
END:VEVENT
END:VCALENDAR
