BEGIN:VCALENDAR
VERSION:2.0
PRODID:-//AFLabs urnik izvoz - fmf//aflabs.si//SI
DTSTAMP:20260424T125249Z
NAME:UL FMF urnik
REFRESH-INTERVAL:PT1H
SOURCE:https://urnik.fmf.uni-lj.si/teacher/81?day=2021-01-18&export=1
URL:https://urnik.fmf.uni-lj.si/teacher/81?day=2021-01-18&export=1
X-PUBLISHED-TTL:PT1H
X-WR-CALNAME:UL FMF urnik
X-WR-TIMEZONE:Europe/Ljubljana
BEGIN:VTIMEZONE
TZID:Europe/Ljubljana
BEGIN:DAYLIGHT
DTSTART:20260329T020000
RDATE:20260329T020000
RDATE:20270328T020000
TZNAME:CEST
TZOFFSETFROM:+0100
TZOFFSETTO:+0200
END:DAYLIGHT
BEGIN:STANDARD
DTSTART:20261025T030000
RDATE:20261025T030000
RDATE:20271031T030000
TZNAME:CET
TZOFFSETFROM:+0200
TZOFFSETTO:+0100
END:STANDARD
END:VTIMEZONE
BEGIN:VEVENT
SUMMARY:Nihanje in valovanje v poučevanju (PeF) ()\, Predavanja (P)
DTSTART;TZID=Europe/Ljubljana:20201215T090000
DTEND;TZID=Europe/Ljubljana:20201215T110000
DTSTAMP:20260424T125249Z
UID:fmf-AFLABS-URNIK:premaknjeno-srecanje:76312
CATEGORIES:Entry,Standard
COLOR:darkgreen
DESCRIPTION:Predmet: Nihanje in valovanje v poučevanju (PeF) ()\, Predava
 nja (P)\nLetniki: \nIzvajalci: Irena Drevenšek Olenik\nProstor: PEF
LOCATION:PEF
ORGANIZER:Irena Drevenšek Olenik
RELATED-TO:fmf-AFLABS-URNIK:srecanje:5038
X-WR-TIMEZONE:Europe/Ljubljana
END:VEVENT
BEGIN:VEVENT
SUMMARY:Nihanje in valovanje v poučevanju (PeF) ()\, Predavanja (P)
DTSTART;TZID=Europe/Ljubljana:20201222T090000
DTEND;TZID=Europe/Ljubljana:20201222T110000
DTSTAMP:20260424T125249Z
UID:fmf-AFLABS-URNIK:premaknjeno-srecanje:76313
CATEGORIES:Entry,Standard
COLOR:darkgreen
DESCRIPTION:Predmet: Nihanje in valovanje v poučevanju (PeF) ()\, Predava
 nja (P)\nLetniki: \nIzvajalci: Irena Drevenšek Olenik\nProstor: PEF
LOCATION:PEF
ORGANIZER:Irena Drevenšek Olenik
RELATED-TO:fmf-AFLABS-URNIK:srecanje:5038
X-WR-TIMEZONE:Europe/Ljubljana
END:VEVENT
BEGIN:VEVENT
SUMMARY:Nihanje in valovanje v poučevanju (PeF) ()\, Predavanja (P)
DTSTART;TZID=Europe/Ljubljana:20201229T090000
DTEND;TZID=Europe/Ljubljana:20201229T110000
DTSTAMP:20260424T125249Z
UID:fmf-AFLABS-URNIK:premaknjeno-srecanje:76314
CATEGORIES:Entry,Standard
COLOR:darkgreen
DESCRIPTION:Predmet: Nihanje in valovanje v poučevanju (PeF) ()\, Predava
 nja (P)\nLetniki: \nIzvajalci: Irena Drevenšek Olenik\nProstor: PEF
LOCATION:PEF
ORGANIZER:Irena Drevenšek Olenik
RELATED-TO:fmf-AFLABS-URNIK:srecanje:5038
X-WR-TIMEZONE:Europe/Ljubljana
END:VEVENT
BEGIN:VEVENT
SUMMARY:Nihanje in valovanje v poučevanju (PeF) ()\, Predavanja (P)
DTSTART;TZID=Europe/Ljubljana:20210105T090000
DTEND;TZID=Europe/Ljubljana:20210105T110000
DTSTAMP:20260424T125249Z
UID:fmf-AFLABS-URNIK:premaknjeno-srecanje:76315
CATEGORIES:Entry,Standard
COLOR:darkgreen
DESCRIPTION:Predmet: Nihanje in valovanje v poučevanju (PeF) ()\, Predava
 nja (P)\nLetniki: \nIzvajalci: Irena Drevenšek Olenik\nProstor: PEF
LOCATION:PEF
ORGANIZER:Irena Drevenšek Olenik
RELATED-TO:fmf-AFLABS-URNIK:srecanje:5038
X-WR-TIMEZONE:Europe/Ljubljana
END:VEVENT
BEGIN:VEVENT
SUMMARY:Nihanje in valovanje v poučevanju (PeF) ()\, Predavanja (P)
DTSTART;TZID=Europe/Ljubljana:20210112T090000
DTEND;TZID=Europe/Ljubljana:20210112T110000
DTSTAMP:20260424T125249Z
UID:fmf-AFLABS-URNIK:premaknjeno-srecanje:76316
CATEGORIES:Entry,Standard
COLOR:darkgreen
DESCRIPTION:Predmet: Nihanje in valovanje v poučevanju (PeF) ()\, Predava
 nja (P)\nLetniki: \nIzvajalci: Irena Drevenšek Olenik\nProstor: PEF
LOCATION:PEF
ORGANIZER:Irena Drevenšek Olenik
RELATED-TO:fmf-AFLABS-URNIK:srecanje:5038
X-WR-TIMEZONE:Europe/Ljubljana
END:VEVENT
BEGIN:VEVENT
SUMMARY:Nihanje in valovanje v poučevanju (PeF) ()\, Predavanja (P)
DTSTART;TZID=Europe/Ljubljana:20201217T080000
DTEND;TZID=Europe/Ljubljana:20201217T100000
DTSTAMP:20260424T125249Z
UID:fmf-AFLABS-URNIK:premaknjeno-srecanje:76376
CATEGORIES:Entry,Standard
COLOR:darkgreen
DESCRIPTION:Predmet: Nihanje in valovanje v poučevanju (PeF) ()\, Predava
 nja (P)\nLetniki: \nIzvajalci: Irena Drevenšek Olenik\nProstor: PEF
LOCATION:PEF
ORGANIZER:Irena Drevenšek Olenik
RELATED-TO:fmf-AFLABS-URNIK:srecanje:5039
X-WR-TIMEZONE:Europe/Ljubljana
END:VEVENT
BEGIN:VEVENT
SUMMARY:Nihanje in valovanje v poučevanju (PeF) ()\, Predavanja (P)
DTSTART;TZID=Europe/Ljubljana:20201224T080000
DTEND;TZID=Europe/Ljubljana:20201224T100000
DTSTAMP:20260424T125249Z
UID:fmf-AFLABS-URNIK:premaknjeno-srecanje:76377
CATEGORIES:Entry,Standard
COLOR:darkgreen
DESCRIPTION:Predmet: Nihanje in valovanje v poučevanju (PeF) ()\, Predava
 nja (P)\nLetniki: \nIzvajalci: Irena Drevenšek Olenik\nProstor: PEF
LOCATION:PEF
ORGANIZER:Irena Drevenšek Olenik
RELATED-TO:fmf-AFLABS-URNIK:srecanje:5039
X-WR-TIMEZONE:Europe/Ljubljana
END:VEVENT
BEGIN:VEVENT
SUMMARY:Nihanje in valovanje v poučevanju (PeF) ()\, Predavanja (P)
DTSTART;TZID=Europe/Ljubljana:20201231T080000
DTEND;TZID=Europe/Ljubljana:20201231T100000
DTSTAMP:20260424T125249Z
UID:fmf-AFLABS-URNIK:premaknjeno-srecanje:76378
CATEGORIES:Entry,Standard
COLOR:darkgreen
DESCRIPTION:Predmet: Nihanje in valovanje v poučevanju (PeF) ()\, Predava
 nja (P)\nLetniki: \nIzvajalci: Irena Drevenšek Olenik\nProstor: PEF
LOCATION:PEF
ORGANIZER:Irena Drevenšek Olenik
RELATED-TO:fmf-AFLABS-URNIK:srecanje:5039
X-WR-TIMEZONE:Europe/Ljubljana
END:VEVENT
BEGIN:VEVENT
SUMMARY:Nihanje in valovanje v poučevanju (PeF) ()\, Predavanja (P)
DTSTART;TZID=Europe/Ljubljana:20210107T080000
DTEND;TZID=Europe/Ljubljana:20210107T100000
DTSTAMP:20260424T125249Z
UID:fmf-AFLABS-URNIK:premaknjeno-srecanje:76379
CATEGORIES:Entry,Standard
COLOR:darkgreen
DESCRIPTION:Predmet: Nihanje in valovanje v poučevanju (PeF) ()\, Predava
 nja (P)\nLetniki: \nIzvajalci: Irena Drevenšek Olenik\nProstor: PEF
LOCATION:PEF
ORGANIZER:Irena Drevenšek Olenik
RELATED-TO:fmf-AFLABS-URNIK:srecanje:5039
X-WR-TIMEZONE:Europe/Ljubljana
END:VEVENT
BEGIN:VEVENT
SUMMARY:Nihanje in valovanje v poučevanju (PeF) ()\, Predavanja (P)
DTSTART;TZID=Europe/Ljubljana:20210114T080000
DTEND;TZID=Europe/Ljubljana:20210114T100000
DTSTAMP:20260424T125249Z
UID:fmf-AFLABS-URNIK:premaknjeno-srecanje:76380
CATEGORIES:Entry,Standard
COLOR:darkgreen
DESCRIPTION:Predmet: Nihanje in valovanje v poučevanju (PeF) ()\, Predava
 nja (P)\nLetniki: \nIzvajalci: Irena Drevenšek Olenik\nProstor: PEF
LOCATION:PEF
ORGANIZER:Irena Drevenšek Olenik
RELATED-TO:fmf-AFLABS-URNIK:srecanje:5039
X-WR-TIMEZONE:Europe/Ljubljana
END:VEVENT
BEGIN:VEVENT
SUMMARY:Fizika I (APF-1)\, Predavanja (P)
DTSTART;TZID=Europe/Ljubljana:20210215T120000
DTEND;TZID=Europe/Ljubljana:20210215T140000
DTSTAMP:20260424T125249Z
UID:fmf-AFLABS-URNIK:premaknjeno-srecanje:28497
ATTENDEE:1. letnik (Aplikativna fizika)
CATEGORIES:Entry,Standard
COLOR:darkgreen
DESCRIPTION:Predmet: Fizika I (APF-1)\, Predavanja (P)\nLetniki: 1. letnik
  (Aplikativna fizika)\nIzvajalci: Irena Drevenšek Olenik\nProstor: MFP
LOCATION:MFP
ORGANIZER:Irena Drevenšek Olenik
RELATED-TO:fmf-AFLABS-URNIK:srecanje:5539
X-WR-TIMEZONE:Europe/Ljubljana
END:VEVENT
BEGIN:VEVENT
SUMMARY:Fizika I (APF-1)\, Predavanja (P)
DTSTART;TZID=Europe/Ljubljana:20210222T120000
DTEND;TZID=Europe/Ljubljana:20210222T140000
DTSTAMP:20260424T125249Z
UID:fmf-AFLABS-URNIK:premaknjeno-srecanje:28498
ATTENDEE:1. letnik (Aplikativna fizika)
CATEGORIES:Entry,Standard
COLOR:darkgreen
DESCRIPTION:Predmet: Fizika I (APF-1)\, Predavanja (P)\nLetniki: 1. letnik
  (Aplikativna fizika)\nIzvajalci: Irena Drevenšek Olenik\nProstor: MFP
LOCATION:MFP
ORGANIZER:Irena Drevenšek Olenik
RELATED-TO:fmf-AFLABS-URNIK:srecanje:5539
X-WR-TIMEZONE:Europe/Ljubljana
END:VEVENT
BEGIN:VEVENT
SUMMARY:Fizika I (APF-1)\, Predavanja (P)
DTSTART;TZID=Europe/Ljubljana:20210216T090000
DTEND;TZID=Europe/Ljubljana:20210216T110000
DTSTAMP:20260424T125249Z
UID:fmf-AFLABS-URNIK:premaknjeno-srecanje:28622
ATTENDEE:1. letnik (Aplikativna fizika)
CATEGORIES:Entry,Standard
COLOR:darkgreen
DESCRIPTION:Predmet: Fizika I (APF-1)\, Predavanja (P)\nLetniki: 1. letnik
  (Aplikativna fizika)\nIzvajalci: Irena Drevenšek Olenik\nProstor: MFP
LOCATION:MFP
ORGANIZER:Irena Drevenšek Olenik
RELATED-TO:fmf-AFLABS-URNIK:srecanje:5538
X-WR-TIMEZONE:Europe/Ljubljana
END:VEVENT
BEGIN:VEVENT
SUMMARY:Optika (FIZ-3)\, Predavanja (P)
DTSTART;TZID=Europe/Ljubljana:20210218T080000
DTEND;TZID=Europe/Ljubljana:20210218T100000
DTSTAMP:20260424T125249Z
UID:fmf-AFLABS-URNIK:premaknjeno-srecanje:79459
ATTENDEE:3. letnik (Fizika, 1. stopnja)
CATEGORIES:Entry,Standard
COLOR:darkgreen
DESCRIPTION:Predmet: Optika (FIZ-3)\, Predavanja (P)\nLetniki: 3. letnik (
 Fizika\, 1. stopnja)\nIzvajalci: Irena Drevenšek Olenik\nProstor: F5
LOCATION:F5
ORGANIZER:Irena Drevenšek Olenik
RELATED-TO:fmf-AFLABS-URNIK:srecanje:5786
X-WR-TIMEZONE:Europe/Ljubljana
END:VEVENT
END:VCALENDAR
