BEGIN:VCALENDAR
VERSION:2.0
PRODID:-//AFLabs urnik izvoz - fmf//aflabs.si//SI
DTSTAMP:20260422T144448Z
NAME:UL FMF urnik
REFRESH-INTERVAL:PT1H
SOURCE:https://urnik.fmf.uni-lj.si/teacher/81?day=2021-09-06&export=1
URL:https://urnik.fmf.uni-lj.si/teacher/81?day=2021-09-06&export=1
X-PUBLISHED-TTL:PT1H
X-WR-CALNAME:UL FMF urnik
X-WR-TIMEZONE:Europe/Ljubljana
BEGIN:VTIMEZONE
TZID:Europe/Ljubljana
BEGIN:DAYLIGHT
DTSTART:20260329T020000
RDATE:20260329T020000
RDATE:20270328T020000
TZNAME:CEST
TZOFFSETFROM:+0100
TZOFFSETTO:+0200
END:DAYLIGHT
BEGIN:STANDARD
DTSTART:20261025T030000
RDATE:20261025T030000
RDATE:20271031T030000
TZNAME:CET
TZOFFSETFROM:+0200
TZOFFSETTO:+0100
END:STANDARD
END:VTIMEZONE
BEGIN:VEVENT
SUMMARY:Fizika II (APF-2)\, Predavanja (P)
DTSTART;TZID=Europe/Ljubljana:20211006T120000
DTEND;TZID=Europe/Ljubljana:20211006T140000
DTSTAMP:20260422T144448Z
UID:fmf-AFLABS-URNIK:premaknjeno-srecanje:29590
ATTENDEE:2. letnik (Aplikativna fizika)
CATEGORIES:Entry,Standard
COLOR:darkgreen
DESCRIPTION:Predmet: Fizika II (APF-2)\, Predavanja (P)\nLetniki: 2. letni
 k (Aplikativna fizika)\nIzvajalci: Irena Drevenšek Olenik\nProstor: MFP
LOCATION:MFP
ORGANIZER:Irena Drevenšek Olenik
RELATED-TO:fmf-AFLABS-URNIK:srecanje:6249
X-WR-TIMEZONE:Europe/Ljubljana
END:VEVENT
BEGIN:VEVENT
SUMMARY:Fizika II (APF-2)\, Predavanja (P)
DTSTART;TZID=Europe/Ljubljana:20211007T120000
DTEND;TZID=Europe/Ljubljana:20211007T140000
DTSTAMP:20260422T144448Z
UID:fmf-AFLABS-URNIK:premaknjeno-srecanje:29760
ATTENDEE:2. letnik (Aplikativna fizika)
CATEGORIES:Entry,Standard
COLOR:darkgreen
DESCRIPTION:Predmet: Fizika II (APF-2)\, Predavanja (P)\nLetniki: 2. letni
 k (Aplikativna fizika)\nIzvajalci: Irena Drevenšek Olenik\nProstor: MFP
LOCATION:MFP
ORGANIZER:Irena Drevenšek Olenik
RELATED-TO:fmf-AFLABS-URNIK:srecanje:6250
X-WR-TIMEZONE:Europe/Ljubljana
END:VEVENT
BEGIN:VEVENT
SUMMARY:Rezervacija
DTSTART;TZID=Europe/Ljubljana:20210825T100000
DTEND;TZID=Europe/Ljubljana:20210825T120000
DTSTAMP:20260422T144448Z
UID:fmf-AFLABS-URNIK:rezervacija:7489
CATEGORIES:Reservation
COLOR:royalblue
DESCRIPTION:Predmeti: \nLetniki: \nIzvajalci: Irena Drevenšek Olenik\nPro
 stori: F1
LOCATION:F1
ORGANIZER:Irena Drevenšek Olenik
X-WR-TIMEZONE:Europe/Ljubljana
END:VEVENT
BEGIN:VEVENT
SUMMARY:Rezervacija
DTSTART;TZID=Europe/Ljubljana:20210827T130000
DTEND;TZID=Europe/Ljubljana:20210827T150000
DTSTAMP:20260422T144448Z
UID:fmf-AFLABS-URNIK:rezervacija:7548
CATEGORIES:Reservation
COLOR:royalblue
DESCRIPTION:Predmeti: \nLetniki: \nIzvajalci: Irena Drevenšek Olenik\nPro
 stori: F4\, F5
LOCATION:F4\, F5
ORGANIZER:Irena Drevenšek Olenik
X-WR-TIMEZONE:Europe/Ljubljana
END:VEVENT
BEGIN:VEVENT
SUMMARY:Rezervacija
DTSTART;TZID=Europe/Ljubljana:20210901T140000
DTEND;TZID=Europe/Ljubljana:20210901T180000
DTSTAMP:20260422T144448Z
UID:fmf-AFLABS-URNIK:rezervacija:7620
CATEGORIES:Reservation
COLOR:royalblue
DESCRIPTION:Predmeti: \nLetniki: \nIzvajalci: Irena Drevenšek Olenik\nPro
 stori: VFP
LOCATION:VFP
ORGANIZER:Irena Drevenšek Olenik
X-WR-TIMEZONE:Europe/Ljubljana
END:VEVENT
BEGIN:VEVENT
SUMMARY:Rezervacija
DTSTART;TZID=Europe/Ljubljana:20210901T140000
DTEND;TZID=Europe/Ljubljana:20210901T180000
DTSTAMP:20260422T144448Z
UID:fmf-AFLABS-URNIK:rezervacija:7621
CATEGORIES:Reservation
COLOR:royalblue
DESCRIPTION:Predmeti: \nLetniki: \nIzvajalci: Irena Drevenšek Olenik\nPro
 stori: MFP
LOCATION:MFP
ORGANIZER:Irena Drevenšek Olenik
X-WR-TIMEZONE:Europe/Ljubljana
END:VEVENT
BEGIN:VEVENT
SUMMARY:Rezervacija
DTSTART;TZID=Europe/Ljubljana:20210906T080000
DTEND;TZID=Europe/Ljubljana:20210906T200000
DTSTAMP:20260422T144448Z
UID:fmf-AFLABS-URNIK:rezervacija:7690
CATEGORIES:Reservation
COLOR:royalblue
DESCRIPTION:Predmeti: \nLetniki: \nIzvajalci: Irena Drevenšek Olenik\, Al
 enka Mertelj\, Mojca Vilfan\nProstori: MFP\, VFP
LOCATION:MFP\, VFP
ORGANIZER:Irena Drevenšek Olenik, Alenka Mertelj, Mojca Vilfan
X-WR-TIMEZONE:Europe/Ljubljana
END:VEVENT
BEGIN:VEVENT
SUMMARY:Rezervacija
DTSTART;TZID=Europe/Ljubljana:20210907T080000
DTEND;TZID=Europe/Ljubljana:20210907T200000
DTSTAMP:20260422T144448Z
UID:fmf-AFLABS-URNIK:rezervacija:7716
CATEGORIES:Reservation
COLOR:royalblue
DESCRIPTION:Predmeti: \nLetniki: \nIzvajalci: Irena Drevenšek Olenik\, Al
 enka Mertelj\, Mojca Vilfan\nProstori: MFP\, VFP
LOCATION:MFP\, VFP
ORGANIZER:Irena Drevenšek Olenik, Alenka Mertelj, Mojca Vilfan
X-WR-TIMEZONE:Europe/Ljubljana
END:VEVENT
BEGIN:VEVENT
SUMMARY:Rezervacija
DTSTART;TZID=Europe/Ljubljana:20210908T080000
DTEND;TZID=Europe/Ljubljana:20210908T150000
DTSTAMP:20260422T144448Z
UID:fmf-AFLABS-URNIK:rezervacija:7744
CATEGORIES:Reservation
COLOR:royalblue
DESCRIPTION:Predmeti: \nLetniki: \nIzvajalci: Irena Drevenšek Olenik\, Al
 enka Mertelj\, Mojca Vilfan\nProstori: MFP\, VFP
LOCATION:MFP\, VFP
ORGANIZER:Irena Drevenšek Olenik, Alenka Mertelj, Mojca Vilfan
X-WR-TIMEZONE:Europe/Ljubljana
END:VEVENT
BEGIN:VEVENT
SUMMARY:Rezervacija
DTSTART;TZID=Europe/Ljubljana:20210908T150000
DTEND;TZID=Europe/Ljubljana:20210908T180000
DTSTAMP:20260422T144448Z
UID:fmf-AFLABS-URNIK:rezervacija:7762
CATEGORIES:Reservation
COLOR:royalblue
DESCRIPTION:Predmeti: \nLetniki: \nIzvajalci: Irena Drevenšek Olenik\nPro
 stori: F7
LOCATION:F7
ORGANIZER:Irena Drevenšek Olenik
X-WR-TIMEZONE:Europe/Ljubljana
END:VEVENT
BEGIN:VEVENT
SUMMARY:Rezervacija
DTSTART;TZID=Europe/Ljubljana:20210909T080000
DTEND;TZID=Europe/Ljubljana:20210909T200000
DTSTAMP:20260422T144448Z
UID:fmf-AFLABS-URNIK:rezervacija:7771
CATEGORIES:Reservation
COLOR:royalblue
DESCRIPTION:Predmeti: \nLetniki: \nIzvajalci: Irena Drevenšek Olenik\, Al
 enka Mertelj\, Mojca Vilfan\nProstori: MFP\, VFP
LOCATION:MFP\, VFP
ORGANIZER:Irena Drevenšek Olenik, Alenka Mertelj, Mojca Vilfan
X-WR-TIMEZONE:Europe/Ljubljana
END:VEVENT
BEGIN:VEVENT
SUMMARY:Rezervacija
DTSTART;TZID=Europe/Ljubljana:20210910T080000
DTEND;TZID=Europe/Ljubljana:20210910T150000
DTSTAMP:20260422T144448Z
UID:fmf-AFLABS-URNIK:rezervacija:7806
CATEGORIES:Reservation
COLOR:royalblue
DESCRIPTION:Predmeti: \nLetniki: \nIzvajalci: Irena Drevenšek Olenik\, Al
 enka Mertelj\, Mojca Vilfan\nProstori: MFP\, VFP
LOCATION:MFP\, VFP
ORGANIZER:Irena Drevenšek Olenik, Alenka Mertelj, Mojca Vilfan
X-WR-TIMEZONE:Europe/Ljubljana
END:VEVENT
END:VCALENDAR
