BEGIN:VCALENDAR
VERSION:2.0
PRODID:-//AFLabs urnik izvoz - fmf//aflabs.si//SI
DTSTAMP:20260422T114855Z
NAME:UL FMF urnik
REFRESH-INTERVAL:PT1H
SOURCE:https://urnik.fmf.uni-lj.si/teacher/81?day=2021-12-27&export=1
URL:https://urnik.fmf.uni-lj.si/teacher/81?day=2021-12-27&export=1
X-PUBLISHED-TTL:PT1H
X-WR-CALNAME:UL FMF urnik
X-WR-TIMEZONE:Europe/Ljubljana
BEGIN:VTIMEZONE
TZID:Europe/Ljubljana
BEGIN:DAYLIGHT
DTSTART:20260329T020000
RDATE:20260329T020000
RDATE:20270328T020000
TZNAME:CEST
TZOFFSETFROM:+0100
TZOFFSETTO:+0200
END:DAYLIGHT
BEGIN:STANDARD
DTSTART:20261025T030000
RDATE:20261025T030000
RDATE:20271031T030000
TZNAME:CET
TZOFFSETFROM:+0200
TZOFFSETTO:+0100
END:STANDARD
END:VTIMEZONE
BEGIN:VEVENT
SUMMARY:Fizika II (APF-2)\, Predavanja (P)
DTSTART;TZID=Europe/Ljubljana:20211006T120000
DTEND;TZID=Europe/Ljubljana:20211006T140000
DTSTAMP:20260422T114855Z
UID:fmf-AFLABS-URNIK:premaknjeno-srecanje:29590
ATTENDEE:2. letnik (Aplikativna fizika)
CATEGORIES:Entry,Standard
COLOR:darkgreen
DESCRIPTION:Predmet: Fizika II (APF-2)\, Predavanja (P)\nLetniki: 2. letni
 k (Aplikativna fizika)\nIzvajalci: Irena Drevenšek Olenik\nProstor: MFP
LOCATION:MFP
ORGANIZER:Irena Drevenšek Olenik
RELATED-TO:fmf-AFLABS-URNIK:srecanje:6249
X-WR-TIMEZONE:Europe/Ljubljana
END:VEVENT
BEGIN:VEVENT
SUMMARY:Fizika II (APF-2)\, Predavanja (P)
DTSTART;TZID=Europe/Ljubljana:20211013T120000
DTEND;TZID=Europe/Ljubljana:20211013T140000
DTSTAMP:20260422T114855Z
UID:fmf-AFLABS-URNIK:premaknjeno-srecanje:29591
ATTENDEE:2. letnik (Aplikativna fizika)
CATEGORIES:Entry,Standard
COLOR:darkgreen
DESCRIPTION:Predmet: Fizika II (APF-2)\, Predavanja (P)\nLetniki: 2. letni
 k (Aplikativna fizika)\nIzvajalci: Irena Drevenšek Olenik\nProstor: MFP
LOCATION:MFP
ORGANIZER:Irena Drevenšek Olenik
RELATED-TO:fmf-AFLABS-URNIK:srecanje:6249
X-WR-TIMEZONE:Europe/Ljubljana
END:VEVENT
BEGIN:VEVENT
SUMMARY:Fizika II (APF-2)\, Predavanja (P)
DTSTART;TZID=Europe/Ljubljana:20211020T120000
DTEND;TZID=Europe/Ljubljana:20211020T140000
DTSTAMP:20260422T114855Z
UID:fmf-AFLABS-URNIK:premaknjeno-srecanje:29592
ATTENDEE:2. letnik (Aplikativna fizika)
CATEGORIES:Entry,Standard
COLOR:darkgreen
DESCRIPTION:Predmet: Fizika II (APF-2)\, Predavanja (P)\nLetniki: 2. letni
 k (Aplikativna fizika)\nIzvajalci: Irena Drevenšek Olenik\nProstor: MFP
LOCATION:MFP
ORGANIZER:Irena Drevenšek Olenik
RELATED-TO:fmf-AFLABS-URNIK:srecanje:6249
X-WR-TIMEZONE:Europe/Ljubljana
END:VEVENT
BEGIN:VEVENT
SUMMARY:Fizika II (APF-2)\, Predavanja (P)
DTSTART;TZID=Europe/Ljubljana:20211027T120000
DTEND;TZID=Europe/Ljubljana:20211027T140000
DTSTAMP:20260422T114855Z
UID:fmf-AFLABS-URNIK:premaknjeno-srecanje:29593
ATTENDEE:2. letnik (Aplikativna fizika)
CATEGORIES:Entry,Standard
COLOR:darkgreen
DESCRIPTION:Predmet: Fizika II (APF-2)\, Predavanja (P)\nLetniki: 2. letni
 k (Aplikativna fizika)\nIzvajalci: Irena Drevenšek Olenik\nProstor: MFP
LOCATION:MFP
ORGANIZER:Irena Drevenšek Olenik
RELATED-TO:fmf-AFLABS-URNIK:srecanje:6249
X-WR-TIMEZONE:Europe/Ljubljana
END:VEVENT
BEGIN:VEVENT
SUMMARY:Fizika II (APF-2)\, Predavanja (P)
DTSTART;TZID=Europe/Ljubljana:20211103T120000
DTEND;TZID=Europe/Ljubljana:20211103T140000
DTSTAMP:20260422T114855Z
UID:fmf-AFLABS-URNIK:premaknjeno-srecanje:29594
ATTENDEE:2. letnik (Aplikativna fizika)
CATEGORIES:Entry,Standard
COLOR:darkgreen
DESCRIPTION:Predmet: Fizika II (APF-2)\, Predavanja (P)\nLetniki: 2. letni
 k (Aplikativna fizika)\nIzvajalci: Irena Drevenšek Olenik\nProstor: MFP
LOCATION:MFP
ORGANIZER:Irena Drevenšek Olenik
RELATED-TO:fmf-AFLABS-URNIK:srecanje:6249
X-WR-TIMEZONE:Europe/Ljubljana
END:VEVENT
BEGIN:VEVENT
SUMMARY:Fizika II (APF-2)\, Predavanja (P)
DTSTART;TZID=Europe/Ljubljana:20211110T120000
DTEND;TZID=Europe/Ljubljana:20211110T140000
DTSTAMP:20260422T114855Z
UID:fmf-AFLABS-URNIK:premaknjeno-srecanje:29595
ATTENDEE:2. letnik (Aplikativna fizika)
CATEGORIES:Entry,Standard
COLOR:darkgreen
DESCRIPTION:Predmet: Fizika II (APF-2)\, Predavanja (P)\nLetniki: 2. letni
 k (Aplikativna fizika)\nIzvajalci: Irena Drevenšek Olenik\nProstor: MFP
LOCATION:MFP
ORGANIZER:Irena Drevenšek Olenik
RELATED-TO:fmf-AFLABS-URNIK:srecanje:6249
X-WR-TIMEZONE:Europe/Ljubljana
END:VEVENT
BEGIN:VEVENT
SUMMARY:Fizika II (APF-2)\, Predavanja (P)
DTSTART;TZID=Europe/Ljubljana:20211117T120000
DTEND;TZID=Europe/Ljubljana:20211117T140000
DTSTAMP:20260422T114855Z
UID:fmf-AFLABS-URNIK:premaknjeno-srecanje:29596
ATTENDEE:2. letnik (Aplikativna fizika)
CATEGORIES:Entry,Standard
COLOR:darkgreen
DESCRIPTION:Predmet: Fizika II (APF-2)\, Predavanja (P)\nLetniki: 2. letni
 k (Aplikativna fizika)\nIzvajalci: Irena Drevenšek Olenik\nProstor: MFP
LOCATION:MFP
ORGANIZER:Irena Drevenšek Olenik
RELATED-TO:fmf-AFLABS-URNIK:srecanje:6249
X-WR-TIMEZONE:Europe/Ljubljana
END:VEVENT
BEGIN:VEVENT
SUMMARY:Fizika II (APF-2)\, Predavanja (P)
DTSTART;TZID=Europe/Ljubljana:20211124T120000
DTEND;TZID=Europe/Ljubljana:20211124T140000
DTSTAMP:20260422T114855Z
UID:fmf-AFLABS-URNIK:premaknjeno-srecanje:29597
ATTENDEE:2. letnik (Aplikativna fizika)
CATEGORIES:Entry,Standard
COLOR:darkgreen
DESCRIPTION:Predmet: Fizika II (APF-2)\, Predavanja (P)\nLetniki: 2. letni
 k (Aplikativna fizika)\nIzvajalci: Irena Drevenšek Olenik\nProstor: MFP
LOCATION:MFP
ORGANIZER:Irena Drevenšek Olenik
RELATED-TO:fmf-AFLABS-URNIK:srecanje:6249
X-WR-TIMEZONE:Europe/Ljubljana
END:VEVENT
BEGIN:VEVENT
SUMMARY:Fizika II (APF-2)\, Predavanja (P)
DTSTART;TZID=Europe/Ljubljana:20211201T120000
DTEND;TZID=Europe/Ljubljana:20211201T140000
DTSTAMP:20260422T114855Z
UID:fmf-AFLABS-URNIK:premaknjeno-srecanje:29598
ATTENDEE:2. letnik (Aplikativna fizika)
CATEGORIES:Entry,Standard
COLOR:darkgreen
DESCRIPTION:Predmet: Fizika II (APF-2)\, Predavanja (P)\nLetniki: 2. letni
 k (Aplikativna fizika)\nIzvajalci: Irena Drevenšek Olenik\nProstor: MFP
LOCATION:MFP
ORGANIZER:Irena Drevenšek Olenik
RELATED-TO:fmf-AFLABS-URNIK:srecanje:6249
X-WR-TIMEZONE:Europe/Ljubljana
END:VEVENT
BEGIN:VEVENT
SUMMARY:Fizika II (APF-2)\, Predavanja (P)
DTSTART;TZID=Europe/Ljubljana:20211208T120000
DTEND;TZID=Europe/Ljubljana:20211208T140000
DTSTAMP:20260422T114855Z
UID:fmf-AFLABS-URNIK:premaknjeno-srecanje:29599
ATTENDEE:2. letnik (Aplikativna fizika)
CATEGORIES:Entry,Standard
COLOR:darkgreen
DESCRIPTION:Predmet: Fizika II (APF-2)\, Predavanja (P)\nLetniki: 2. letni
 k (Aplikativna fizika)\nIzvajalci: Irena Drevenšek Olenik\nProstor: MFP
LOCATION:MFP
ORGANIZER:Irena Drevenšek Olenik
RELATED-TO:fmf-AFLABS-URNIK:srecanje:6249
X-WR-TIMEZONE:Europe/Ljubljana
END:VEVENT
BEGIN:VEVENT
SUMMARY:Fizika II (APF-2)\, Predavanja (P)
DTSTART;TZID=Europe/Ljubljana:20211215T120000
DTEND;TZID=Europe/Ljubljana:20211215T140000
DTSTAMP:20260422T114855Z
UID:fmf-AFLABS-URNIK:premaknjeno-srecanje:29600
ATTENDEE:2. letnik (Aplikativna fizika)
CATEGORIES:Entry,Standard
COLOR:darkgreen
DESCRIPTION:Predmet: Fizika II (APF-2)\, Predavanja (P)\nLetniki: 2. letni
 k (Aplikativna fizika)\nIzvajalci: Irena Drevenšek Olenik\nProstor: MFP
LOCATION:MFP
ORGANIZER:Irena Drevenšek Olenik
RELATED-TO:fmf-AFLABS-URNIK:srecanje:6249
X-WR-TIMEZONE:Europe/Ljubljana
END:VEVENT
BEGIN:VEVENT
SUMMARY:Fizika II (APF-2)\, Predavanja (P)
DTSTART;TZID=Europe/Ljubljana:20211222T120000
DTEND;TZID=Europe/Ljubljana:20211222T140000
DTSTAMP:20260422T114855Z
UID:fmf-AFLABS-URNIK:premaknjeno-srecanje:29601
ATTENDEE:2. letnik (Aplikativna fizika)
CATEGORIES:Entry,Standard
COLOR:darkgreen
DESCRIPTION:Predmet: Fizika II (APF-2)\, Predavanja (P)\nLetniki: 2. letni
 k (Aplikativna fizika)\nIzvajalci: Irena Drevenšek Olenik\nProstor: MFP
LOCATION:MFP
ORGANIZER:Irena Drevenšek Olenik
RELATED-TO:fmf-AFLABS-URNIK:srecanje:6249
X-WR-TIMEZONE:Europe/Ljubljana
END:VEVENT
BEGIN:VEVENT
SUMMARY:Fizika II (APF-2)\, Predavanja (P)
DTSTART;TZID=Europe/Ljubljana:20211229T120000
DTEND;TZID=Europe/Ljubljana:20211229T140000
DTSTAMP:20260422T114855Z
UID:fmf-AFLABS-URNIK:premaknjeno-srecanje:29602
ATTENDEE:2. letnik (Aplikativna fizika)
CATEGORIES:Entry,Standard
COLOR:darkgreen
DESCRIPTION:Predmet: Fizika II (APF-2)\, Predavanja (P)\nLetniki: 2. letni
 k (Aplikativna fizika)\nIzvajalci: Irena Drevenšek Olenik\nProstor: MFP
LOCATION:MFP
ORGANIZER:Irena Drevenšek Olenik
RELATED-TO:fmf-AFLABS-URNIK:srecanje:6249
X-WR-TIMEZONE:Europe/Ljubljana
END:VEVENT
BEGIN:VEVENT
SUMMARY:Fizika II (APF-2)\, Predavanja (P)
DTSTART;TZID=Europe/Ljubljana:20220105T120000
DTEND;TZID=Europe/Ljubljana:20220105T140000
DTSTAMP:20260422T114855Z
UID:fmf-AFLABS-URNIK:premaknjeno-srecanje:29603
ATTENDEE:2. letnik (Aplikativna fizika)
CATEGORIES:Entry,Standard
COLOR:darkgreen
DESCRIPTION:Predmet: Fizika II (APF-2)\, Predavanja (P)\nLetniki: 2. letni
 k (Aplikativna fizika)\nIzvajalci: Irena Drevenšek Olenik\nProstor: MFP
LOCATION:MFP
ORGANIZER:Irena Drevenšek Olenik
RELATED-TO:fmf-AFLABS-URNIK:srecanje:6249
X-WR-TIMEZONE:Europe/Ljubljana
END:VEVENT
BEGIN:VEVENT
SUMMARY:Fizika II (APF-2)\, Predavanja (P)
DTSTART;TZID=Europe/Ljubljana:20220112T120000
DTEND;TZID=Europe/Ljubljana:20220112T140000
DTSTAMP:20260422T114855Z
UID:fmf-AFLABS-URNIK:premaknjeno-srecanje:29604
ATTENDEE:2. letnik (Aplikativna fizika)
CATEGORIES:Entry,Standard
COLOR:darkgreen
DESCRIPTION:Predmet: Fizika II (APF-2)\, Predavanja (P)\nLetniki: 2. letni
 k (Aplikativna fizika)\nIzvajalci: Irena Drevenšek Olenik\nProstor: MFP
LOCATION:MFP
ORGANIZER:Irena Drevenšek Olenik
RELATED-TO:fmf-AFLABS-URNIK:srecanje:6249
X-WR-TIMEZONE:Europe/Ljubljana
END:VEVENT
BEGIN:VEVENT
SUMMARY:Fizika II (APF-2)\, Predavanja (P)
DTSTART;TZID=Europe/Ljubljana:20211007T120000
DTEND;TZID=Europe/Ljubljana:20211007T140000
DTSTAMP:20260422T114855Z
UID:fmf-AFLABS-URNIK:premaknjeno-srecanje:29760
ATTENDEE:2. letnik (Aplikativna fizika)
CATEGORIES:Entry,Standard
COLOR:darkgreen
DESCRIPTION:Predmet: Fizika II (APF-2)\, Predavanja (P)\nLetniki: 2. letni
 k (Aplikativna fizika)\nIzvajalci: Irena Drevenšek Olenik\nProstor: MFP
LOCATION:MFP
ORGANIZER:Irena Drevenšek Olenik
RELATED-TO:fmf-AFLABS-URNIK:srecanje:6250
X-WR-TIMEZONE:Europe/Ljubljana
END:VEVENT
BEGIN:VEVENT
SUMMARY:Fizika II (APF-2)\, Predavanja (P)
DTSTART;TZID=Europe/Ljubljana:20211014T120000
DTEND;TZID=Europe/Ljubljana:20211014T140000
DTSTAMP:20260422T114855Z
UID:fmf-AFLABS-URNIK:premaknjeno-srecanje:29761
ATTENDEE:2. letnik (Aplikativna fizika)
CATEGORIES:Entry,Standard
COLOR:darkgreen
DESCRIPTION:Predmet: Fizika II (APF-2)\, Predavanja (P)\nLetniki: 2. letni
 k (Aplikativna fizika)\nIzvajalci: Irena Drevenšek Olenik\nProstor: MFP
LOCATION:MFP
ORGANIZER:Irena Drevenšek Olenik
RELATED-TO:fmf-AFLABS-URNIK:srecanje:6250
X-WR-TIMEZONE:Europe/Ljubljana
END:VEVENT
BEGIN:VEVENT
SUMMARY:Fizika II (APF-2)\, Predavanja (P)
DTSTART;TZID=Europe/Ljubljana:20211021T120000
DTEND;TZID=Europe/Ljubljana:20211021T140000
DTSTAMP:20260422T114855Z
UID:fmf-AFLABS-URNIK:premaknjeno-srecanje:29762
ATTENDEE:2. letnik (Aplikativna fizika)
CATEGORIES:Entry,Standard
COLOR:darkgreen
DESCRIPTION:Predmet: Fizika II (APF-2)\, Predavanja (P)\nLetniki: 2. letni
 k (Aplikativna fizika)\nIzvajalci: Irena Drevenšek Olenik\nProstor: MFP
LOCATION:MFP
ORGANIZER:Irena Drevenšek Olenik
RELATED-TO:fmf-AFLABS-URNIK:srecanje:6250
X-WR-TIMEZONE:Europe/Ljubljana
END:VEVENT
BEGIN:VEVENT
SUMMARY:Fizika II (APF-2)\, Predavanja (P)
DTSTART;TZID=Europe/Ljubljana:20211028T120000
DTEND;TZID=Europe/Ljubljana:20211028T140000
DTSTAMP:20260422T114855Z
UID:fmf-AFLABS-URNIK:premaknjeno-srecanje:29763
ATTENDEE:2. letnik (Aplikativna fizika)
CATEGORIES:Entry,Standard
COLOR:darkgreen
DESCRIPTION:Predmet: Fizika II (APF-2)\, Predavanja (P)\nLetniki: 2. letni
 k (Aplikativna fizika)\nIzvajalci: Irena Drevenšek Olenik\nProstor: MFP
LOCATION:MFP
ORGANIZER:Irena Drevenšek Olenik
RELATED-TO:fmf-AFLABS-URNIK:srecanje:6250
X-WR-TIMEZONE:Europe/Ljubljana
END:VEVENT
BEGIN:VEVENT
SUMMARY:Fizika II (APF-2)\, Predavanja (P)
DTSTART;TZID=Europe/Ljubljana:20211104T120000
DTEND;TZID=Europe/Ljubljana:20211104T140000
DTSTAMP:20260422T114855Z
UID:fmf-AFLABS-URNIK:premaknjeno-srecanje:29764
ATTENDEE:2. letnik (Aplikativna fizika)
CATEGORIES:Entry,Standard
COLOR:darkgreen
DESCRIPTION:Predmet: Fizika II (APF-2)\, Predavanja (P)\nLetniki: 2. letni
 k (Aplikativna fizika)\nIzvajalci: Irena Drevenšek Olenik\nProstor: MFP
LOCATION:MFP
ORGANIZER:Irena Drevenšek Olenik
RELATED-TO:fmf-AFLABS-URNIK:srecanje:6250
X-WR-TIMEZONE:Europe/Ljubljana
END:VEVENT
BEGIN:VEVENT
SUMMARY:Fizika II (APF-2)\, Predavanja (P)
DTSTART;TZID=Europe/Ljubljana:20211111T120000
DTEND;TZID=Europe/Ljubljana:20211111T140000
DTSTAMP:20260422T114855Z
UID:fmf-AFLABS-URNIK:premaknjeno-srecanje:29765
ATTENDEE:2. letnik (Aplikativna fizika)
CATEGORIES:Entry,Standard
COLOR:darkgreen
DESCRIPTION:Predmet: Fizika II (APF-2)\, Predavanja (P)\nLetniki: 2. letni
 k (Aplikativna fizika)\nIzvajalci: Irena Drevenšek Olenik\nProstor: MFP
LOCATION:MFP
ORGANIZER:Irena Drevenšek Olenik
RELATED-TO:fmf-AFLABS-URNIK:srecanje:6250
X-WR-TIMEZONE:Europe/Ljubljana
END:VEVENT
BEGIN:VEVENT
SUMMARY:Fizika II (APF-2)\, Predavanja (P)
DTSTART;TZID=Europe/Ljubljana:20211118T120000
DTEND;TZID=Europe/Ljubljana:20211118T140000
DTSTAMP:20260422T114855Z
UID:fmf-AFLABS-URNIK:premaknjeno-srecanje:29766
ATTENDEE:2. letnik (Aplikativna fizika)
CATEGORIES:Entry,Standard
COLOR:darkgreen
DESCRIPTION:Predmet: Fizika II (APF-2)\, Predavanja (P)\nLetniki: 2. letni
 k (Aplikativna fizika)\nIzvajalci: Irena Drevenšek Olenik\nProstor: MFP
LOCATION:MFP
ORGANIZER:Irena Drevenšek Olenik
RELATED-TO:fmf-AFLABS-URNIK:srecanje:6250
X-WR-TIMEZONE:Europe/Ljubljana
END:VEVENT
BEGIN:VEVENT
SUMMARY:Fizika II (APF-2)\, Predavanja (P)
DTSTART;TZID=Europe/Ljubljana:20211125T120000
DTEND;TZID=Europe/Ljubljana:20211125T140000
DTSTAMP:20260422T114855Z
UID:fmf-AFLABS-URNIK:premaknjeno-srecanje:29767
ATTENDEE:2. letnik (Aplikativna fizika)
CATEGORIES:Entry,Standard
COLOR:darkgreen
DESCRIPTION:Predmet: Fizika II (APF-2)\, Predavanja (P)\nLetniki: 2. letni
 k (Aplikativna fizika)\nIzvajalci: Irena Drevenšek Olenik\nProstor: MFP
LOCATION:MFP
ORGANIZER:Irena Drevenšek Olenik
RELATED-TO:fmf-AFLABS-URNIK:srecanje:6250
X-WR-TIMEZONE:Europe/Ljubljana
END:VEVENT
BEGIN:VEVENT
SUMMARY:Fizika II (APF-2)\, Predavanja (P)
DTSTART;TZID=Europe/Ljubljana:20211202T120000
DTEND;TZID=Europe/Ljubljana:20211202T140000
DTSTAMP:20260422T114855Z
UID:fmf-AFLABS-URNIK:premaknjeno-srecanje:29768
ATTENDEE:2. letnik (Aplikativna fizika)
CATEGORIES:Entry,Standard
COLOR:darkgreen
DESCRIPTION:Predmet: Fizika II (APF-2)\, Predavanja (P)\nLetniki: 2. letni
 k (Aplikativna fizika)\nIzvajalci: Irena Drevenšek Olenik\nProstor: MFP
LOCATION:MFP
ORGANIZER:Irena Drevenšek Olenik
RELATED-TO:fmf-AFLABS-URNIK:srecanje:6250
X-WR-TIMEZONE:Europe/Ljubljana
END:VEVENT
BEGIN:VEVENT
SUMMARY:Fizika II (APF-2)\, Predavanja (P)
DTSTART;TZID=Europe/Ljubljana:20211209T120000
DTEND;TZID=Europe/Ljubljana:20211209T140000
DTSTAMP:20260422T114855Z
UID:fmf-AFLABS-URNIK:premaknjeno-srecanje:29769
ATTENDEE:2. letnik (Aplikativna fizika)
CATEGORIES:Entry,Standard
COLOR:darkgreen
DESCRIPTION:Predmet: Fizika II (APF-2)\, Predavanja (P)\nLetniki: 2. letni
 k (Aplikativna fizika)\nIzvajalci: Irena Drevenšek Olenik\nProstor: MFP
LOCATION:MFP
ORGANIZER:Irena Drevenšek Olenik
RELATED-TO:fmf-AFLABS-URNIK:srecanje:6250
X-WR-TIMEZONE:Europe/Ljubljana
END:VEVENT
BEGIN:VEVENT
SUMMARY:Fizika II (APF-2)\, Predavanja (P)
DTSTART;TZID=Europe/Ljubljana:20211216T120000
DTEND;TZID=Europe/Ljubljana:20211216T140000
DTSTAMP:20260422T114855Z
UID:fmf-AFLABS-URNIK:premaknjeno-srecanje:29770
ATTENDEE:2. letnik (Aplikativna fizika)
CATEGORIES:Entry,Standard
COLOR:darkgreen
DESCRIPTION:Predmet: Fizika II (APF-2)\, Predavanja (P)\nLetniki: 2. letni
 k (Aplikativna fizika)\nIzvajalci: Irena Drevenšek Olenik\nProstor: MFP
LOCATION:MFP
ORGANIZER:Irena Drevenšek Olenik
RELATED-TO:fmf-AFLABS-URNIK:srecanje:6250
X-WR-TIMEZONE:Europe/Ljubljana
END:VEVENT
BEGIN:VEVENT
SUMMARY:Fizika II (APF-2)\, Predavanja (P)
DTSTART;TZID=Europe/Ljubljana:20211223T120000
DTEND;TZID=Europe/Ljubljana:20211223T140000
DTSTAMP:20260422T114855Z
UID:fmf-AFLABS-URNIK:premaknjeno-srecanje:29771
ATTENDEE:2. letnik (Aplikativna fizika)
CATEGORIES:Entry,Standard
COLOR:darkgreen
DESCRIPTION:Predmet: Fizika II (APF-2)\, Predavanja (P)\nLetniki: 2. letni
 k (Aplikativna fizika)\nIzvajalci: Irena Drevenšek Olenik\nProstor: MFP
LOCATION:MFP
ORGANIZER:Irena Drevenšek Olenik
RELATED-TO:fmf-AFLABS-URNIK:srecanje:6250
X-WR-TIMEZONE:Europe/Ljubljana
END:VEVENT
BEGIN:VEVENT
SUMMARY:Fizika II (APF-2)\, Predavanja (P)
DTSTART;TZID=Europe/Ljubljana:20211230T120000
DTEND;TZID=Europe/Ljubljana:20211230T140000
DTSTAMP:20260422T114855Z
UID:fmf-AFLABS-URNIK:premaknjeno-srecanje:29772
ATTENDEE:2. letnik (Aplikativna fizika)
CATEGORIES:Entry,Standard
COLOR:darkgreen
DESCRIPTION:Predmet: Fizika II (APF-2)\, Predavanja (P)\nLetniki: 2. letni
 k (Aplikativna fizika)\nIzvajalci: Irena Drevenšek Olenik\nProstor: MFP
LOCATION:MFP
ORGANIZER:Irena Drevenšek Olenik
RELATED-TO:fmf-AFLABS-URNIK:srecanje:6250
X-WR-TIMEZONE:Europe/Ljubljana
END:VEVENT
BEGIN:VEVENT
SUMMARY:Fizika II (APF-2)\, Predavanja (P)
DTSTART;TZID=Europe/Ljubljana:20220106T120000
DTEND;TZID=Europe/Ljubljana:20220106T140000
DTSTAMP:20260422T114855Z
UID:fmf-AFLABS-URNIK:premaknjeno-srecanje:29773
ATTENDEE:2. letnik (Aplikativna fizika)
CATEGORIES:Entry,Standard
COLOR:darkgreen
DESCRIPTION:Predmet: Fizika II (APF-2)\, Predavanja (P)\nLetniki: 2. letni
 k (Aplikativna fizika)\nIzvajalci: Irena Drevenšek Olenik\nProstor: MFP
LOCATION:MFP
ORGANIZER:Irena Drevenšek Olenik
RELATED-TO:fmf-AFLABS-URNIK:srecanje:6250
X-WR-TIMEZONE:Europe/Ljubljana
END:VEVENT
BEGIN:VEVENT
SUMMARY:Fizika II (APF-2)\, Predavanja (P)
DTSTART;TZID=Europe/Ljubljana:20220113T120000
DTEND;TZID=Europe/Ljubljana:20220113T140000
DTSTAMP:20260422T114855Z
UID:fmf-AFLABS-URNIK:premaknjeno-srecanje:29774
ATTENDEE:2. letnik (Aplikativna fizika)
CATEGORIES:Entry,Standard
COLOR:darkgreen
DESCRIPTION:Predmet: Fizika II (APF-2)\, Predavanja (P)\nLetniki: 2. letni
 k (Aplikativna fizika)\nIzvajalci: Irena Drevenšek Olenik\nProstor: MFP
LOCATION:MFP
ORGANIZER:Irena Drevenšek Olenik
RELATED-TO:fmf-AFLABS-URNIK:srecanje:6250
X-WR-TIMEZONE:Europe/Ljubljana
END:VEVENT
END:VCALENDAR
