BEGIN:VCALENDAR
VERSION:2.0
PRODID:-//AFLabs urnik izvoz - fmf//aflabs.si//SI
DTSTAMP:20260423T074024Z
NAME:UL FMF urnik
REFRESH-INTERVAL:PT1H
SOURCE:https://urnik.fmf.uni-lj.si/teacher/81?day=2022-04-04&export=1
URL:https://urnik.fmf.uni-lj.si/teacher/81?day=2022-04-04&export=1
X-PUBLISHED-TTL:PT1H
X-WR-CALNAME:UL FMF urnik
X-WR-TIMEZONE:Europe/Ljubljana
BEGIN:VTIMEZONE
TZID:Europe/Ljubljana
BEGIN:DAYLIGHT
DTSTART:20260329T020000
RDATE:20260329T020000
RDATE:20270328T020000
TZNAME:CEST
TZOFFSETFROM:+0100
TZOFFSETTO:+0200
END:DAYLIGHT
BEGIN:STANDARD
DTSTART:20261025T030000
RDATE:20261025T030000
RDATE:20271031T030000
TZNAME:CET
TZOFFSETFROM:+0200
TZOFFSETTO:+0100
END:STANDARD
END:VTIMEZONE
BEGIN:VEVENT
SUMMARY:Optična spektroskopija (FIZ-M2)\, Predavanja (P)
DTSTART;TZID=Europe/Ljubljana:20220214T090000
DTEND;TZID=Europe/Ljubljana:20220214T110000
DTSTAMP:20260423T074024Z
UID:fmf-AFLABS-URNIK:premaknjeno-srecanje:80718
ATTENDEE:2. letnik (Fizika, 2. stopnja)
CATEGORIES:Entry,Standard
COLOR:darkgreen
DESCRIPTION:Predmet: Optična spektroskopija (FIZ-M2)\, Predavanja (P)\nLe
 tniki: 2. letnik (Fizika\, 2. stopnja)\nIzvajalci: Irena Drevenšek Olenik
 \nProstor: F7
LOCATION:F7
ORGANIZER:Irena Drevenšek Olenik
RELATED-TO:fmf-AFLABS-URNIK:srecanje:7393
X-WR-TIMEZONE:Europe/Ljubljana
END:VEVENT
BEGIN:VEVENT
SUMMARY:Optična spektroskopija (FIZ-M2)\, Predavanja (P)
DTSTART;TZID=Europe/Ljubljana:20220221T090000
DTEND;TZID=Europe/Ljubljana:20220221T110000
DTSTAMP:20260423T074024Z
UID:fmf-AFLABS-URNIK:premaknjeno-srecanje:80719
ATTENDEE:2. letnik (Fizika, 2. stopnja)
CATEGORIES:Entry,Standard
COLOR:darkgreen
DESCRIPTION:Predmet: Optična spektroskopija (FIZ-M2)\, Predavanja (P)\nLe
 tniki: 2. letnik (Fizika\, 2. stopnja)\nIzvajalci: Irena Drevenšek Olenik
 \nProstor: F7
LOCATION:F7
ORGANIZER:Irena Drevenšek Olenik
RELATED-TO:fmf-AFLABS-URNIK:srecanje:7393
X-WR-TIMEZONE:Europe/Ljubljana
END:VEVENT
BEGIN:VEVENT
SUMMARY:Optična spektroskopija (FIZ-M2)\, Predavanja (P)
DTSTART;TZID=Europe/Ljubljana:20220228T090000
DTEND;TZID=Europe/Ljubljana:20220228T110000
DTSTAMP:20260423T074024Z
UID:fmf-AFLABS-URNIK:premaknjeno-srecanje:80720
ATTENDEE:2. letnik (Fizika, 2. stopnja)
CATEGORIES:Entry,Standard
COLOR:darkgreen
DESCRIPTION:Predmet: Optična spektroskopija (FIZ-M2)\, Predavanja (P)\nLe
 tniki: 2. letnik (Fizika\, 2. stopnja)\nIzvajalci: Irena Drevenšek Olenik
 \nProstor: F7
LOCATION:F7
ORGANIZER:Irena Drevenšek Olenik
RELATED-TO:fmf-AFLABS-URNIK:srecanje:7393
X-WR-TIMEZONE:Europe/Ljubljana
END:VEVENT
BEGIN:VEVENT
SUMMARY:Optična spektroskopija (FIZ-M2)\, Predavanja (P)
DTSTART;TZID=Europe/Ljubljana:20220307T090000
DTEND;TZID=Europe/Ljubljana:20220307T110000
DTSTAMP:20260423T074024Z
UID:fmf-AFLABS-URNIK:premaknjeno-srecanje:80721
ATTENDEE:2. letnik (Fizika, 2. stopnja)
CATEGORIES:Entry,Standard
COLOR:darkgreen
DESCRIPTION:Predmet: Optična spektroskopija (FIZ-M2)\, Predavanja (P)\nLe
 tniki: 2. letnik (Fizika\, 2. stopnja)\nIzvajalci: Irena Drevenšek Olenik
 \nProstor: F7
LOCATION:F7
ORGANIZER:Irena Drevenšek Olenik
RELATED-TO:fmf-AFLABS-URNIK:srecanje:7393
X-WR-TIMEZONE:Europe/Ljubljana
END:VEVENT
BEGIN:VEVENT
SUMMARY:Optična spektroskopija (FIZ-M2)\, Predavanja (P)
DTSTART;TZID=Europe/Ljubljana:20220314T090000
DTEND;TZID=Europe/Ljubljana:20220314T110000
DTSTAMP:20260423T074024Z
UID:fmf-AFLABS-URNIK:premaknjeno-srecanje:80722
ATTENDEE:2. letnik (Fizika, 2. stopnja)
CATEGORIES:Entry,Standard
COLOR:darkgreen
DESCRIPTION:Predmet: Optična spektroskopija (FIZ-M2)\, Predavanja (P)\nLe
 tniki: 2. letnik (Fizika\, 2. stopnja)\nIzvajalci: Irena Drevenšek Olenik
 \nProstor: F7
LOCATION:F7
ORGANIZER:Irena Drevenšek Olenik
RELATED-TO:fmf-AFLABS-URNIK:srecanje:7393
X-WR-TIMEZONE:Europe/Ljubljana
END:VEVENT
BEGIN:VEVENT
SUMMARY:Optična spektroskopija (FIZ-M2)\, Predavanja (P)
DTSTART;TZID=Europe/Ljubljana:20220321T090000
DTEND;TZID=Europe/Ljubljana:20220321T110000
DTSTAMP:20260423T074024Z
UID:fmf-AFLABS-URNIK:premaknjeno-srecanje:80723
ATTENDEE:2. letnik (Fizika, 2. stopnja)
CATEGORIES:Entry,Standard
COLOR:darkgreen
DESCRIPTION:Predmet: Optična spektroskopija (FIZ-M2)\, Predavanja (P)\nLe
 tniki: 2. letnik (Fizika\, 2. stopnja)\nIzvajalci: Irena Drevenšek Olenik
 \nProstor: F7
LOCATION:F7
ORGANIZER:Irena Drevenšek Olenik
RELATED-TO:fmf-AFLABS-URNIK:srecanje:7393
X-WR-TIMEZONE:Europe/Ljubljana
END:VEVENT
BEGIN:VEVENT
SUMMARY:Optična spektroskopija (FIZ-M2)\, Predavanja (P)
DTSTART;TZID=Europe/Ljubljana:20220328T090000
DTEND;TZID=Europe/Ljubljana:20220328T110000
DTSTAMP:20260423T074024Z
UID:fmf-AFLABS-URNIK:premaknjeno-srecanje:80724
ATTENDEE:2. letnik (Fizika, 2. stopnja)
CATEGORIES:Entry,Standard
COLOR:darkgreen
DESCRIPTION:Predmet: Optična spektroskopija (FIZ-M2)\, Predavanja (P)\nLe
 tniki: 2. letnik (Fizika\, 2. stopnja)\nIzvajalci: Irena Drevenšek Olenik
 \nProstor: F7
LOCATION:F7
ORGANIZER:Irena Drevenšek Olenik
RELATED-TO:fmf-AFLABS-URNIK:srecanje:7393
X-WR-TIMEZONE:Europe/Ljubljana
END:VEVENT
BEGIN:VEVENT
SUMMARY:Optična spektroskopija (FIZ-M2)\, Predavanja (P)
DTSTART;TZID=Europe/Ljubljana:20220404T090000
DTEND;TZID=Europe/Ljubljana:20220404T110000
DTSTAMP:20260423T074024Z
UID:fmf-AFLABS-URNIK:premaknjeno-srecanje:80725
ATTENDEE:2. letnik (Fizika, 2. stopnja)
CATEGORIES:Entry,Standard
COLOR:darkgreen
DESCRIPTION:Predmet: Optična spektroskopija (FIZ-M2)\, Predavanja (P)\nLe
 tniki: 2. letnik (Fizika\, 2. stopnja)\nIzvajalci: Irena Drevenšek Olenik
 \nProstor: F7
LOCATION:F7
ORGANIZER:Irena Drevenšek Olenik
RELATED-TO:fmf-AFLABS-URNIK:srecanje:7393
X-WR-TIMEZONE:Europe/Ljubljana
END:VEVENT
BEGIN:VEVENT
SUMMARY:Optična spektroskopija (FIZ-M2)\, Predavanja (P)
DTSTART;TZID=Europe/Ljubljana:20220411T090000
DTEND;TZID=Europe/Ljubljana:20220411T110000
DTSTAMP:20260423T074024Z
UID:fmf-AFLABS-URNIK:premaknjeno-srecanje:80726
ATTENDEE:2. letnik (Fizika, 2. stopnja)
CATEGORIES:Entry,Standard
COLOR:darkgreen
DESCRIPTION:Predmet: Optična spektroskopija (FIZ-M2)\, Predavanja (P)\nLe
 tniki: 2. letnik (Fizika\, 2. stopnja)\nIzvajalci: Irena Drevenšek Olenik
 \nProstor: F7
LOCATION:F7
ORGANIZER:Irena Drevenšek Olenik
RELATED-TO:fmf-AFLABS-URNIK:srecanje:7393
X-WR-TIMEZONE:Europe/Ljubljana
END:VEVENT
BEGIN:VEVENT
SUMMARY:Optična spektroskopija (FIZ-M2)\, Predavanja (P)
DTSTART;TZID=Europe/Ljubljana:20220418T090000
DTEND;TZID=Europe/Ljubljana:20220418T110000
DTSTAMP:20260423T074024Z
UID:fmf-AFLABS-URNIK:premaknjeno-srecanje:80727
ATTENDEE:2. letnik (Fizika, 2. stopnja)
CATEGORIES:Entry,Standard
COLOR:darkgreen
DESCRIPTION:Predmet: Optična spektroskopija (FIZ-M2)\, Predavanja (P)\nLe
 tniki: 2. letnik (Fizika\, 2. stopnja)\nIzvajalci: Irena Drevenšek Olenik
 \nProstor: F7
LOCATION:F7
ORGANIZER:Irena Drevenšek Olenik
RELATED-TO:fmf-AFLABS-URNIK:srecanje:7393
X-WR-TIMEZONE:Europe/Ljubljana
END:VEVENT
BEGIN:VEVENT
SUMMARY:Optična spektroskopija (FIZ-M2)\, Predavanja (P)
DTSTART;TZID=Europe/Ljubljana:20220425T090000
DTEND;TZID=Europe/Ljubljana:20220425T110000
DTSTAMP:20260423T074024Z
UID:fmf-AFLABS-URNIK:premaknjeno-srecanje:80728
ATTENDEE:2. letnik (Fizika, 2. stopnja)
CATEGORIES:Entry,Standard
COLOR:darkgreen
DESCRIPTION:Predmet: Optična spektroskopija (FIZ-M2)\, Predavanja (P)\nLe
 tniki: 2. letnik (Fizika\, 2. stopnja)\nIzvajalci: Irena Drevenšek Olenik
 \nProstor: F7
LOCATION:F7
ORGANIZER:Irena Drevenšek Olenik
RELATED-TO:fmf-AFLABS-URNIK:srecanje:7393
X-WR-TIMEZONE:Europe/Ljubljana
END:VEVENT
BEGIN:VEVENT
SUMMARY:Optična spektroskopija (FIZ-M2)\, Predavanja (P)
DTSTART;TZID=Europe/Ljubljana:20220502T090000
DTEND;TZID=Europe/Ljubljana:20220502T110000
DTSTAMP:20260423T074024Z
UID:fmf-AFLABS-URNIK:premaknjeno-srecanje:80729
ATTENDEE:2. letnik (Fizika, 2. stopnja)
CATEGORIES:Entry,Standard
COLOR:darkgreen
DESCRIPTION:Predmet: Optična spektroskopija (FIZ-M2)\, Predavanja (P)\nLe
 tniki: 2. letnik (Fizika\, 2. stopnja)\nIzvajalci: Irena Drevenšek Olenik
 \nProstor: F7
LOCATION:F7
ORGANIZER:Irena Drevenšek Olenik
RELATED-TO:fmf-AFLABS-URNIK:srecanje:7393
X-WR-TIMEZONE:Europe/Ljubljana
END:VEVENT
BEGIN:VEVENT
SUMMARY:Optična spektroskopija (FIZ-M2)\, Predavanja (P)
DTSTART;TZID=Europe/Ljubljana:20220509T090000
DTEND;TZID=Europe/Ljubljana:20220509T110000
DTSTAMP:20260423T074024Z
UID:fmf-AFLABS-URNIK:premaknjeno-srecanje:80730
ATTENDEE:2. letnik (Fizika, 2. stopnja)
CATEGORIES:Entry,Standard
COLOR:darkgreen
DESCRIPTION:Predmet: Optična spektroskopija (FIZ-M2)\, Predavanja (P)\nLe
 tniki: 2. letnik (Fizika\, 2. stopnja)\nIzvajalci: Irena Drevenšek Olenik
 \nProstor: F7
LOCATION:F7
ORGANIZER:Irena Drevenšek Olenik
RELATED-TO:fmf-AFLABS-URNIK:srecanje:7393
X-WR-TIMEZONE:Europe/Ljubljana
END:VEVENT
BEGIN:VEVENT
SUMMARY:Optična spektroskopija (FIZ-M2)\, Predavanja (P)
DTSTART;TZID=Europe/Ljubljana:20220516T090000
DTEND;TZID=Europe/Ljubljana:20220516T110000
DTSTAMP:20260423T074024Z
UID:fmf-AFLABS-URNIK:premaknjeno-srecanje:80731
ATTENDEE:2. letnik (Fizika, 2. stopnja)
CATEGORIES:Entry,Standard
COLOR:darkgreen
DESCRIPTION:Predmet: Optična spektroskopija (FIZ-M2)\, Predavanja (P)\nLe
 tniki: 2. letnik (Fizika\, 2. stopnja)\nIzvajalci: Irena Drevenšek Olenik
 \nProstor: F7
LOCATION:F7
ORGANIZER:Irena Drevenšek Olenik
RELATED-TO:fmf-AFLABS-URNIK:srecanje:7393
X-WR-TIMEZONE:Europe/Ljubljana
END:VEVENT
BEGIN:VEVENT
SUMMARY:Optična spektroskopija (FIZ-M2)\, Predavanja (P)
DTSTART;TZID=Europe/Ljubljana:20220523T090000
DTEND;TZID=Europe/Ljubljana:20220523T110000
DTSTAMP:20260423T074024Z
UID:fmf-AFLABS-URNIK:premaknjeno-srecanje:80732
ATTENDEE:2. letnik (Fizika, 2. stopnja)
CATEGORIES:Entry,Standard
COLOR:darkgreen
DESCRIPTION:Predmet: Optična spektroskopija (FIZ-M2)\, Predavanja (P)\nLe
 tniki: 2. letnik (Fizika\, 2. stopnja)\nIzvajalci: Irena Drevenšek Olenik
 \nProstor: F7
LOCATION:F7
ORGANIZER:Irena Drevenšek Olenik
RELATED-TO:fmf-AFLABS-URNIK:srecanje:7393
X-WR-TIMEZONE:Europe/Ljubljana
END:VEVENT
BEGIN:VEVENT
SUMMARY:Optična spektroskopija (FIZ-M2)\, Predavanja (P)
DTSTART;TZID=Europe/Ljubljana:20220530T090000
DTEND;TZID=Europe/Ljubljana:20220530T110000
DTSTAMP:20260423T074024Z
UID:fmf-AFLABS-URNIK:premaknjeno-srecanje:80733
ATTENDEE:2. letnik (Fizika, 2. stopnja)
CATEGORIES:Entry,Standard
COLOR:darkgreen
DESCRIPTION:Predmet: Optična spektroskopija (FIZ-M2)\, Predavanja (P)\nLe
 tniki: 2. letnik (Fizika\, 2. stopnja)\nIzvajalci: Irena Drevenšek Olenik
 \nProstor: F7
LOCATION:F7
ORGANIZER:Irena Drevenšek Olenik
RELATED-TO:fmf-AFLABS-URNIK:srecanje:7393
X-WR-TIMEZONE:Europe/Ljubljana
END:VEVENT
BEGIN:VEVENT
SUMMARY:Optika (FIZ-3)\, Predavanja (P)
DTSTART;TZID=Europe/Ljubljana:20220217T080000
DTEND;TZID=Europe/Ljubljana:20220217T100000
DTSTAMP:20260423T074024Z
UID:fmf-AFLABS-URNIK:premaknjeno-srecanje:79474
ATTENDEE:3. letnik (Fizika, 1. stopnja)
CATEGORIES:Entry,Standard
COLOR:darkgreen
DESCRIPTION:Predmet: Optika (FIZ-3)\, Predavanja (P)\nLetniki: 3. letnik (
 Fizika\, 1. stopnja)\nIzvajalci: Irena Drevenšek Olenik\nProstor: F2
LOCATION:F2
ORGANIZER:Irena Drevenšek Olenik
RELATED-TO:fmf-AFLABS-URNIK:srecanje:7177
X-WR-TIMEZONE:Europe/Ljubljana
END:VEVENT
BEGIN:VEVENT
SUMMARY:Optika (FIZ-3)\, Predavanja (P)
DTSTART;TZID=Europe/Ljubljana:20220224T080000
DTEND;TZID=Europe/Ljubljana:20220224T100000
DTSTAMP:20260423T074024Z
UID:fmf-AFLABS-URNIK:premaknjeno-srecanje:79475
ATTENDEE:3. letnik (Fizika, 1. stopnja)
CATEGORIES:Entry,Standard
COLOR:darkgreen
DESCRIPTION:Predmet: Optika (FIZ-3)\, Predavanja (P)\nLetniki: 3. letnik (
 Fizika\, 1. stopnja)\nIzvajalci: Irena Drevenšek Olenik\nProstor: F2
LOCATION:F2
ORGANIZER:Irena Drevenšek Olenik
RELATED-TO:fmf-AFLABS-URNIK:srecanje:7177
X-WR-TIMEZONE:Europe/Ljubljana
END:VEVENT
BEGIN:VEVENT
SUMMARY:Optika (FIZ-3)\, Predavanja (P)
DTSTART;TZID=Europe/Ljubljana:20220303T080000
DTEND;TZID=Europe/Ljubljana:20220303T100000
DTSTAMP:20260423T074024Z
UID:fmf-AFLABS-URNIK:premaknjeno-srecanje:79476
ATTENDEE:3. letnik (Fizika, 1. stopnja)
CATEGORIES:Entry,Standard
COLOR:darkgreen
DESCRIPTION:Predmet: Optika (FIZ-3)\, Predavanja (P)\nLetniki: 3. letnik (
 Fizika\, 1. stopnja)\nIzvajalci: Irena Drevenšek Olenik\nProstor: F2
LOCATION:F2
ORGANIZER:Irena Drevenšek Olenik
RELATED-TO:fmf-AFLABS-URNIK:srecanje:7177
X-WR-TIMEZONE:Europe/Ljubljana
END:VEVENT
BEGIN:VEVENT
SUMMARY:Optika (FIZ-3)\, Predavanja (P)
DTSTART;TZID=Europe/Ljubljana:20220310T080000
DTEND;TZID=Europe/Ljubljana:20220310T100000
DTSTAMP:20260423T074024Z
UID:fmf-AFLABS-URNIK:premaknjeno-srecanje:79477
ATTENDEE:3. letnik (Fizika, 1. stopnja)
CATEGORIES:Entry,Standard
COLOR:darkgreen
DESCRIPTION:Predmet: Optika (FIZ-3)\, Predavanja (P)\nLetniki: 3. letnik (
 Fizika\, 1. stopnja)\nIzvajalci: Irena Drevenšek Olenik\nProstor: F2
LOCATION:F2
ORGANIZER:Irena Drevenšek Olenik
RELATED-TO:fmf-AFLABS-URNIK:srecanje:7177
X-WR-TIMEZONE:Europe/Ljubljana
END:VEVENT
BEGIN:VEVENT
SUMMARY:Optika (FIZ-3)\, Predavanja (P)
DTSTART;TZID=Europe/Ljubljana:20220317T080000
DTEND;TZID=Europe/Ljubljana:20220317T100000
DTSTAMP:20260423T074024Z
UID:fmf-AFLABS-URNIK:premaknjeno-srecanje:79478
ATTENDEE:3. letnik (Fizika, 1. stopnja)
CATEGORIES:Entry,Standard
COLOR:darkgreen
DESCRIPTION:Predmet: Optika (FIZ-3)\, Predavanja (P)\nLetniki: 3. letnik (
 Fizika\, 1. stopnja)\nIzvajalci: Irena Drevenšek Olenik\nProstor: F2
LOCATION:F2
ORGANIZER:Irena Drevenšek Olenik
RELATED-TO:fmf-AFLABS-URNIK:srecanje:7177
X-WR-TIMEZONE:Europe/Ljubljana
END:VEVENT
BEGIN:VEVENT
SUMMARY:Optika (FIZ-3)\, Predavanja (P)
DTSTART;TZID=Europe/Ljubljana:20220324T080000
DTEND;TZID=Europe/Ljubljana:20220324T100000
DTSTAMP:20260423T074024Z
UID:fmf-AFLABS-URNIK:premaknjeno-srecanje:79479
ATTENDEE:3. letnik (Fizika, 1. stopnja)
CATEGORIES:Entry,Standard
COLOR:darkgreen
DESCRIPTION:Predmet: Optika (FIZ-3)\, Predavanja (P)\nLetniki: 3. letnik (
 Fizika\, 1. stopnja)\nIzvajalci: Irena Drevenšek Olenik\nProstor: F2
LOCATION:F2
ORGANIZER:Irena Drevenšek Olenik
RELATED-TO:fmf-AFLABS-URNIK:srecanje:7177
X-WR-TIMEZONE:Europe/Ljubljana
END:VEVENT
BEGIN:VEVENT
SUMMARY:Optika (FIZ-3)\, Predavanja (P)
DTSTART;TZID=Europe/Ljubljana:20220331T080000
DTEND;TZID=Europe/Ljubljana:20220331T100000
DTSTAMP:20260423T074024Z
UID:fmf-AFLABS-URNIK:premaknjeno-srecanje:79480
ATTENDEE:3. letnik (Fizika, 1. stopnja)
CATEGORIES:Entry,Standard
COLOR:darkgreen
DESCRIPTION:Predmet: Optika (FIZ-3)\, Predavanja (P)\nLetniki: 3. letnik (
 Fizika\, 1. stopnja)\nIzvajalci: Irena Drevenšek Olenik\nProstor: F2
LOCATION:F2
ORGANIZER:Irena Drevenšek Olenik
RELATED-TO:fmf-AFLABS-URNIK:srecanje:7177
X-WR-TIMEZONE:Europe/Ljubljana
END:VEVENT
BEGIN:VEVENT
SUMMARY:Optika (FIZ-3)\, Predavanja (P)
DTSTART;TZID=Europe/Ljubljana:20220407T080000
DTEND;TZID=Europe/Ljubljana:20220407T100000
DTSTAMP:20260423T074024Z
UID:fmf-AFLABS-URNIK:premaknjeno-srecanje:79481
ATTENDEE:3. letnik (Fizika, 1. stopnja)
CATEGORIES:Entry,Standard
COLOR:darkgreen
DESCRIPTION:Predmet: Optika (FIZ-3)\, Predavanja (P)\nLetniki: 3. letnik (
 Fizika\, 1. stopnja)\nIzvajalci: Irena Drevenšek Olenik\nProstor: F2
LOCATION:F2
ORGANIZER:Irena Drevenšek Olenik
RELATED-TO:fmf-AFLABS-URNIK:srecanje:7177
X-WR-TIMEZONE:Europe/Ljubljana
END:VEVENT
BEGIN:VEVENT
SUMMARY:Optika (FIZ-3)\, Predavanja (P)
DTSTART;TZID=Europe/Ljubljana:20220414T080000
DTEND;TZID=Europe/Ljubljana:20220414T100000
DTSTAMP:20260423T074024Z
UID:fmf-AFLABS-URNIK:premaknjeno-srecanje:79482
ATTENDEE:3. letnik (Fizika, 1. stopnja)
CATEGORIES:Entry,Standard
COLOR:darkgreen
DESCRIPTION:Predmet: Optika (FIZ-3)\, Predavanja (P)\nLetniki: 3. letnik (
 Fizika\, 1. stopnja)\nIzvajalci: Irena Drevenšek Olenik\nProstor: F2
LOCATION:F2
ORGANIZER:Irena Drevenšek Olenik
RELATED-TO:fmf-AFLABS-URNIK:srecanje:7177
X-WR-TIMEZONE:Europe/Ljubljana
END:VEVENT
BEGIN:VEVENT
SUMMARY:Optika (FIZ-3)\, Predavanja (P)
DTSTART;TZID=Europe/Ljubljana:20220421T080000
DTEND;TZID=Europe/Ljubljana:20220421T100000
DTSTAMP:20260423T074024Z
UID:fmf-AFLABS-URNIK:premaknjeno-srecanje:79483
ATTENDEE:3. letnik (Fizika, 1. stopnja)
CATEGORIES:Entry,Standard
COLOR:darkgreen
DESCRIPTION:Predmet: Optika (FIZ-3)\, Predavanja (P)\nLetniki: 3. letnik (
 Fizika\, 1. stopnja)\nIzvajalci: Irena Drevenšek Olenik\nProstor: F2
LOCATION:F2
ORGANIZER:Irena Drevenšek Olenik
RELATED-TO:fmf-AFLABS-URNIK:srecanje:7177
X-WR-TIMEZONE:Europe/Ljubljana
END:VEVENT
BEGIN:VEVENT
SUMMARY:Optika (FIZ-3)\, Predavanja (P)
DTSTART;TZID=Europe/Ljubljana:20220428T080000
DTEND;TZID=Europe/Ljubljana:20220428T100000
DTSTAMP:20260423T074024Z
UID:fmf-AFLABS-URNIK:premaknjeno-srecanje:79484
ATTENDEE:3. letnik (Fizika, 1. stopnja)
CATEGORIES:Entry,Standard
COLOR:darkgreen
DESCRIPTION:Predmet: Optika (FIZ-3)\, Predavanja (P)\nLetniki: 3. letnik (
 Fizika\, 1. stopnja)\nIzvajalci: Irena Drevenšek Olenik\nProstor: F2
LOCATION:F2
ORGANIZER:Irena Drevenšek Olenik
RELATED-TO:fmf-AFLABS-URNIK:srecanje:7177
X-WR-TIMEZONE:Europe/Ljubljana
END:VEVENT
BEGIN:VEVENT
SUMMARY:Optika (FIZ-3)\, Predavanja (P)
DTSTART;TZID=Europe/Ljubljana:20220505T080000
DTEND;TZID=Europe/Ljubljana:20220505T100000
DTSTAMP:20260423T074024Z
UID:fmf-AFLABS-URNIK:premaknjeno-srecanje:79485
ATTENDEE:3. letnik (Fizika, 1. stopnja)
CATEGORIES:Entry,Standard
COLOR:darkgreen
DESCRIPTION:Predmet: Optika (FIZ-3)\, Predavanja (P)\nLetniki: 3. letnik (
 Fizika\, 1. stopnja)\nIzvajalci: Irena Drevenšek Olenik\nProstor: F2
LOCATION:F2
ORGANIZER:Irena Drevenšek Olenik
RELATED-TO:fmf-AFLABS-URNIK:srecanje:7177
X-WR-TIMEZONE:Europe/Ljubljana
END:VEVENT
BEGIN:VEVENT
SUMMARY:Optika (FIZ-3)\, Predavanja (P)
DTSTART;TZID=Europe/Ljubljana:20220512T080000
DTEND;TZID=Europe/Ljubljana:20220512T100000
DTSTAMP:20260423T074024Z
UID:fmf-AFLABS-URNIK:premaknjeno-srecanje:79486
ATTENDEE:3. letnik (Fizika, 1. stopnja)
CATEGORIES:Entry,Standard
COLOR:darkgreen
DESCRIPTION:Predmet: Optika (FIZ-3)\, Predavanja (P)\nLetniki: 3. letnik (
 Fizika\, 1. stopnja)\nIzvajalci: Irena Drevenšek Olenik\nProstor: F2
LOCATION:F2
ORGANIZER:Irena Drevenšek Olenik
RELATED-TO:fmf-AFLABS-URNIK:srecanje:7177
X-WR-TIMEZONE:Europe/Ljubljana
END:VEVENT
BEGIN:VEVENT
SUMMARY:Optika (FIZ-3)\, Predavanja (P)
DTSTART;TZID=Europe/Ljubljana:20220519T080000
DTEND;TZID=Europe/Ljubljana:20220519T100000
DTSTAMP:20260423T074024Z
UID:fmf-AFLABS-URNIK:premaknjeno-srecanje:79487
ATTENDEE:3. letnik (Fizika, 1. stopnja)
CATEGORIES:Entry,Standard
COLOR:darkgreen
DESCRIPTION:Predmet: Optika (FIZ-3)\, Predavanja (P)\nLetniki: 3. letnik (
 Fizika\, 1. stopnja)\nIzvajalci: Irena Drevenšek Olenik\nProstor: F2
LOCATION:F2
ORGANIZER:Irena Drevenšek Olenik
RELATED-TO:fmf-AFLABS-URNIK:srecanje:7177
X-WR-TIMEZONE:Europe/Ljubljana
END:VEVENT
BEGIN:VEVENT
SUMMARY:Optika (FIZ-3)\, Predavanja (P)
DTSTART;TZID=Europe/Ljubljana:20220526T080000
DTEND;TZID=Europe/Ljubljana:20220526T100000
DTSTAMP:20260423T074024Z
UID:fmf-AFLABS-URNIK:premaknjeno-srecanje:79488
ATTENDEE:3. letnik (Fizika, 1. stopnja)
CATEGORIES:Entry,Standard
COLOR:darkgreen
DESCRIPTION:Predmet: Optika (FIZ-3)\, Predavanja (P)\nLetniki: 3. letnik (
 Fizika\, 1. stopnja)\nIzvajalci: Irena Drevenšek Olenik\nProstor: F2
LOCATION:F2
ORGANIZER:Irena Drevenšek Olenik
RELATED-TO:fmf-AFLABS-URNIK:srecanje:7177
X-WR-TIMEZONE:Europe/Ljubljana
END:VEVENT
BEGIN:VEVENT
SUMMARY:Rezervacija
DTSTART;TZID=Europe/Ljubljana:20220411T120000
DTEND;TZID=Europe/Ljubljana:20220411T140000
DTSTAMP:20260423T074024Z
UID:fmf-AFLABS-URNIK:rezervacija:8842
CATEGORIES:Reservation
COLOR:royalblue
DESCRIPTION:Predmeti: \nLetniki: \nIzvajalci: Irena Drevenšek Olenik\nPro
 stori: F7
LOCATION:F7
ORGANIZER:Irena Drevenšek Olenik
X-WR-TIMEZONE:Europe/Ljubljana
END:VEVENT
END:VCALENDAR
