BEGIN:VCALENDAR
VERSION:2.0
PRODID:-//AFLabs urnik izvoz - fmf//aflabs.si//SI
DTSTAMP:20260425T203306Z
NAME:UL FMF urnik
REFRESH-INTERVAL:PT1H
SOURCE:https://urnik.fmf.uni-lj.si/teacher/81?day=2022-09-12&export=1
URL:https://urnik.fmf.uni-lj.si/teacher/81?day=2022-09-12&export=1
X-PUBLISHED-TTL:PT1H
X-WR-CALNAME:UL FMF urnik
X-WR-TIMEZONE:Europe/Ljubljana
BEGIN:VTIMEZONE
TZID:Europe/Ljubljana
BEGIN:DAYLIGHT
DTSTART:20260329T020000
RDATE:20260329T020000
RDATE:20270328T020000
TZNAME:CEST
TZOFFSETFROM:+0100
TZOFFSETTO:+0200
END:DAYLIGHT
BEGIN:STANDARD
DTSTART:20261025T030000
RDATE:20261025T030000
RDATE:20271031T030000
TZNAME:CET
TZOFFSETFROM:+0200
TZOFFSETTO:+0100
END:STANDARD
END:VTIMEZONE
BEGIN:VEVENT
SUMMARY:Fizika I (APF-1)\, Predavanja (P)
DTSTART;TZID=Europe/Ljubljana:20221004T080000
DTEND;TZID=Europe/Ljubljana:20221004T100000
DTSTAMP:20260425T203306Z
UID:fmf-AFLABS-URNIK:premaknjeno-srecanje:28528
ATTENDEE:1. letnik (Aplikativna fizika)
CATEGORIES:Entry,Standard
COLOR:darkgreen
DESCRIPTION:Predmet: Fizika I (APF-1)\, Predavanja (P)\nLetniki: 1. letnik
  (Aplikativna fizika)\nIzvajalci: Irena Drevenšek Olenik\nProstor: MFP
LOCATION:MFP
ORGANIZER:Irena Drevenšek Olenik
RELATED-TO:fmf-AFLABS-URNIK:srecanje:7597
X-WR-TIMEZONE:Europe/Ljubljana
END:VEVENT
BEGIN:VEVENT
SUMMARY:Fizika I (APF-1)\, Predavanja (P)
DTSTART;TZID=Europe/Ljubljana:20221011T080000
DTEND;TZID=Europe/Ljubljana:20221011T100000
DTSTAMP:20260425T203306Z
UID:fmf-AFLABS-URNIK:premaknjeno-srecanje:28529
ATTENDEE:1. letnik (Aplikativna fizika)
CATEGORIES:Entry,Standard
COLOR:darkgreen
DESCRIPTION:Predmet: Fizika I (APF-1)\, Predavanja (P)\nLetniki: 1. letnik
  (Aplikativna fizika)\nIzvajalci: Irena Drevenšek Olenik\nProstor: MFP
LOCATION:MFP
ORGANIZER:Irena Drevenšek Olenik
RELATED-TO:fmf-AFLABS-URNIK:srecanje:7597
X-WR-TIMEZONE:Europe/Ljubljana
END:VEVENT
BEGIN:VEVENT
SUMMARY:Fizika I (APF-1)\, Predavanja (P)
DTSTART;TZID=Europe/Ljubljana:20221006T080000
DTEND;TZID=Europe/Ljubljana:20221006T100000
DTSTAMP:20260425T203306Z
UID:fmf-AFLABS-URNIK:premaknjeno-srecanje:28857
ATTENDEE:1. letnik (Aplikativna fizika)
CATEGORIES:Entry,Standard
COLOR:darkgreen
DESCRIPTION:Predmet: Fizika I (APF-1)\, Predavanja (P)\nLetniki: 1. letnik
  (Aplikativna fizika)\nIzvajalci: Irena Drevenšek Olenik\nProstor: MFP
LOCATION:MFP
ORGANIZER:Irena Drevenšek Olenik
RELATED-TO:fmf-AFLABS-URNIK:srecanje:7598
X-WR-TIMEZONE:Europe/Ljubljana
END:VEVENT
BEGIN:VEVENT
SUMMARY:Fizika I (APF-1)\, Predavanja (P)
DTSTART;TZID=Europe/Ljubljana:20221013T080000
DTEND;TZID=Europe/Ljubljana:20221013T100000
DTSTAMP:20260425T203306Z
UID:fmf-AFLABS-URNIK:premaknjeno-srecanje:28858
ATTENDEE:1. letnik (Aplikativna fizika)
CATEGORIES:Entry,Standard
COLOR:darkgreen
DESCRIPTION:Predmet: Fizika I (APF-1)\, Predavanja (P)\nLetniki: 1. letnik
  (Aplikativna fizika)\nIzvajalci: Irena Drevenšek Olenik\nProstor: MFP
LOCATION:MFP
ORGANIZER:Irena Drevenšek Olenik
RELATED-TO:fmf-AFLABS-URNIK:srecanje:7598
X-WR-TIMEZONE:Europe/Ljubljana
END:VEVENT
BEGIN:VEVENT
SUMMARY:Rezervacija
DTSTART;TZID=Europe/Ljubljana:20220823T090000
DTEND;TZID=Europe/Ljubljana:20220823T110000
DTSTAMP:20260425T203306Z
UID:fmf-AFLABS-URNIK:rezervacija:9889
CATEGORIES:Reservation
COLOR:royalblue
DESCRIPTION:Predmeti: \nLetniki: \nIzvajalci: Irena Drevenšek Olenik\nPro
 stori: F4
LOCATION:F4
ORGANIZER:Irena Drevenšek Olenik
X-WR-TIMEZONE:Europe/Ljubljana
END:VEVENT
BEGIN:VEVENT
SUMMARY:Rezervacija
DTSTART;TZID=Europe/Ljubljana:20220824T140000
DTEND;TZID=Europe/Ljubljana:20220824T190000
DTSTAMP:20260425T203306Z
UID:fmf-AFLABS-URNIK:rezervacija:9934
CATEGORIES:Reservation
COLOR:royalblue
DESCRIPTION:Predmeti: \nLetniki: \nIzvajalci: Irena Drevenšek Olenik\nPro
 stori: F7
LOCATION:F7
ORGANIZER:Irena Drevenšek Olenik
X-WR-TIMEZONE:Europe/Ljubljana
END:VEVENT
BEGIN:VEVENT
SUMMARY:Rezervacija
DTSTART;TZID=Europe/Ljubljana:20220829T130000
DTEND;TZID=Europe/Ljubljana:20220829T180000
DTSTAMP:20260425T203306Z
UID:fmf-AFLABS-URNIK:rezervacija:10008
CATEGORIES:Reservation
COLOR:royalblue
DESCRIPTION:Predmeti: \nLetniki: \nIzvajalci: Irena Drevenšek Olenik\nPro
 stori: F7
LOCATION:F7
ORGANIZER:Irena Drevenšek Olenik
X-WR-TIMEZONE:Europe/Ljubljana
END:VEVENT
BEGIN:VEVENT
SUMMARY:Rezervacija
DTSTART;TZID=Europe/Ljubljana:20220906T140000
DTEND;TZID=Europe/Ljubljana:20220906T180000
DTSTAMP:20260425T203306Z
UID:fmf-AFLABS-URNIK:rezervacija:10180
CATEGORIES:Reservation
COLOR:royalblue
DESCRIPTION:Predmeti: \nLetniki: \nIzvajalci: Irena Drevenšek Olenik\nPro
 stori: F7
LOCATION:F7
ORGANIZER:Irena Drevenšek Olenik
X-WR-TIMEZONE:Europe/Ljubljana
END:VEVENT
BEGIN:VEVENT
SUMMARY:Rezervacija
DTSTART;TZID=Europe/Ljubljana:20221006T100000
DTEND;TZID=Europe/Ljubljana:20221006T120000
DTSTAMP:20260425T203306Z
UID:fmf-AFLABS-URNIK:rezervacija:10375
CATEGORIES:Reservation
COLOR:royalblue
DESCRIPTION:Predmeti: \nLetniki: \nIzvajalci: Irena Drevenšek Olenik\nPro
 stori: Sejna soba J21
LOCATION:Sejna soba J21
ORGANIZER:Irena Drevenšek Olenik
X-WR-TIMEZONE:Europe/Ljubljana
END:VEVENT
END:VCALENDAR
