BEGIN:VCALENDAR
VERSION:2.0
PRODID:-//AFLabs urnik izvoz - fmf//aflabs.si//SI
DTSTAMP:20260420T213421Z
NAME:UL FMF urnik
REFRESH-INTERVAL:PT1H
SOURCE:https://urnik.fmf.uni-lj.si/teacher/81?day=2023-02-06&export=1
URL:https://urnik.fmf.uni-lj.si/teacher/81?day=2023-02-06&export=1
X-PUBLISHED-TTL:PT1H
X-WR-CALNAME:UL FMF urnik
X-WR-TIMEZONE:Europe/Ljubljana
BEGIN:VTIMEZONE
TZID:Europe/Ljubljana
BEGIN:DAYLIGHT
DTSTART:20260329T020000
RDATE:20260329T020000
RDATE:20270328T020000
TZNAME:CEST
TZOFFSETFROM:+0100
TZOFFSETTO:+0200
END:DAYLIGHT
BEGIN:STANDARD
DTSTART:20261025T030000
RDATE:20261025T030000
RDATE:20271031T030000
TZNAME:CET
TZOFFSETFROM:+0200
TZOFFSETTO:+0100
END:STANDARD
END:VTIMEZONE
BEGIN:VEVENT
SUMMARY:Fizika I (APF-1)\, Predavanja (P)
DTSTART;TZID=Europe/Ljubljana:20230103T080000
DTEND;TZID=Europe/Ljubljana:20230103T100000
DTSTAMP:20260420T213421Z
UID:fmf-AFLABS-URNIK:premaknjeno-srecanje:28541
ATTENDEE:1. letnik (Aplikativna fizika)
CATEGORIES:Entry,Standard
COLOR:darkgreen
DESCRIPTION:Predmet: Fizika I (APF-1)\, Predavanja (P)\nLetniki: 1. letnik
  (Aplikativna fizika)\nIzvajalci: Irena Drevenšek Olenik\nProstor: MFP
LOCATION:MFP
ORGANIZER:Irena Drevenšek Olenik
RELATED-TO:fmf-AFLABS-URNIK:srecanje:7597
X-WR-TIMEZONE:Europe/Ljubljana
END:VEVENT
BEGIN:VEVENT
SUMMARY:Fizika I (APF-1)\, Predavanja (P)
DTSTART;TZID=Europe/Ljubljana:20230110T080000
DTEND;TZID=Europe/Ljubljana:20230110T100000
DTSTAMP:20260420T213421Z
UID:fmf-AFLABS-URNIK:premaknjeno-srecanje:28542
ATTENDEE:1. letnik (Aplikativna fizika)
CATEGORIES:Entry,Standard
COLOR:darkgreen
DESCRIPTION:Predmet: Fizika I (APF-1)\, Predavanja (P)\nLetniki: 1. letnik
  (Aplikativna fizika)\nIzvajalci: Irena Drevenšek Olenik\nProstor: MFP
LOCATION:MFP
ORGANIZER:Irena Drevenšek Olenik
RELATED-TO:fmf-AFLABS-URNIK:srecanje:7597
X-WR-TIMEZONE:Europe/Ljubljana
END:VEVENT
BEGIN:VEVENT
SUMMARY:Fizika I (APF-1)\, Predavanja (P)
DTSTART;TZID=Europe/Ljubljana:20230105T080000
DTEND;TZID=Europe/Ljubljana:20230105T100000
DTSTAMP:20260420T213421Z
UID:fmf-AFLABS-URNIK:premaknjeno-srecanje:28870
ATTENDEE:1. letnik (Aplikativna fizika)
CATEGORIES:Entry,Standard
COLOR:darkgreen
DESCRIPTION:Predmet: Fizika I (APF-1)\, Predavanja (P)\nLetniki: 1. letnik
  (Aplikativna fizika)\nIzvajalci: Irena Drevenšek Olenik\nProstor: MFP
LOCATION:MFP
ORGANIZER:Irena Drevenšek Olenik
RELATED-TO:fmf-AFLABS-URNIK:srecanje:7598
X-WR-TIMEZONE:Europe/Ljubljana
END:VEVENT
BEGIN:VEVENT
SUMMARY:Fizika I (APF-1)\, Predavanja (P)
DTSTART;TZID=Europe/Ljubljana:20230112T080000
DTEND;TZID=Europe/Ljubljana:20230112T100000
DTSTAMP:20260420T213421Z
UID:fmf-AFLABS-URNIK:premaknjeno-srecanje:28871
ATTENDEE:1. letnik (Aplikativna fizika)
CATEGORIES:Entry,Standard
COLOR:darkgreen
DESCRIPTION:Predmet: Fizika I (APF-1)\, Predavanja (P)\nLetniki: 1. letnik
  (Aplikativna fizika)\nIzvajalci: Irena Drevenšek Olenik\nProstor: MFP
LOCATION:MFP
ORGANIZER:Irena Drevenšek Olenik
RELATED-TO:fmf-AFLABS-URNIK:srecanje:7598
X-WR-TIMEZONE:Europe/Ljubljana
END:VEVENT
BEGIN:VEVENT
SUMMARY:Fizika I (APF-1)\, Predavanja (P)
DTSTART;TZID=Europe/Ljubljana:20230214T130000
DTEND;TZID=Europe/Ljubljana:20230214T150000
DTSTAMP:20260420T213421Z
UID:fmf-AFLABS-URNIK:premaknjeno-srecanje:28700
ATTENDEE:1. letnik (Aplikativna fizika)
CATEGORIES:Entry,Standard
COLOR:darkgreen
DESCRIPTION:Predmet: Fizika I (APF-1)\, Predavanja (P)\nLetniki: 1. letnik
  (Aplikativna fizika)\nIzvajalci: Irena Drevenšek Olenik\nProstor: MFP
LOCATION:MFP
ORGANIZER:Irena Drevenšek Olenik
RELATED-TO:fmf-AFLABS-URNIK:srecanje:8342
X-WR-TIMEZONE:Europe/Ljubljana
END:VEVENT
BEGIN:VEVENT
SUMMARY:Fizika I (APF-1)\, Predavanja (P)
DTSTART;TZID=Europe/Ljubljana:20230221T130000
DTEND;TZID=Europe/Ljubljana:20230221T150000
DTSTAMP:20260420T213421Z
UID:fmf-AFLABS-URNIK:premaknjeno-srecanje:28701
ATTENDEE:1. letnik (Aplikativna fizika)
CATEGORIES:Entry,Standard
COLOR:darkgreen
DESCRIPTION:Predmet: Fizika I (APF-1)\, Predavanja (P)\nLetniki: 1. letnik
  (Aplikativna fizika)\nIzvajalci: Irena Drevenšek Olenik\nProstor: MFP
LOCATION:MFP
ORGANIZER:Irena Drevenšek Olenik
RELATED-TO:fmf-AFLABS-URNIK:srecanje:8342
X-WR-TIMEZONE:Europe/Ljubljana
END:VEVENT
BEGIN:VEVENT
SUMMARY:Fizika I (APF-1)\, Predavanja (P)
DTSTART;TZID=Europe/Ljubljana:20230228T130000
DTEND;TZID=Europe/Ljubljana:20230228T150000
DTSTAMP:20260420T213421Z
UID:fmf-AFLABS-URNIK:premaknjeno-srecanje:28702
ATTENDEE:1. letnik (Aplikativna fizika)
CATEGORIES:Entry,Standard
COLOR:darkgreen
DESCRIPTION:Predmet: Fizika I (APF-1)\, Predavanja (P)\nLetniki: 1. letnik
  (Aplikativna fizika)\nIzvajalci: Irena Drevenšek Olenik\nProstor: MFP
LOCATION:MFP
ORGANIZER:Irena Drevenšek Olenik
RELATED-TO:fmf-AFLABS-URNIK:srecanje:8342
X-WR-TIMEZONE:Europe/Ljubljana
END:VEVENT
BEGIN:VEVENT
SUMMARY:Fizika I (APF-1)\, Predavanja (P)
DTSTART;TZID=Europe/Ljubljana:20230307T130000
DTEND;TZID=Europe/Ljubljana:20230307T150000
DTSTAMP:20260420T213421Z
UID:fmf-AFLABS-URNIK:premaknjeno-srecanje:28703
ATTENDEE:1. letnik (Aplikativna fizika)
CATEGORIES:Entry,Standard
COLOR:darkgreen
DESCRIPTION:Predmet: Fizika I (APF-1)\, Predavanja (P)\nLetniki: 1. letnik
  (Aplikativna fizika)\nIzvajalci: Irena Drevenšek Olenik\nProstor: MFP
LOCATION:MFP
ORGANIZER:Irena Drevenšek Olenik
RELATED-TO:fmf-AFLABS-URNIK:srecanje:8342
X-WR-TIMEZONE:Europe/Ljubljana
END:VEVENT
BEGIN:VEVENT
SUMMARY:Fizika I (APF-1)\, Predavanja (P)
DTSTART;TZID=Europe/Ljubljana:20230215T110000
DTEND;TZID=Europe/Ljubljana:20230215T130000
DTSTAMP:20260420T213421Z
UID:fmf-AFLABS-URNIK:premaknjeno-srecanje:28716
ATTENDEE:1. letnik (Aplikativna fizika)
CATEGORIES:Entry,Standard
COLOR:darkgreen
DESCRIPTION:Predmet: Fizika I (APF-1)\, Predavanja (P)\nLetniki: 1. letnik
  (Aplikativna fizika)\nIzvajalci: Irena Drevenšek Olenik\nProstor: MFP
LOCATION:MFP
ORGANIZER:Irena Drevenšek Olenik
RELATED-TO:fmf-AFLABS-URNIK:srecanje:8343
X-WR-TIMEZONE:Europe/Ljubljana
END:VEVENT
BEGIN:VEVENT
SUMMARY:Fizika I (APF-1)\, Predavanja (P)
DTSTART;TZID=Europe/Ljubljana:20230222T110000
DTEND;TZID=Europe/Ljubljana:20230222T130000
DTSTAMP:20260420T213421Z
UID:fmf-AFLABS-URNIK:premaknjeno-srecanje:28717
ATTENDEE:1. letnik (Aplikativna fizika)
CATEGORIES:Entry,Standard
COLOR:darkgreen
DESCRIPTION:Predmet: Fizika I (APF-1)\, Predavanja (P)\nLetniki: 1. letnik
  (Aplikativna fizika)\nIzvajalci: Irena Drevenšek Olenik\nProstor: MFP
LOCATION:MFP
ORGANIZER:Irena Drevenšek Olenik
RELATED-TO:fmf-AFLABS-URNIK:srecanje:8343
X-WR-TIMEZONE:Europe/Ljubljana
END:VEVENT
BEGIN:VEVENT
SUMMARY:Fizika I (APF-1)\, Predavanja (P)
DTSTART;TZID=Europe/Ljubljana:20230301T110000
DTEND;TZID=Europe/Ljubljana:20230301T130000
DTSTAMP:20260420T213421Z
UID:fmf-AFLABS-URNIK:premaknjeno-srecanje:28718
ATTENDEE:1. letnik (Aplikativna fizika)
CATEGORIES:Entry,Standard
COLOR:darkgreen
DESCRIPTION:Predmet: Fizika I (APF-1)\, Predavanja (P)\nLetniki: 1. letnik
  (Aplikativna fizika)\nIzvajalci: Irena Drevenšek Olenik\nProstor: MFP
LOCATION:MFP
ORGANIZER:Irena Drevenšek Olenik
RELATED-TO:fmf-AFLABS-URNIK:srecanje:8343
X-WR-TIMEZONE:Europe/Ljubljana
END:VEVENT
BEGIN:VEVENT
SUMMARY:Fizika I (APF-1)\, Predavanja (P)
DTSTART;TZID=Europe/Ljubljana:20230308T110000
DTEND;TZID=Europe/Ljubljana:20230308T130000
DTSTAMP:20260420T213421Z
UID:fmf-AFLABS-URNIK:premaknjeno-srecanje:28719
ATTENDEE:1. letnik (Aplikativna fizika)
CATEGORIES:Entry,Standard
COLOR:darkgreen
DESCRIPTION:Predmet: Fizika I (APF-1)\, Predavanja (P)\nLetniki: 1. letnik
  (Aplikativna fizika)\nIzvajalci: Irena Drevenšek Olenik\nProstor: MFP
LOCATION:MFP
ORGANIZER:Irena Drevenšek Olenik
RELATED-TO:fmf-AFLABS-URNIK:srecanje:8343
X-WR-TIMEZONE:Europe/Ljubljana
END:VEVENT
BEGIN:VEVENT
SUMMARY:Optika (FIZ-3)\, Predavanja (P)
DTSTART;TZID=Europe/Ljubljana:20230216T080000
DTEND;TZID=Europe/Ljubljana:20230216T100000
DTSTAMP:20260420T213421Z
UID:fmf-AFLABS-URNIK:premaknjeno-srecanje:79489
ATTENDEE:3. letnik (Fizika, 1. stopnja)
CATEGORIES:Entry,Standard
COLOR:darkgreen
DESCRIPTION:Predmet: Optika (FIZ-3)\, Predavanja (P)\nLetniki: 3. letnik (
 Fizika\, 1. stopnja)\nIzvajalci: Irena Drevenšek Olenik\nProstor: F5
LOCATION:F5
ORGANIZER:Irena Drevenšek Olenik
RELATED-TO:fmf-AFLABS-URNIK:srecanje:8597
X-WR-TIMEZONE:Europe/Ljubljana
END:VEVENT
BEGIN:VEVENT
SUMMARY:Optika (FIZ-3)\, Predavanja (P)
DTSTART;TZID=Europe/Ljubljana:20230223T080000
DTEND;TZID=Europe/Ljubljana:20230223T100000
DTSTAMP:20260420T213421Z
UID:fmf-AFLABS-URNIK:premaknjeno-srecanje:79490
ATTENDEE:3. letnik (Fizika, 1. stopnja)
CATEGORIES:Entry,Standard
COLOR:darkgreen
DESCRIPTION:Predmet: Optika (FIZ-3)\, Predavanja (P)\nLetniki: 3. letnik (
 Fizika\, 1. stopnja)\nIzvajalci: Irena Drevenšek Olenik\nProstor: F5
LOCATION:F5
ORGANIZER:Irena Drevenšek Olenik
RELATED-TO:fmf-AFLABS-URNIK:srecanje:8597
X-WR-TIMEZONE:Europe/Ljubljana
END:VEVENT
BEGIN:VEVENT
SUMMARY:Optika (FIZ-3)\, Predavanja (P)
DTSTART;TZID=Europe/Ljubljana:20230302T080000
DTEND;TZID=Europe/Ljubljana:20230302T100000
DTSTAMP:20260420T213421Z
UID:fmf-AFLABS-URNIK:premaknjeno-srecanje:79491
ATTENDEE:3. letnik (Fizika, 1. stopnja)
CATEGORIES:Entry,Standard
COLOR:darkgreen
DESCRIPTION:Predmet: Optika (FIZ-3)\, Predavanja (P)\nLetniki: 3. letnik (
 Fizika\, 1. stopnja)\nIzvajalci: Irena Drevenšek Olenik\nProstor: F5
LOCATION:F5
ORGANIZER:Irena Drevenšek Olenik
RELATED-TO:fmf-AFLABS-URNIK:srecanje:8597
X-WR-TIMEZONE:Europe/Ljubljana
END:VEVENT
BEGIN:VEVENT
SUMMARY:Optika (FIZ-3)\, Predavanja (P)
DTSTART;TZID=Europe/Ljubljana:20230309T080000
DTEND;TZID=Europe/Ljubljana:20230309T100000
DTSTAMP:20260420T213421Z
UID:fmf-AFLABS-URNIK:premaknjeno-srecanje:79492
ATTENDEE:3. letnik (Fizika, 1. stopnja)
CATEGORIES:Entry,Standard
COLOR:darkgreen
DESCRIPTION:Predmet: Optika (FIZ-3)\, Predavanja (P)\nLetniki: 3. letnik (
 Fizika\, 1. stopnja)\nIzvajalci: Irena Drevenšek Olenik\nProstor: F5
LOCATION:F5
ORGANIZER:Irena Drevenšek Olenik
RELATED-TO:fmf-AFLABS-URNIK:srecanje:8597
X-WR-TIMEZONE:Europe/Ljubljana
END:VEVENT
BEGIN:VEVENT
SUMMARY:Rezervacija
DTSTART;TZID=Europe/Ljubljana:20230105T100000
DTEND;TZID=Europe/Ljubljana:20230105T120000
DTSTAMP:20260420T213421Z
UID:fmf-AFLABS-URNIK:rezervacija:10762
CATEGORIES:Reservation
COLOR:royalblue
DESCRIPTION:Predmeti: \nLetniki: \nIzvajalci: Irena Drevenšek Olenik\nPro
 stori: Sejna soba J21
LOCATION:Sejna soba J21
ORGANIZER:Irena Drevenšek Olenik
X-WR-TIMEZONE:Europe/Ljubljana
END:VEVENT
BEGIN:VEVENT
SUMMARY:Rezervacija
DTSTART;TZID=Europe/Ljubljana:20230111T090000
DTEND;TZID=Europe/Ljubljana:20230111T110000
DTSTAMP:20260420T213421Z
UID:fmf-AFLABS-URNIK:rezervacija:10811
CATEGORIES:Reservation
COLOR:royalblue
DESCRIPTION:Predmeti: \nLetniki: \nIzvajalci: Irena Drevenšek Olenik\nPro
 stori: Sejna soba J21
LOCATION:Sejna soba J21
ORGANIZER:Irena Drevenšek Olenik
X-WR-TIMEZONE:Europe/Ljubljana
END:VEVENT
BEGIN:VEVENT
SUMMARY:Rezervacija
DTSTART;TZID=Europe/Ljubljana:20230227T130000
DTEND;TZID=Europe/Ljubljana:20230227T150000
DTSTAMP:20260420T213421Z
UID:fmf-AFLABS-URNIK:rezervacija:11351
CATEGORIES:Reservation
COLOR:royalblue
DESCRIPTION:Predmeti: \nLetniki: \nIzvajalci: Irena Drevenšek Olenik\nPro
 stori: Sejna soba J21
LOCATION:Sejna soba J21
ORGANIZER:Irena Drevenšek Olenik
X-WR-TIMEZONE:Europe/Ljubljana
END:VEVENT
BEGIN:VEVENT
SUMMARY:Rezervacija
DTSTART;TZID=Europe/Ljubljana:20230306T130000
DTEND;TZID=Europe/Ljubljana:20230306T150000
DTSTAMP:20260420T213421Z
UID:fmf-AFLABS-URNIK:rezervacija:11393
CATEGORIES:Reservation
COLOR:royalblue
DESCRIPTION:Predmeti: \nLetniki: \nIzvajalci: Irena Drevenšek Olenik\nPro
 stori: Sejna soba J21
LOCATION:Sejna soba J21
ORGANIZER:Irena Drevenšek Olenik
X-WR-TIMEZONE:Europe/Ljubljana
END:VEVENT
BEGIN:VEVENT
SUMMARY:Rezervacija
DTSTART;TZID=Europe/Ljubljana:20230313T130000
DTEND;TZID=Europe/Ljubljana:20230313T150000
DTSTAMP:20260420T213421Z
UID:fmf-AFLABS-URNIK:rezervacija:11422
CATEGORIES:Reservation
COLOR:royalblue
DESCRIPTION:Predmeti: \nLetniki: \nIzvajalci: Irena Drevenšek Olenik\nPro
 stori: Sejna soba J21
LOCATION:Sejna soba J21
ORGANIZER:Irena Drevenšek Olenik
X-WR-TIMEZONE:Europe/Ljubljana
END:VEVENT
END:VCALENDAR
