BEGIN:VCALENDAR
VERSION:2.0
PRODID:-//AFLabs urnik izvoz - fmf//aflabs.si//SI
DTSTAMP:20260425T182021Z
NAME:UL FMF urnik
REFRESH-INTERVAL:PT1H
SOURCE:https://urnik.fmf.uni-lj.si/teacher/827?day=2022-02-07&export=1
URL:https://urnik.fmf.uni-lj.si/teacher/827?day=2022-02-07&export=1
X-PUBLISHED-TTL:PT1H
X-WR-CALNAME:UL FMF urnik
X-WR-TIMEZONE:Europe/Ljubljana
BEGIN:VTIMEZONE
TZID:Europe/Ljubljana
BEGIN:DAYLIGHT
DTSTART:20260329T020000
RDATE:20260329T020000
RDATE:20270328T020000
TZNAME:CEST
TZOFFSETFROM:+0100
TZOFFSETTO:+0200
END:DAYLIGHT
BEGIN:STANDARD
DTSTART:20261025T030000
RDATE:20261025T030000
RDATE:20271031T030000
TZNAME:CET
TZOFFSETFROM:+0200
TZOFFSETTO:+0100
END:STANDARD
END:VTIMEZONE
BEGIN:VEVENT
SUMMARY:Analiza 3 (FM-2)\, Vaje (V)\, [1]
DTSTART;TZID=Europe/Ljubljana:20220103T080000
DTEND;TZID=Europe/Ljubljana:20220103T100000
DTSTAMP:20260425T182021Z
UID:fmf-AFLABS-URNIK:premaknjeno-srecanje:8831
ATTENDEE:2. letnik (FM)
CATEGORIES:Entry,Standard
COLOR:darkgreen
DESCRIPTION:Predmet: Analiza 3 (FM-2)\, Vaje (V)\, [1]\nLetniki: 2. letnik
  (FM)\nIzvajalci: Viktor Cvrtila\nProstor: P.01
LOCATION:P.01
ORGANIZER:Viktor Cvrtila
RELATED-TO:fmf-AFLABS-URNIK:srecanje:6805
X-WR-TIMEZONE:Europe/Ljubljana
END:VEVENT
BEGIN:VEVENT
SUMMARY:Analiza 3 (FM-2)\, Vaje (V)\, [1]
DTSTART;TZID=Europe/Ljubljana:20220110T080000
DTEND;TZID=Europe/Ljubljana:20220110T100000
DTSTAMP:20260425T182021Z
UID:fmf-AFLABS-URNIK:premaknjeno-srecanje:8832
ATTENDEE:2. letnik (FM)
CATEGORIES:Entry,Standard
COLOR:darkgreen
DESCRIPTION:Predmet: Analiza 3 (FM-2)\, Vaje (V)\, [1]\nLetniki: 2. letnik
  (FM)\nIzvajalci: Viktor Cvrtila\nProstor: P.01
LOCATION:P.01
ORGANIZER:Viktor Cvrtila
RELATED-TO:fmf-AFLABS-URNIK:srecanje:6805
X-WR-TIMEZONE:Europe/Ljubljana
END:VEVENT
BEGIN:VEVENT
SUMMARY:Analiza 3 (FM-2)\, Vaje (V)\, [1]
DTSTART;TZID=Europe/Ljubljana:20220106T140000
DTEND;TZID=Europe/Ljubljana:20220106T160000
DTSTAMP:20260425T182021Z
UID:fmf-AFLABS-URNIK:premaknjeno-srecanje:8846
ATTENDEE:2. letnik (FM)
CATEGORIES:Entry,Standard
COLOR:darkgreen
DESCRIPTION:Predmet: Analiza 3 (FM-2)\, Vaje (V)\, [1]\nLetniki: 2. letnik
  (FM)\nIzvajalci: Viktor Cvrtila\nProstor: 3.04
LOCATION:3.04
ORGANIZER:Viktor Cvrtila
RELATED-TO:fmf-AFLABS-URNIK:srecanje:6803
X-WR-TIMEZONE:Europe/Ljubljana
END:VEVENT
BEGIN:VEVENT
SUMMARY:Analiza 3 (FM-2)\, Vaje (V)\, [1]
DTSTART;TZID=Europe/Ljubljana:20220113T140000
DTEND;TZID=Europe/Ljubljana:20220113T160000
DTSTAMP:20260425T182021Z
UID:fmf-AFLABS-URNIK:premaknjeno-srecanje:8847
ATTENDEE:2. letnik (FM)
CATEGORIES:Entry,Standard
COLOR:darkgreen
DESCRIPTION:Predmet: Analiza 3 (FM-2)\, Vaje (V)\, [1]\nLetniki: 2. letnik
  (FM)\nIzvajalci: Viktor Cvrtila\nProstor: 3.04
LOCATION:3.04
ORGANIZER:Viktor Cvrtila
RELATED-TO:fmf-AFLABS-URNIK:srecanje:6803
X-WR-TIMEZONE:Europe/Ljubljana
END:VEVENT
BEGIN:VEVENT
SUMMARY:Analiza 2b (MAT-2\, PM-2)\, Vaje (V)\, [2]
DTSTART;TZID=Europe/Ljubljana:20220215T140000
DTEND;TZID=Europe/Ljubljana:20220215T170000
DTSTAMP:20260425T182021Z
UID:fmf-AFLABS-URNIK:premaknjeno-srecanje:7858
ATTENDEE:2. letnik (M)
ATTENDEE:2. letnik (PM)
CATEGORIES:Entry,Standard
COLOR:darkgreen
DESCRIPTION:Predmet: Analiza 2b (MAT-2\, PM-2)\, Vaje (V)\, [2]\nLetniki: 
 2. letnik (M)\, 2. letnik (PM)\nIzvajalci: Viktor Cvrtila\nProstor: 2.02
LOCATION:2.02
ORGANIZER:Viktor Cvrtila
RELATED-TO:fmf-AFLABS-URNIK:srecanje:6852
X-WR-TIMEZONE:Europe/Ljubljana
END:VEVENT
BEGIN:VEVENT
SUMMARY:Analiza 2b (MAT-2\, PM-2)\, Vaje (V)\, [2]
DTSTART;TZID=Europe/Ljubljana:20220222T140000
DTEND;TZID=Europe/Ljubljana:20220222T170000
DTSTAMP:20260425T182021Z
UID:fmf-AFLABS-URNIK:premaknjeno-srecanje:7859
ATTENDEE:2. letnik (M)
ATTENDEE:2. letnik (PM)
CATEGORIES:Entry,Standard
COLOR:darkgreen
DESCRIPTION:Predmet: Analiza 2b (MAT-2\, PM-2)\, Vaje (V)\, [2]\nLetniki: 
 2. letnik (M)\, 2. letnik (PM)\nIzvajalci: Viktor Cvrtila\nProstor: 2.02
LOCATION:2.02
ORGANIZER:Viktor Cvrtila
RELATED-TO:fmf-AFLABS-URNIK:srecanje:6852
X-WR-TIMEZONE:Europe/Ljubljana
END:VEVENT
BEGIN:VEVENT
SUMMARY:Analiza 2b (MAT-2\, PM-2)\, Vaje (V)\, [2]
DTSTART;TZID=Europe/Ljubljana:20220301T140000
DTEND;TZID=Europe/Ljubljana:20220301T170000
DTSTAMP:20260425T182021Z
UID:fmf-AFLABS-URNIK:premaknjeno-srecanje:7860
ATTENDEE:2. letnik (M)
ATTENDEE:2. letnik (PM)
CATEGORIES:Entry,Standard
COLOR:darkgreen
DESCRIPTION:Predmet: Analiza 2b (MAT-2\, PM-2)\, Vaje (V)\, [2]\nLetniki: 
 2. letnik (M)\, 2. letnik (PM)\nIzvajalci: Viktor Cvrtila\nProstor: 2.02
LOCATION:2.02
ORGANIZER:Viktor Cvrtila
RELATED-TO:fmf-AFLABS-URNIK:srecanje:6852
X-WR-TIMEZONE:Europe/Ljubljana
END:VEVENT
BEGIN:VEVENT
SUMMARY:Analiza 2b (MAT-2\, PM-2)\, Vaje (V)\, [2]
DTSTART;TZID=Europe/Ljubljana:20220308T140000
DTEND;TZID=Europe/Ljubljana:20220308T170000
DTSTAMP:20260425T182021Z
UID:fmf-AFLABS-URNIK:premaknjeno-srecanje:7861
ATTENDEE:2. letnik (M)
ATTENDEE:2. letnik (PM)
CATEGORIES:Entry,Standard
COLOR:darkgreen
DESCRIPTION:Predmet: Analiza 2b (MAT-2\, PM-2)\, Vaje (V)\, [2]\nLetniki: 
 2. letnik (M)\, 2. letnik (PM)\nIzvajalci: Viktor Cvrtila\nProstor: 2.02
LOCATION:2.02
ORGANIZER:Viktor Cvrtila
RELATED-TO:fmf-AFLABS-URNIK:srecanje:6852
X-WR-TIMEZONE:Europe/Ljubljana
END:VEVENT
END:VCALENDAR
