BEGIN:VCALENDAR
VERSION:2.0
PRODID:-//AFLabs urnik izvoz - fmf//aflabs.si//SI
DTSTAMP:20260423T185855Z
NAME:UL FMF urnik
REFRESH-INTERVAL:PT1H
SOURCE:https://urnik.fmf.uni-lj.si/teacher/828?day=2023-02-06&export=1
URL:https://urnik.fmf.uni-lj.si/teacher/828?day=2023-02-06&export=1
X-PUBLISHED-TTL:PT1H
X-WR-CALNAME:UL FMF urnik
X-WR-TIMEZONE:Europe/Ljubljana
BEGIN:VTIMEZONE
TZID:Europe/Ljubljana
BEGIN:DAYLIGHT
DTSTART:20260329T020000
RDATE:20260329T020000
RDATE:20270328T020000
TZNAME:CEST
TZOFFSETFROM:+0100
TZOFFSETTO:+0200
END:DAYLIGHT
BEGIN:STANDARD
DTSTART:20261025T030000
RDATE:20261025T030000
RDATE:20271031T030000
TZNAME:CET
TZOFFSETFROM:+0200
TZOFFSETTO:+0100
END:STANDARD
END:VTIMEZONE
BEGIN:VEVENT
SUMMARY:Analiza 4 (FM-3)\, Vaje (V)
DTSTART;TZID=Europe/Ljubljana:20230103T150000
DTEND;TZID=Europe/Ljubljana:20230103T180000
DTSTAMP:20260423T185855Z
UID:fmf-AFLABS-URNIK:premaknjeno-srecanje:9419
ATTENDEE:3. letnik (FM)
CATEGORIES:Entry,Standard
COLOR:darkgreen
DESCRIPTION:Predmet: Analiza 4 (FM-3)\, Vaje (V)\nLetniki: 3. letnik (FM)\
 nIzvajalci: Jan Rems\nProstor: 2.02
LOCATION:2.02
ORGANIZER:Jan Rems
RELATED-TO:fmf-AFLABS-URNIK:srecanje:7494
X-WR-TIMEZONE:Europe/Ljubljana
END:VEVENT
BEGIN:VEVENT
SUMMARY:Analiza 4 (FM-3)\, Vaje (V)
DTSTART;TZID=Europe/Ljubljana:20230110T150000
DTEND;TZID=Europe/Ljubljana:20230110T180000
DTSTAMP:20260423T185855Z
UID:fmf-AFLABS-URNIK:premaknjeno-srecanje:9420
ATTENDEE:3. letnik (FM)
CATEGORIES:Entry,Standard
COLOR:darkgreen
DESCRIPTION:Predmet: Analiza 4 (FM-3)\, Vaje (V)\nLetniki: 3. letnik (FM)\
 nIzvajalci: Jan Rems\nProstor: 2.02
LOCATION:2.02
ORGANIZER:Jan Rems
RELATED-TO:fmf-AFLABS-URNIK:srecanje:7494
X-WR-TIMEZONE:Europe/Ljubljana
END:VEVENT
BEGIN:VEVENT
SUMMARY:FM2 (FM-M\, MAT-M\, PM-5)\, Vaje (V)
DTSTART;TZID=Europe/Ljubljana:20230104T160000
DTEND;TZID=Europe/Ljubljana:20230104T180000
DTSTAMP:20260423T185855Z
UID:fmf-AFLABS-URNIK:premaknjeno-srecanje:20166
ATTENDEE:5. letnik (PM)
ATTENDEE:magistrski študij (FM)
ATTENDEE:magistrski študij (M)
CATEGORIES:Entry,Standard
COLOR:darkgreen
DESCRIPTION:Predmet: FM2 (FM-M\, MAT-M\, PM-5)\, Vaje (V)\nLetniki: magist
 rski študij (FM)\, magistrski študij (M)\, 5. letnik (PM)\nIzvajalci: Ja
 n Rems\nProstor: 3.06
LOCATION:3.06
ORGANIZER:Jan Rems
RELATED-TO:fmf-AFLABS-URNIK:srecanje:7541
X-WR-TIMEZONE:Europe/Ljubljana
END:VEVENT
BEGIN:VEVENT
SUMMARY:FM2 (FM-M\, MAT-M\, PM-5)\, Vaje (V)
DTSTART;TZID=Europe/Ljubljana:20230111T160000
DTEND;TZID=Europe/Ljubljana:20230111T180000
DTSTAMP:20260423T185855Z
UID:fmf-AFLABS-URNIK:premaknjeno-srecanje:20167
ATTENDEE:5. letnik (PM)
ATTENDEE:magistrski študij (FM)
ATTENDEE:magistrski študij (M)
CATEGORIES:Entry,Standard
COLOR:darkgreen
DESCRIPTION:Predmet: FM2 (FM-M\, MAT-M\, PM-5)\, Vaje (V)\nLetniki: magist
 rski študij (FM)\, magistrski študij (M)\, 5. letnik (PM)\nIzvajalci: Ja
 n Rems\nProstor: 3.06
LOCATION:3.06
ORGANIZER:Jan Rems
RELATED-TO:fmf-AFLABS-URNIK:srecanje:7541
X-WR-TIMEZONE:Europe/Ljubljana
END:VEVENT
BEGIN:VEVENT
SUMMARY:Teorija iger (FM-3\, IŠRM-3\, MAT-3)\, Vaje (V)
DTSTART;TZID=Europe/Ljubljana:20230104T070000
DTEND;TZID=Europe/Ljubljana:20230104T100000
DTSTAMP:20260423T185855Z
UID:fmf-AFLABS-URNIK:premaknjeno-srecanje:109285
ATTENDEE:3. letnik (FM)
ATTENDEE:3. letnik (IŠRM)
ATTENDEE:3. letnik (M)
CATEGORIES:Entry,Standard
COLOR:darkgreen
DESCRIPTION:Predmet: Teorija iger (FM-3\, IŠRM-3\, MAT-3)\, Vaje (V)\nLet
 niki: 3. letnik (FM)\, 3. letnik (IŠRM)\, 3. letnik (M)\nIzvajalci: Jan R
 ems\nProstor: P.02
LOCATION:P.02
ORGANIZER:Jan Rems
RELATED-TO:fmf-AFLABS-URNIK:srecanje:8041
X-WR-TIMEZONE:Europe/Ljubljana
END:VEVENT
BEGIN:VEVENT
SUMMARY:Teorija iger (FM-3\, IŠRM-3\, MAT-3)\, Vaje (V)
DTSTART;TZID=Europe/Ljubljana:20230111T070000
DTEND;TZID=Europe/Ljubljana:20230111T100000
DTSTAMP:20260423T185855Z
UID:fmf-AFLABS-URNIK:premaknjeno-srecanje:109286
ATTENDEE:3. letnik (FM)
ATTENDEE:3. letnik (IŠRM)
ATTENDEE:3. letnik (M)
CATEGORIES:Entry,Standard
COLOR:darkgreen
DESCRIPTION:Predmet: Teorija iger (FM-3\, IŠRM-3\, MAT-3)\, Vaje (V)\nLet
 niki: 3. letnik (FM)\, 3. letnik (IŠRM)\, 3. letnik (M)\nIzvajalci: Jan R
 ems\nProstor: P.02
LOCATION:P.02
ORGANIZER:Jan Rems
RELATED-TO:fmf-AFLABS-URNIK:srecanje:8041
X-WR-TIMEZONE:Europe/Ljubljana
END:VEVENT
BEGIN:VEVENT
SUMMARY:Optimizacija v financah (FM-M\, MAT-M\, PM-5)\, Vaje (V)
DTSTART;TZID=Europe/Ljubljana:20230213T100000
DTEND;TZID=Europe/Ljubljana:20230213T140000
DTSTAMP:20260423T185855Z
UID:fmf-AFLABS-URNIK:premaknjeno-srecanje:80101
ATTENDEE:5. letnik (PM)
ATTENDEE:magistrski študij (FM)
ATTENDEE:magistrski študij (M)
CATEGORIES:Entry,Standard
COLOR:darkgreen
DESCRIPTION:Predmet: Optimizacija v financah (FM-M\, MAT-M\, PM-5)\, Vaje 
 (V)\nLetniki: magistrski študij (FM)\, magistrski študij (M)\, 5. letnik
  (PM)\nIzvajalci: Jan Rems\nProstor: 3.12
LOCATION:3.12
ORGANIZER:Jan Rems
RELATED-TO:fmf-AFLABS-URNIK:srecanje:8602
X-WR-TIMEZONE:Europe/Ljubljana
END:VEVENT
BEGIN:VEVENT
SUMMARY:Optimizacija v financah (FM-M\, MAT-M\, PM-5)\, Vaje (V)
DTSTART;TZID=Europe/Ljubljana:20230220T100000
DTEND;TZID=Europe/Ljubljana:20230220T140000
DTSTAMP:20260423T185855Z
UID:fmf-AFLABS-URNIK:premaknjeno-srecanje:80102
ATTENDEE:5. letnik (PM)
ATTENDEE:magistrski študij (FM)
ATTENDEE:magistrski študij (M)
CATEGORIES:Entry,Standard
COLOR:darkgreen
DESCRIPTION:Predmet: Optimizacija v financah (FM-M\, MAT-M\, PM-5)\, Vaje 
 (V)\nLetniki: magistrski študij (FM)\, magistrski študij (M)\, 5. letnik
  (PM)\nIzvajalci: Jan Rems\nProstor: 3.12
LOCATION:3.12
ORGANIZER:Jan Rems
RELATED-TO:fmf-AFLABS-URNIK:srecanje:8602
X-WR-TIMEZONE:Europe/Ljubljana
END:VEVENT
BEGIN:VEVENT
SUMMARY:Optimizacija v financah (FM-M\, MAT-M\, PM-5)\, Vaje (V)
DTSTART;TZID=Europe/Ljubljana:20230227T100000
DTEND;TZID=Europe/Ljubljana:20230227T140000
DTSTAMP:20260423T185855Z
UID:fmf-AFLABS-URNIK:premaknjeno-srecanje:80103
ATTENDEE:5. letnik (PM)
ATTENDEE:magistrski študij (FM)
ATTENDEE:magistrski študij (M)
CATEGORIES:Entry,Standard
COLOR:darkgreen
DESCRIPTION:Predmet: Optimizacija v financah (FM-M\, MAT-M\, PM-5)\, Vaje 
 (V)\nLetniki: magistrski študij (FM)\, magistrski študij (M)\, 5. letnik
  (PM)\nIzvajalci: Jan Rems\nProstor: 3.12
LOCATION:3.12
ORGANIZER:Jan Rems
RELATED-TO:fmf-AFLABS-URNIK:srecanje:8602
X-WR-TIMEZONE:Europe/Ljubljana
END:VEVENT
BEGIN:VEVENT
SUMMARY:Optimizacija v financah (FM-M\, MAT-M\, PM-5)\, Vaje (V)
DTSTART;TZID=Europe/Ljubljana:20230306T100000
DTEND;TZID=Europe/Ljubljana:20230306T140000
DTSTAMP:20260423T185855Z
UID:fmf-AFLABS-URNIK:premaknjeno-srecanje:80104
ATTENDEE:5. letnik (PM)
ATTENDEE:magistrski študij (FM)
ATTENDEE:magistrski študij (M)
CATEGORIES:Entry,Standard
COLOR:darkgreen
DESCRIPTION:Predmet: Optimizacija v financah (FM-M\, MAT-M\, PM-5)\, Vaje 
 (V)\nLetniki: magistrski študij (FM)\, magistrski študij (M)\, 5. letnik
  (PM)\nIzvajalci: Jan Rems\nProstor: 3.12
LOCATION:3.12
ORGANIZER:Jan Rems
RELATED-TO:fmf-AFLABS-URNIK:srecanje:8602
X-WR-TIMEZONE:Europe/Ljubljana
END:VEVENT
BEGIN:VEVENT
SUMMARY:Optimizacija v financah (FM-M\, MAT-M\, PM-5)\, Vaje (V)
DTSTART;TZID=Europe/Ljubljana:20230313T100000
DTEND;TZID=Europe/Ljubljana:20230313T140000
DTSTAMP:20260423T185855Z
UID:fmf-AFLABS-URNIK:premaknjeno-srecanje:80105
ATTENDEE:5. letnik (PM)
ATTENDEE:magistrski študij (FM)
ATTENDEE:magistrski študij (M)
CATEGORIES:Entry,Standard
COLOR:darkgreen
DESCRIPTION:Predmet: Optimizacija v financah (FM-M\, MAT-M\, PM-5)\, Vaje 
 (V)\nLetniki: magistrski študij (FM)\, magistrski študij (M)\, 5. letnik
  (PM)\nIzvajalci: Jan Rems\nProstor: 3.12
LOCATION:3.12
ORGANIZER:Jan Rems
RELATED-TO:fmf-AFLABS-URNIK:srecanje:8602
X-WR-TIMEZONE:Europe/Ljubljana
END:VEVENT
BEGIN:VEVENT
SUMMARY:Statistika (MAT-3)\, Vaje (V)
DTSTART;TZID=Europe/Ljubljana:20230213T170000
DTEND;TZID=Europe/Ljubljana:20230213T180000
DTSTAMP:20260423T185855Z
UID:fmf-AFLABS-URNIK:premaknjeno-srecanje:105743
ATTENDEE:3. letnik (M)
CATEGORIES:Entry,Standard
COLOR:darkgreen
DESCRIPTION:Predmet: Statistika (MAT-3)\, Vaje (V)\nLetniki: 3. letnik (M)
 \nIzvajalci: Jan Rems\nProstor: 2.02
LOCATION:2.02
ORGANIZER:Jan Rems
RELATED-TO:fmf-AFLABS-URNIK:srecanje:8736
X-WR-TIMEZONE:Europe/Ljubljana
END:VEVENT
BEGIN:VEVENT
SUMMARY:Statistika (MAT-3)\, Vaje (V)
DTSTART;TZID=Europe/Ljubljana:20230220T170000
DTEND;TZID=Europe/Ljubljana:20230220T180000
DTSTAMP:20260423T185855Z
UID:fmf-AFLABS-URNIK:premaknjeno-srecanje:105744
ATTENDEE:3. letnik (M)
CATEGORIES:Entry,Standard
COLOR:darkgreen
DESCRIPTION:Predmet: Statistika (MAT-3)\, Vaje (V)\nLetniki: 3. letnik (M)
 \nIzvajalci: Jan Rems\nProstor: 2.02
LOCATION:2.02
ORGANIZER:Jan Rems
RELATED-TO:fmf-AFLABS-URNIK:srecanje:8736
X-WR-TIMEZONE:Europe/Ljubljana
END:VEVENT
BEGIN:VEVENT
SUMMARY:Statistika (MAT-3)\, Vaje (V)
DTSTART;TZID=Europe/Ljubljana:20230227T170000
DTEND;TZID=Europe/Ljubljana:20230227T180000
DTSTAMP:20260423T185855Z
UID:fmf-AFLABS-URNIK:premaknjeno-srecanje:105745
ATTENDEE:3. letnik (M)
CATEGORIES:Entry,Standard
COLOR:darkgreen
DESCRIPTION:Predmet: Statistika (MAT-3)\, Vaje (V)\nLetniki: 3. letnik (M)
 \nIzvajalci: Jan Rems\nProstor: 2.02
LOCATION:2.02
ORGANIZER:Jan Rems
RELATED-TO:fmf-AFLABS-URNIK:srecanje:8736
X-WR-TIMEZONE:Europe/Ljubljana
END:VEVENT
BEGIN:VEVENT
SUMMARY:Statistika (MAT-3)\, Vaje (V)
DTSTART;TZID=Europe/Ljubljana:20230306T170000
DTEND;TZID=Europe/Ljubljana:20230306T180000
DTSTAMP:20260423T185855Z
UID:fmf-AFLABS-URNIK:premaknjeno-srecanje:105746
ATTENDEE:3. letnik (M)
CATEGORIES:Entry,Standard
COLOR:darkgreen
DESCRIPTION:Predmet: Statistika (MAT-3)\, Vaje (V)\nLetniki: 3. letnik (M)
 \nIzvajalci: Jan Rems\nProstor: 2.02
LOCATION:2.02
ORGANIZER:Jan Rems
RELATED-TO:fmf-AFLABS-URNIK:srecanje:8736
X-WR-TIMEZONE:Europe/Ljubljana
END:VEVENT
BEGIN:VEVENT
SUMMARY:Statistika (MAT-3)\, Vaje (V)
DTSTART;TZID=Europe/Ljubljana:20230313T170000
DTEND;TZID=Europe/Ljubljana:20230313T180000
DTSTAMP:20260423T185855Z
UID:fmf-AFLABS-URNIK:premaknjeno-srecanje:105747
ATTENDEE:3. letnik (M)
CATEGORIES:Entry,Standard
COLOR:darkgreen
DESCRIPTION:Predmet: Statistika (MAT-3)\, Vaje (V)\nLetniki: 3. letnik (M)
 \nIzvajalci: Jan Rems\nProstor: 2.02
LOCATION:2.02
ORGANIZER:Jan Rems
RELATED-TO:fmf-AFLABS-URNIK:srecanje:8736
X-WR-TIMEZONE:Europe/Ljubljana
END:VEVENT
BEGIN:VEVENT
SUMMARY:Statistika (MAT-3)\, Vaje (V)
DTSTART;TZID=Europe/Ljubljana:20230214T080000
DTEND;TZID=Europe/Ljubljana:20230214T100000
DTSTAMP:20260423T185855Z
UID:fmf-AFLABS-URNIK:premaknjeno-srecanje:105774
ATTENDEE:3. letnik (M)
CATEGORIES:Entry,Standard
COLOR:darkgreen
DESCRIPTION:Predmet: Statistika (MAT-3)\, Vaje (V)\nLetniki: 3. letnik (M)
 \nIzvajalci: Jan Rems\nProstor: 2.03
LOCATION:2.03
ORGANIZER:Jan Rems
RELATED-TO:fmf-AFLABS-URNIK:srecanje:8737
X-WR-TIMEZONE:Europe/Ljubljana
END:VEVENT
BEGIN:VEVENT
SUMMARY:Statistika (MAT-3)\, Vaje (V)
DTSTART;TZID=Europe/Ljubljana:20230221T080000
DTEND;TZID=Europe/Ljubljana:20230221T100000
DTSTAMP:20260423T185855Z
UID:fmf-AFLABS-URNIK:premaknjeno-srecanje:105775
ATTENDEE:3. letnik (M)
CATEGORIES:Entry,Standard
COLOR:darkgreen
DESCRIPTION:Predmet: Statistika (MAT-3)\, Vaje (V)\nLetniki: 3. letnik (M)
 \nIzvajalci: Jan Rems\nProstor: 2.03
LOCATION:2.03
ORGANIZER:Jan Rems
RELATED-TO:fmf-AFLABS-URNIK:srecanje:8737
X-WR-TIMEZONE:Europe/Ljubljana
END:VEVENT
BEGIN:VEVENT
SUMMARY:Statistika (MAT-3)\, Vaje (V)
DTSTART;TZID=Europe/Ljubljana:20230228T080000
DTEND;TZID=Europe/Ljubljana:20230228T100000
DTSTAMP:20260423T185855Z
UID:fmf-AFLABS-URNIK:premaknjeno-srecanje:105776
ATTENDEE:3. letnik (M)
CATEGORIES:Entry,Standard
COLOR:darkgreen
DESCRIPTION:Predmet: Statistika (MAT-3)\, Vaje (V)\nLetniki: 3. letnik (M)
 \nIzvajalci: Jan Rems\nProstor: 2.03
LOCATION:2.03
ORGANIZER:Jan Rems
RELATED-TO:fmf-AFLABS-URNIK:srecanje:8737
X-WR-TIMEZONE:Europe/Ljubljana
END:VEVENT
BEGIN:VEVENT
SUMMARY:Statistika (MAT-3)\, Vaje (V)
DTSTART;TZID=Europe/Ljubljana:20230307T080000
DTEND;TZID=Europe/Ljubljana:20230307T100000
DTSTAMP:20260423T185855Z
UID:fmf-AFLABS-URNIK:premaknjeno-srecanje:105777
ATTENDEE:3. letnik (M)
CATEGORIES:Entry,Standard
COLOR:darkgreen
DESCRIPTION:Predmet: Statistika (MAT-3)\, Vaje (V)\nLetniki: 3. letnik (M)
 \nIzvajalci: Jan Rems\nProstor: 2.03
LOCATION:2.03
ORGANIZER:Jan Rems
RELATED-TO:fmf-AFLABS-URNIK:srecanje:8737
X-WR-TIMEZONE:Europe/Ljubljana
END:VEVENT
BEGIN:VEVENT
SUMMARY:Rezervacija
DTSTART;TZID=Europe/Ljubljana:20230113T170000
DTEND;TZID=Europe/Ljubljana:20230113T190000
DTSTAMP:20260423T185855Z
UID:fmf-AFLABS-URNIK:rezervacija:10848
ATTENDEE:3. letnik (FM)
CATEGORIES:Reservation
COLOR:royalblue
DESCRIPTION:Predmeti: Analiza 4 (FM-3)\nLetniki: 3. letnik (FM)\nIzvajalci
 : Jan Rems\nProstori: 2.05
LOCATION:2.05
ORGANIZER:Jan Rems
X-WR-TIMEZONE:Europe/Ljubljana
END:VEVENT
BEGIN:VEVENT
SUMMARY:Rezervacija
DTSTART;TZID=Europe/Ljubljana:20230117T150000
DTEND;TZID=Europe/Ljubljana:20230117T180000
DTSTAMP:20260423T185855Z
UID:fmf-AFLABS-URNIK:rezervacija:10909
ATTENDEE:3. letnik (FM)
CATEGORIES:Reservation
COLOR:royalblue
DESCRIPTION:Predmeti: Analiza 4 (FM-3)\nLetniki: 3. letnik (FM)\nIzvajalci
 : Jan Rems\nProstori: 2.02
LOCATION:2.02
ORGANIZER:Jan Rems
X-WR-TIMEZONE:Europe/Ljubljana
END:VEVENT
BEGIN:VEVENT
SUMMARY:Rezervacija
DTSTART;TZID=Europe/Ljubljana:20230123T110000
DTEND;TZID=Europe/Ljubljana:20230123T130000
DTSTAMP:20260423T185855Z
UID:fmf-AFLABS-URNIK:rezervacija:10994
ATTENDEE:3. letnik (FM)
ATTENDEE:3. letnik (IŠRM)
ATTENDEE:3. letnik (M)
CATEGORIES:Reservation
COLOR:royalblue
DESCRIPTION:Predmeti: Teorija iger (FM-3\, IŠRM-3\, MAT-3)\nLetniki: 3. l
 etnik (FM)\, 3. letnik (IŠRM)\, 3. letnik (M)\nIzvajalci: Sergio Cabello 
 Justo\, Jan Rems\nProstori: 2.01\, 2.05
LOCATION:2.01\, 2.05
ORGANIZER:Sergio Cabello Justo, Jan Rems
X-WR-TIMEZONE:Europe/Ljubljana
END:VEVENT
BEGIN:VEVENT
SUMMARY:Rezervacija
DTSTART;TZID=Europe/Ljubljana:20230126T100000
DTEND;TZID=Europe/Ljubljana:20230126T120000
DTSTAMP:20260423T185855Z
UID:fmf-AFLABS-URNIK:rezervacija:11038
ATTENDEE:3. letnik (FM)
CATEGORIES:Reservation
COLOR:royalblue
DESCRIPTION:Predmeti: Analiza 4 (FM-3)\nLetniki: 3. letnik (FM)\nIzvajalci
 : Jan Rems\nProstori: 2.03
LOCATION:2.03
ORGANIZER:Jan Rems
X-WR-TIMEZONE:Europe/Ljubljana
END:VEVENT
BEGIN:VEVENT
SUMMARY:Rezervacija
DTSTART;TZID=Europe/Ljubljana:20230130T100000
DTEND;TZID=Europe/Ljubljana:20230130T130000
DTSTAMP:20260423T185855Z
UID:fmf-AFLABS-URNIK:rezervacija:11082
ATTENDEE:5. letnik (PM)
ATTENDEE:magistrski študij (FM)
ATTENDEE:magistrski študij (M)
CATEGORIES:Reservation
COLOR:royalblue
DESCRIPTION:Predmeti: FM2 (FM-M\, MAT-M\, PM-5)\nLetniki: magistrski štud
 ij (FM)\, magistrski študij (M)\, 5. letnik (PM)\nIzvajalci: Jan Rems\nPr
 ostori: P.02
LOCATION:P.02
ORGANIZER:Jan Rems
X-WR-TIMEZONE:Europe/Ljubljana
END:VEVENT
BEGIN:VEVENT
SUMMARY:Rezervacija
DTSTART;TZID=Europe/Ljubljana:20230201T110000
DTEND;TZID=Europe/Ljubljana:20230201T130000
DTSTAMP:20260423T185855Z
UID:fmf-AFLABS-URNIK:rezervacija:11122
ATTENDEE:3. letnik (FM)
ATTENDEE:3. letnik (IŠRM)
ATTENDEE:3. letnik (M)
CATEGORIES:Reservation
COLOR:royalblue
DESCRIPTION:Predmeti: Teorija iger (FM-3\, IŠRM-3\, MAT-3)\nLetniki: 3. l
 etnik (FM)\, 3. letnik (IŠRM)\, 3. letnik (M)\nIzvajalci: Sergio Cabello 
 Justo\, Jan Rems\nProstori: 2.01\, 2.05
LOCATION:2.01\, 2.05
ORGANIZER:Sergio Cabello Justo, Jan Rems
X-WR-TIMEZONE:Europe/Ljubljana
END:VEVENT
END:VCALENDAR
