BEGIN:VCALENDAR
VERSION:2.0
PRODID:-//AFLabs urnik izvoz - fmf//aflabs.si//SI
DTSTAMP:20260425T101959Z
NAME:UL FMF urnik
REFRESH-INTERVAL:PT1H
SOURCE:https://urnik.fmf.uni-lj.si/teacher/829?day=2022-04-25&export=1
URL:https://urnik.fmf.uni-lj.si/teacher/829?day=2022-04-25&export=1
X-PUBLISHED-TTL:PT1H
X-WR-CALNAME:UL FMF urnik
X-WR-TIMEZONE:Europe/Ljubljana
BEGIN:VTIMEZONE
TZID:Europe/Ljubljana
BEGIN:DAYLIGHT
DTSTART:20260329T020000
RDATE:20260329T020000
RDATE:20270328T020000
TZNAME:CEST
TZOFFSETFROM:+0100
TZOFFSETTO:+0200
END:DAYLIGHT
BEGIN:STANDARD
DTSTART:20261025T030000
RDATE:20261025T030000
RDATE:20271031T030000
TZNAME:CET
TZOFFSETFROM:+0200
TZOFFSETTO:+0100
END:STANDARD
END:VTIMEZONE
BEGIN:VEVENT
SUMMARY:Matematika z računalnikom (FM-M\, IŠRM-M\, MAT-M\, PM-5)\, Vaje 
 (V)
DTSTART;TZID=Europe/Ljubljana:20220216T100000
DTEND;TZID=Europe/Ljubljana:20220216T120000
DTSTAMP:20260425T101959Z
UID:fmf-AFLABS-URNIK:premaknjeno-srecanje:67746
ATTENDEE:5. letnik (PM)
ATTENDEE:magistrski študij (FM)
ATTENDEE:magistrski študij (IŠRM)
ATTENDEE:magistrski študij (M)
CATEGORIES:Entry,Standard
COLOR:darkgreen
DESCRIPTION:Predmet: Matematika z računalnikom (FM-M\, IŠRM-M\, MAT-M\, 
 PM-5)\, Vaje (V)\nLetniki: magistrski študij (FM)\, magistrski študij (I
 ŠRM)\, magistrski študij (M)\, 5. letnik (PM)\nIzvajalci: Gašper Domen 
 Romih\nProstor: 3.10
LOCATION:3.10
ORGANIZER:Gašper Domen Romih
RELATED-TO:fmf-AFLABS-URNIK:srecanje:7104
X-WR-TIMEZONE:Europe/Ljubljana
END:VEVENT
BEGIN:VEVENT
SUMMARY:Matematika z računalnikom (FM-M\, IŠRM-M\, MAT-M\, PM-5)\, Vaje 
 (V)
DTSTART;TZID=Europe/Ljubljana:20220223T100000
DTEND;TZID=Europe/Ljubljana:20220223T120000
DTSTAMP:20260425T101959Z
UID:fmf-AFLABS-URNIK:premaknjeno-srecanje:67747
ATTENDEE:5. letnik (PM)
ATTENDEE:magistrski študij (FM)
ATTENDEE:magistrski študij (IŠRM)
ATTENDEE:magistrski študij (M)
CATEGORIES:Entry,Standard
COLOR:darkgreen
DESCRIPTION:Predmet: Matematika z računalnikom (FM-M\, IŠRM-M\, MAT-M\, 
 PM-5)\, Vaje (V)\nLetniki: magistrski študij (FM)\, magistrski študij (I
 ŠRM)\, magistrski študij (M)\, 5. letnik (PM)\nIzvajalci: Gašper Domen 
 Romih\nProstor: 3.10
LOCATION:3.10
ORGANIZER:Gašper Domen Romih
RELATED-TO:fmf-AFLABS-URNIK:srecanje:7104
X-WR-TIMEZONE:Europe/Ljubljana
END:VEVENT
BEGIN:VEVENT
SUMMARY:Matematika z računalnikom (FM-M\, IŠRM-M\, MAT-M\, PM-5)\, Vaje 
 (V)
DTSTART;TZID=Europe/Ljubljana:20220302T100000
DTEND;TZID=Europe/Ljubljana:20220302T120000
DTSTAMP:20260425T101959Z
UID:fmf-AFLABS-URNIK:premaknjeno-srecanje:67748
ATTENDEE:5. letnik (PM)
ATTENDEE:magistrski študij (FM)
ATTENDEE:magistrski študij (IŠRM)
ATTENDEE:magistrski študij (M)
CATEGORIES:Entry,Standard
COLOR:darkgreen
DESCRIPTION:Predmet: Matematika z računalnikom (FM-M\, IŠRM-M\, MAT-M\, 
 PM-5)\, Vaje (V)\nLetniki: magistrski študij (FM)\, magistrski študij (I
 ŠRM)\, magistrski študij (M)\, 5. letnik (PM)\nIzvajalci: Gašper Domen 
 Romih\nProstor: 3.10
LOCATION:3.10
ORGANIZER:Gašper Domen Romih
RELATED-TO:fmf-AFLABS-URNIK:srecanje:7104
X-WR-TIMEZONE:Europe/Ljubljana
END:VEVENT
BEGIN:VEVENT
SUMMARY:Matematika z računalnikom (FM-M\, IŠRM-M\, MAT-M\, PM-5)\, Vaje 
 (V)
DTSTART;TZID=Europe/Ljubljana:20220309T100000
DTEND;TZID=Europe/Ljubljana:20220309T120000
DTSTAMP:20260425T101959Z
UID:fmf-AFLABS-URNIK:premaknjeno-srecanje:67749
ATTENDEE:5. letnik (PM)
ATTENDEE:magistrski študij (FM)
ATTENDEE:magistrski študij (IŠRM)
ATTENDEE:magistrski študij (M)
CATEGORIES:Entry,Standard
COLOR:darkgreen
DESCRIPTION:Predmet: Matematika z računalnikom (FM-M\, IŠRM-M\, MAT-M\, 
 PM-5)\, Vaje (V)\nLetniki: magistrski študij (FM)\, magistrski študij (I
 ŠRM)\, magistrski študij (M)\, 5. letnik (PM)\nIzvajalci: Gašper Domen 
 Romih\nProstor: 3.10
LOCATION:3.10
ORGANIZER:Gašper Domen Romih
RELATED-TO:fmf-AFLABS-URNIK:srecanje:7104
X-WR-TIMEZONE:Europe/Ljubljana
END:VEVENT
BEGIN:VEVENT
SUMMARY:Matematika z računalnikom (FM-M\, IŠRM-M\, MAT-M\, PM-5)\, Vaje 
 (V)
DTSTART;TZID=Europe/Ljubljana:20220316T100000
DTEND;TZID=Europe/Ljubljana:20220316T120000
DTSTAMP:20260425T101959Z
UID:fmf-AFLABS-URNIK:premaknjeno-srecanje:67750
ATTENDEE:5. letnik (PM)
ATTENDEE:magistrski študij (FM)
ATTENDEE:magistrski študij (IŠRM)
ATTENDEE:magistrski študij (M)
CATEGORIES:Entry,Standard
COLOR:darkgreen
DESCRIPTION:Predmet: Matematika z računalnikom (FM-M\, IŠRM-M\, MAT-M\, 
 PM-5)\, Vaje (V)\nLetniki: magistrski študij (FM)\, magistrski študij (I
 ŠRM)\, magistrski študij (M)\, 5. letnik (PM)\nIzvajalci: Gašper Domen 
 Romih\nProstor: 3.10
LOCATION:3.10
ORGANIZER:Gašper Domen Romih
RELATED-TO:fmf-AFLABS-URNIK:srecanje:7104
X-WR-TIMEZONE:Europe/Ljubljana
END:VEVENT
BEGIN:VEVENT
SUMMARY:Matematika z računalnikom (FM-M\, IŠRM-M\, MAT-M\, PM-5)\, Vaje 
 (V)
DTSTART;TZID=Europe/Ljubljana:20220323T100000
DTEND;TZID=Europe/Ljubljana:20220323T120000
DTSTAMP:20260425T101959Z
UID:fmf-AFLABS-URNIK:premaknjeno-srecanje:67751
ATTENDEE:5. letnik (PM)
ATTENDEE:magistrski študij (FM)
ATTENDEE:magistrski študij (IŠRM)
ATTENDEE:magistrski študij (M)
CATEGORIES:Entry,Standard
COLOR:darkgreen
DESCRIPTION:Predmet: Matematika z računalnikom (FM-M\, IŠRM-M\, MAT-M\, 
 PM-5)\, Vaje (V)\nLetniki: magistrski študij (FM)\, magistrski študij (I
 ŠRM)\, magistrski študij (M)\, 5. letnik (PM)\nIzvajalci: Gašper Domen 
 Romih\nProstor: 3.10
LOCATION:3.10
ORGANIZER:Gašper Domen Romih
RELATED-TO:fmf-AFLABS-URNIK:srecanje:7104
X-WR-TIMEZONE:Europe/Ljubljana
END:VEVENT
BEGIN:VEVENT
SUMMARY:Matematika z računalnikom (FM-M\, IŠRM-M\, MAT-M\, PM-5)\, Vaje 
 (V)
DTSTART;TZID=Europe/Ljubljana:20220330T100000
DTEND;TZID=Europe/Ljubljana:20220330T120000
DTSTAMP:20260425T101959Z
UID:fmf-AFLABS-URNIK:premaknjeno-srecanje:67752
ATTENDEE:5. letnik (PM)
ATTENDEE:magistrski študij (FM)
ATTENDEE:magistrski študij (IŠRM)
ATTENDEE:magistrski študij (M)
CATEGORIES:Entry,Standard
COLOR:darkgreen
DESCRIPTION:Predmet: Matematika z računalnikom (FM-M\, IŠRM-M\, MAT-M\, 
 PM-5)\, Vaje (V)\nLetniki: magistrski študij (FM)\, magistrski študij (I
 ŠRM)\, magistrski študij (M)\, 5. letnik (PM)\nIzvajalci: Gašper Domen 
 Romih\nProstor: 3.10
LOCATION:3.10
ORGANIZER:Gašper Domen Romih
RELATED-TO:fmf-AFLABS-URNIK:srecanje:7104
X-WR-TIMEZONE:Europe/Ljubljana
END:VEVENT
BEGIN:VEVENT
SUMMARY:Matematika z računalnikom (FM-M\, IŠRM-M\, MAT-M\, PM-5)\, Vaje 
 (V)
DTSTART;TZID=Europe/Ljubljana:20220406T100000
DTEND;TZID=Europe/Ljubljana:20220406T120000
DTSTAMP:20260425T101959Z
UID:fmf-AFLABS-URNIK:premaknjeno-srecanje:67753
ATTENDEE:5. letnik (PM)
ATTENDEE:magistrski študij (FM)
ATTENDEE:magistrski študij (IŠRM)
ATTENDEE:magistrski študij (M)
CATEGORIES:Entry,Standard
COLOR:darkgreen
DESCRIPTION:Predmet: Matematika z računalnikom (FM-M\, IŠRM-M\, MAT-M\, 
 PM-5)\, Vaje (V)\nLetniki: magistrski študij (FM)\, magistrski študij (I
 ŠRM)\, magistrski študij (M)\, 5. letnik (PM)\nIzvajalci: Gašper Domen 
 Romih\nProstor: 3.10
LOCATION:3.10
ORGANIZER:Gašper Domen Romih
RELATED-TO:fmf-AFLABS-URNIK:srecanje:7104
X-WR-TIMEZONE:Europe/Ljubljana
END:VEVENT
BEGIN:VEVENT
SUMMARY:Matematika z računalnikom (FM-M\, IŠRM-M\, MAT-M\, PM-5)\, Vaje 
 (V)
DTSTART;TZID=Europe/Ljubljana:20220413T100000
DTEND;TZID=Europe/Ljubljana:20220413T120000
DTSTAMP:20260425T101959Z
UID:fmf-AFLABS-URNIK:premaknjeno-srecanje:67754
ATTENDEE:5. letnik (PM)
ATTENDEE:magistrski študij (FM)
ATTENDEE:magistrski študij (IŠRM)
ATTENDEE:magistrski študij (M)
CATEGORIES:Entry,Standard
COLOR:darkgreen
DESCRIPTION:Predmet: Matematika z računalnikom (FM-M\, IŠRM-M\, MAT-M\, 
 PM-5)\, Vaje (V)\nLetniki: magistrski študij (FM)\, magistrski študij (I
 ŠRM)\, magistrski študij (M)\, 5. letnik (PM)\nIzvajalci: Gašper Domen 
 Romih\nProstor: 3.10
LOCATION:3.10
ORGANIZER:Gašper Domen Romih
RELATED-TO:fmf-AFLABS-URNIK:srecanje:7104
X-WR-TIMEZONE:Europe/Ljubljana
END:VEVENT
BEGIN:VEVENT
SUMMARY:Matematika z računalnikom (FM-M\, IŠRM-M\, MAT-M\, PM-5)\, Vaje 
 (V)
DTSTART;TZID=Europe/Ljubljana:20220420T100000
DTEND;TZID=Europe/Ljubljana:20220420T120000
DTSTAMP:20260425T101959Z
UID:fmf-AFLABS-URNIK:premaknjeno-srecanje:67755
ATTENDEE:5. letnik (PM)
ATTENDEE:magistrski študij (FM)
ATTENDEE:magistrski študij (IŠRM)
ATTENDEE:magistrski študij (M)
CATEGORIES:Entry,Standard
COLOR:darkgreen
DESCRIPTION:Predmet: Matematika z računalnikom (FM-M\, IŠRM-M\, MAT-M\, 
 PM-5)\, Vaje (V)\nLetniki: magistrski študij (FM)\, magistrski študij (I
 ŠRM)\, magistrski študij (M)\, 5. letnik (PM)\nIzvajalci: Gašper Domen 
 Romih\nProstor: 3.10
LOCATION:3.10
ORGANIZER:Gašper Domen Romih
RELATED-TO:fmf-AFLABS-URNIK:srecanje:7104
X-WR-TIMEZONE:Europe/Ljubljana
END:VEVENT
BEGIN:VEVENT
SUMMARY:Matematika z računalnikom (FM-M\, IŠRM-M\, MAT-M\, PM-5)\, Vaje 
 (V)
DTSTART;TZID=Europe/Ljubljana:20220427T100000
DTEND;TZID=Europe/Ljubljana:20220427T120000
DTSTAMP:20260425T101959Z
UID:fmf-AFLABS-URNIK:premaknjeno-srecanje:67756
ATTENDEE:5. letnik (PM)
ATTENDEE:magistrski študij (FM)
ATTENDEE:magistrski študij (IŠRM)
ATTENDEE:magistrski študij (M)
CATEGORIES:Entry,Standard
COLOR:darkgreen
DESCRIPTION:Predmet: Matematika z računalnikom (FM-M\, IŠRM-M\, MAT-M\, 
 PM-5)\, Vaje (V)\nLetniki: magistrski študij (FM)\, magistrski študij (I
 ŠRM)\, magistrski študij (M)\, 5. letnik (PM)\nIzvajalci: Gašper Domen 
 Romih\nProstor: 3.10
LOCATION:3.10
ORGANIZER:Gašper Domen Romih
RELATED-TO:fmf-AFLABS-URNIK:srecanje:7104
X-WR-TIMEZONE:Europe/Ljubljana
END:VEVENT
BEGIN:VEVENT
SUMMARY:Matematika z računalnikom (FM-M\, IŠRM-M\, MAT-M\, PM-5)\, Vaje 
 (V)
DTSTART;TZID=Europe/Ljubljana:20220504T100000
DTEND;TZID=Europe/Ljubljana:20220504T120000
DTSTAMP:20260425T101959Z
UID:fmf-AFLABS-URNIK:premaknjeno-srecanje:67757
ATTENDEE:5. letnik (PM)
ATTENDEE:magistrski študij (FM)
ATTENDEE:magistrski študij (IŠRM)
ATTENDEE:magistrski študij (M)
CATEGORIES:Entry,Standard
COLOR:darkgreen
DESCRIPTION:Predmet: Matematika z računalnikom (FM-M\, IŠRM-M\, MAT-M\, 
 PM-5)\, Vaje (V)\nLetniki: magistrski študij (FM)\, magistrski študij (I
 ŠRM)\, magistrski študij (M)\, 5. letnik (PM)\nIzvajalci: Gašper Domen 
 Romih\nProstor: 3.10
LOCATION:3.10
ORGANIZER:Gašper Domen Romih
RELATED-TO:fmf-AFLABS-URNIK:srecanje:7104
X-WR-TIMEZONE:Europe/Ljubljana
END:VEVENT
BEGIN:VEVENT
SUMMARY:Matematika z računalnikom (FM-M\, IŠRM-M\, MAT-M\, PM-5)\, Vaje 
 (V)
DTSTART;TZID=Europe/Ljubljana:20220511T100000
DTEND;TZID=Europe/Ljubljana:20220511T120000
DTSTAMP:20260425T101959Z
UID:fmf-AFLABS-URNIK:premaknjeno-srecanje:67758
ATTENDEE:5. letnik (PM)
ATTENDEE:magistrski študij (FM)
ATTENDEE:magistrski študij (IŠRM)
ATTENDEE:magistrski študij (M)
CATEGORIES:Entry,Standard
COLOR:darkgreen
DESCRIPTION:Predmet: Matematika z računalnikom (FM-M\, IŠRM-M\, MAT-M\, 
 PM-5)\, Vaje (V)\nLetniki: magistrski študij (FM)\, magistrski študij (I
 ŠRM)\, magistrski študij (M)\, 5. letnik (PM)\nIzvajalci: Gašper Domen 
 Romih\nProstor: 3.10
LOCATION:3.10
ORGANIZER:Gašper Domen Romih
RELATED-TO:fmf-AFLABS-URNIK:srecanje:7104
X-WR-TIMEZONE:Europe/Ljubljana
END:VEVENT
BEGIN:VEVENT
SUMMARY:Matematika z računalnikom (FM-M\, IŠRM-M\, MAT-M\, PM-5)\, Vaje 
 (V)
DTSTART;TZID=Europe/Ljubljana:20220518T100000
DTEND;TZID=Europe/Ljubljana:20220518T120000
DTSTAMP:20260425T101959Z
UID:fmf-AFLABS-URNIK:premaknjeno-srecanje:67759
ATTENDEE:5. letnik (PM)
ATTENDEE:magistrski študij (FM)
ATTENDEE:magistrski študij (IŠRM)
ATTENDEE:magistrski študij (M)
CATEGORIES:Entry,Standard
COLOR:darkgreen
DESCRIPTION:Predmet: Matematika z računalnikom (FM-M\, IŠRM-M\, MAT-M\, 
 PM-5)\, Vaje (V)\nLetniki: magistrski študij (FM)\, magistrski študij (I
 ŠRM)\, magistrski študij (M)\, 5. letnik (PM)\nIzvajalci: Gašper Domen 
 Romih\nProstor: 3.10
LOCATION:3.10
ORGANIZER:Gašper Domen Romih
RELATED-TO:fmf-AFLABS-URNIK:srecanje:7104
X-WR-TIMEZONE:Europe/Ljubljana
END:VEVENT
BEGIN:VEVENT
SUMMARY:Matematika z računalnikom (FM-M\, IŠRM-M\, MAT-M\, PM-5)\, Vaje 
 (V)
DTSTART;TZID=Europe/Ljubljana:20220525T100000
DTEND;TZID=Europe/Ljubljana:20220525T120000
DTSTAMP:20260425T101959Z
UID:fmf-AFLABS-URNIK:premaknjeno-srecanje:67760
ATTENDEE:5. letnik (PM)
ATTENDEE:magistrski študij (FM)
ATTENDEE:magistrski študij (IŠRM)
ATTENDEE:magistrski študij (M)
CATEGORIES:Entry,Standard
COLOR:darkgreen
DESCRIPTION:Predmet: Matematika z računalnikom (FM-M\, IŠRM-M\, MAT-M\, 
 PM-5)\, Vaje (V)\nLetniki: magistrski študij (FM)\, magistrski študij (I
 ŠRM)\, magistrski študij (M)\, 5. letnik (PM)\nIzvajalci: Gašper Domen 
 Romih\nProstor: 3.10
LOCATION:3.10
ORGANIZER:Gašper Domen Romih
RELATED-TO:fmf-AFLABS-URNIK:srecanje:7104
X-WR-TIMEZONE:Europe/Ljubljana
END:VEVENT
BEGIN:VEVENT
SUMMARY:Računalništvo 2 (APM-3)\, Vaje (V)
DTSTART;TZID=Europe/Ljubljana:20220217T080000
DTEND;TZID=Europe/Ljubljana:20220217T110000
DTSTAMP:20260425T101959Z
UID:fmf-AFLABS-URNIK:premaknjeno-srecanje:95326
ATTENDEE:3. letnik (APM)
CATEGORIES:Entry,Standard
COLOR:darkgreen
DESCRIPTION:Predmet: Računalništvo 2 (APM-3)\, Vaje (V)\nLetniki: 3. let
 nik (APM)\nIzvajalci: Gašper Domen Romih\nProstor: 3.10
LOCATION:3.10
ORGANIZER:Gašper Domen Romih
RELATED-TO:fmf-AFLABS-URNIK:srecanje:7370
X-WR-TIMEZONE:Europe/Ljubljana
END:VEVENT
BEGIN:VEVENT
SUMMARY:Računalništvo 2 (APM-3)\, Vaje (V)
DTSTART;TZID=Europe/Ljubljana:20220224T080000
DTEND;TZID=Europe/Ljubljana:20220224T110000
DTSTAMP:20260425T101959Z
UID:fmf-AFLABS-URNIK:premaknjeno-srecanje:95327
ATTENDEE:3. letnik (APM)
CATEGORIES:Entry,Standard
COLOR:darkgreen
DESCRIPTION:Predmet: Računalništvo 2 (APM-3)\, Vaje (V)\nLetniki: 3. let
 nik (APM)\nIzvajalci: Gašper Domen Romih\nProstor: 3.10
LOCATION:3.10
ORGANIZER:Gašper Domen Romih
RELATED-TO:fmf-AFLABS-URNIK:srecanje:7370
X-WR-TIMEZONE:Europe/Ljubljana
END:VEVENT
BEGIN:VEVENT
SUMMARY:Računalništvo 2 (APM-3)\, Vaje (V)
DTSTART;TZID=Europe/Ljubljana:20220303T080000
DTEND;TZID=Europe/Ljubljana:20220303T110000
DTSTAMP:20260425T101959Z
UID:fmf-AFLABS-URNIK:premaknjeno-srecanje:95328
ATTENDEE:3. letnik (APM)
CATEGORIES:Entry,Standard
COLOR:darkgreen
DESCRIPTION:Predmet: Računalništvo 2 (APM-3)\, Vaje (V)\nLetniki: 3. let
 nik (APM)\nIzvajalci: Gašper Domen Romih\nProstor: 3.10
LOCATION:3.10
ORGANIZER:Gašper Domen Romih
RELATED-TO:fmf-AFLABS-URNIK:srecanje:7370
X-WR-TIMEZONE:Europe/Ljubljana
END:VEVENT
BEGIN:VEVENT
SUMMARY:Računalništvo 2 (APM-3)\, Vaje (V)
DTSTART;TZID=Europe/Ljubljana:20220310T080000
DTEND;TZID=Europe/Ljubljana:20220310T110000
DTSTAMP:20260425T101959Z
UID:fmf-AFLABS-URNIK:premaknjeno-srecanje:95329
ATTENDEE:3. letnik (APM)
CATEGORIES:Entry,Standard
COLOR:darkgreen
DESCRIPTION:Predmet: Računalništvo 2 (APM-3)\, Vaje (V)\nLetniki: 3. let
 nik (APM)\nIzvajalci: Gašper Domen Romih\nProstor: 3.10
LOCATION:3.10
ORGANIZER:Gašper Domen Romih
RELATED-TO:fmf-AFLABS-URNIK:srecanje:7370
X-WR-TIMEZONE:Europe/Ljubljana
END:VEVENT
BEGIN:VEVENT
SUMMARY:Računalništvo 2 (APM-3)\, Vaje (V)
DTSTART;TZID=Europe/Ljubljana:20220317T080000
DTEND;TZID=Europe/Ljubljana:20220317T110000
DTSTAMP:20260425T101959Z
UID:fmf-AFLABS-URNIK:premaknjeno-srecanje:95330
ATTENDEE:3. letnik (APM)
CATEGORIES:Entry,Standard
COLOR:darkgreen
DESCRIPTION:Predmet: Računalništvo 2 (APM-3)\, Vaje (V)\nLetniki: 3. let
 nik (APM)\nIzvajalci: Gašper Domen Romih\nProstor: 3.10
LOCATION:3.10
ORGANIZER:Gašper Domen Romih
RELATED-TO:fmf-AFLABS-URNIK:srecanje:7370
X-WR-TIMEZONE:Europe/Ljubljana
END:VEVENT
BEGIN:VEVENT
SUMMARY:Računalništvo 2 (APM-3)\, Vaje (V)
DTSTART;TZID=Europe/Ljubljana:20220324T080000
DTEND;TZID=Europe/Ljubljana:20220324T110000
DTSTAMP:20260425T101959Z
UID:fmf-AFLABS-URNIK:premaknjeno-srecanje:95331
ATTENDEE:3. letnik (APM)
CATEGORIES:Entry,Standard
COLOR:darkgreen
DESCRIPTION:Predmet: Računalništvo 2 (APM-3)\, Vaje (V)\nLetniki: 3. let
 nik (APM)\nIzvajalci: Gašper Domen Romih\nProstor: 3.10
LOCATION:3.10
ORGANIZER:Gašper Domen Romih
RELATED-TO:fmf-AFLABS-URNIK:srecanje:7370
X-WR-TIMEZONE:Europe/Ljubljana
END:VEVENT
BEGIN:VEVENT
SUMMARY:Računalništvo 2 (APM-3)\, Vaje (V)
DTSTART;TZID=Europe/Ljubljana:20220331T080000
DTEND;TZID=Europe/Ljubljana:20220331T110000
DTSTAMP:20260425T101959Z
UID:fmf-AFLABS-URNIK:premaknjeno-srecanje:95332
ATTENDEE:3. letnik (APM)
CATEGORIES:Entry,Standard
COLOR:darkgreen
DESCRIPTION:Predmet: Računalništvo 2 (APM-3)\, Vaje (V)\nLetniki: 3. let
 nik (APM)\nIzvajalci: Gašper Domen Romih\nProstor: 3.10
LOCATION:3.10
ORGANIZER:Gašper Domen Romih
RELATED-TO:fmf-AFLABS-URNIK:srecanje:7370
X-WR-TIMEZONE:Europe/Ljubljana
END:VEVENT
BEGIN:VEVENT
SUMMARY:Računalništvo 2 (APM-3)\, Vaje (V)
DTSTART;TZID=Europe/Ljubljana:20220407T080000
DTEND;TZID=Europe/Ljubljana:20220407T110000
DTSTAMP:20260425T101959Z
UID:fmf-AFLABS-URNIK:premaknjeno-srecanje:95333
ATTENDEE:3. letnik (APM)
CATEGORIES:Entry,Standard
COLOR:darkgreen
DESCRIPTION:Predmet: Računalništvo 2 (APM-3)\, Vaje (V)\nLetniki: 3. let
 nik (APM)\nIzvajalci: Gašper Domen Romih\nProstor: 3.10
LOCATION:3.10
ORGANIZER:Gašper Domen Romih
RELATED-TO:fmf-AFLABS-URNIK:srecanje:7370
X-WR-TIMEZONE:Europe/Ljubljana
END:VEVENT
BEGIN:VEVENT
SUMMARY:Računalništvo 2 (APM-3)\, Vaje (V)
DTSTART;TZID=Europe/Ljubljana:20220414T080000
DTEND;TZID=Europe/Ljubljana:20220414T110000
DTSTAMP:20260425T101959Z
UID:fmf-AFLABS-URNIK:premaknjeno-srecanje:95334
ATTENDEE:3. letnik (APM)
CATEGORIES:Entry,Standard
COLOR:darkgreen
DESCRIPTION:Predmet: Računalništvo 2 (APM-3)\, Vaje (V)\nLetniki: 3. let
 nik (APM)\nIzvajalci: Gašper Domen Romih\nProstor: 3.10
LOCATION:3.10
ORGANIZER:Gašper Domen Romih
RELATED-TO:fmf-AFLABS-URNIK:srecanje:7370
X-WR-TIMEZONE:Europe/Ljubljana
END:VEVENT
BEGIN:VEVENT
SUMMARY:Računalništvo 2 (APM-3)\, Vaje (V)
DTSTART;TZID=Europe/Ljubljana:20220421T080000
DTEND;TZID=Europe/Ljubljana:20220421T110000
DTSTAMP:20260425T101959Z
UID:fmf-AFLABS-URNIK:premaknjeno-srecanje:95335
ATTENDEE:3. letnik (APM)
CATEGORIES:Entry,Standard
COLOR:darkgreen
DESCRIPTION:Predmet: Računalništvo 2 (APM-3)\, Vaje (V)\nLetniki: 3. let
 nik (APM)\nIzvajalci: Gašper Domen Romih\nProstor: 3.10
LOCATION:3.10
ORGANIZER:Gašper Domen Romih
RELATED-TO:fmf-AFLABS-URNIK:srecanje:7370
X-WR-TIMEZONE:Europe/Ljubljana
END:VEVENT
BEGIN:VEVENT
SUMMARY:Računalništvo 2 (APM-3)\, Vaje (V)
DTSTART;TZID=Europe/Ljubljana:20220428T080000
DTEND;TZID=Europe/Ljubljana:20220428T110000
DTSTAMP:20260425T101959Z
UID:fmf-AFLABS-URNIK:premaknjeno-srecanje:95336
ATTENDEE:3. letnik (APM)
CATEGORIES:Entry,Standard
COLOR:darkgreen
DESCRIPTION:Predmet: Računalništvo 2 (APM-3)\, Vaje (V)\nLetniki: 3. let
 nik (APM)\nIzvajalci: Gašper Domen Romih\nProstor: 3.10
LOCATION:3.10
ORGANIZER:Gašper Domen Romih
RELATED-TO:fmf-AFLABS-URNIK:srecanje:7370
X-WR-TIMEZONE:Europe/Ljubljana
END:VEVENT
BEGIN:VEVENT
SUMMARY:Računalništvo 2 (APM-3)\, Vaje (V)
DTSTART;TZID=Europe/Ljubljana:20220505T080000
DTEND;TZID=Europe/Ljubljana:20220505T110000
DTSTAMP:20260425T101959Z
UID:fmf-AFLABS-URNIK:premaknjeno-srecanje:95337
ATTENDEE:3. letnik (APM)
CATEGORIES:Entry,Standard
COLOR:darkgreen
DESCRIPTION:Predmet: Računalništvo 2 (APM-3)\, Vaje (V)\nLetniki: 3. let
 nik (APM)\nIzvajalci: Gašper Domen Romih\nProstor: 3.10
LOCATION:3.10
ORGANIZER:Gašper Domen Romih
RELATED-TO:fmf-AFLABS-URNIK:srecanje:7370
X-WR-TIMEZONE:Europe/Ljubljana
END:VEVENT
BEGIN:VEVENT
SUMMARY:Računalništvo 2 (APM-3)\, Vaje (V)
DTSTART;TZID=Europe/Ljubljana:20220512T080000
DTEND;TZID=Europe/Ljubljana:20220512T110000
DTSTAMP:20260425T101959Z
UID:fmf-AFLABS-URNIK:premaknjeno-srecanje:95338
ATTENDEE:3. letnik (APM)
CATEGORIES:Entry,Standard
COLOR:darkgreen
DESCRIPTION:Predmet: Računalništvo 2 (APM-3)\, Vaje (V)\nLetniki: 3. let
 nik (APM)\nIzvajalci: Gašper Domen Romih\nProstor: 3.10
LOCATION:3.10
ORGANIZER:Gašper Domen Romih
RELATED-TO:fmf-AFLABS-URNIK:srecanje:7370
X-WR-TIMEZONE:Europe/Ljubljana
END:VEVENT
BEGIN:VEVENT
SUMMARY:Računalništvo 2 (APM-3)\, Vaje (V)
DTSTART;TZID=Europe/Ljubljana:20220519T080000
DTEND;TZID=Europe/Ljubljana:20220519T110000
DTSTAMP:20260425T101959Z
UID:fmf-AFLABS-URNIK:premaknjeno-srecanje:95339
ATTENDEE:3. letnik (APM)
CATEGORIES:Entry,Standard
COLOR:darkgreen
DESCRIPTION:Predmet: Računalništvo 2 (APM-3)\, Vaje (V)\nLetniki: 3. let
 nik (APM)\nIzvajalci: Gašper Domen Romih\nProstor: 3.10
LOCATION:3.10
ORGANIZER:Gašper Domen Romih
RELATED-TO:fmf-AFLABS-URNIK:srecanje:7370
X-WR-TIMEZONE:Europe/Ljubljana
END:VEVENT
BEGIN:VEVENT
SUMMARY:Računalništvo 2 (APM-3)\, Vaje (V)
DTSTART;TZID=Europe/Ljubljana:20220526T080000
DTEND;TZID=Europe/Ljubljana:20220526T110000
DTSTAMP:20260425T101959Z
UID:fmf-AFLABS-URNIK:premaknjeno-srecanje:95340
ATTENDEE:3. letnik (APM)
CATEGORIES:Entry,Standard
COLOR:darkgreen
DESCRIPTION:Predmet: Računalništvo 2 (APM-3)\, Vaje (V)\nLetniki: 3. let
 nik (APM)\nIzvajalci: Gašper Domen Romih\nProstor: 3.10
LOCATION:3.10
ORGANIZER:Gašper Domen Romih
RELATED-TO:fmf-AFLABS-URNIK:srecanje:7370
X-WR-TIMEZONE:Europe/Ljubljana
END:VEVENT
BEGIN:VEVENT
SUMMARY:Rezervacija
DTSTART;TZID=Europe/Ljubljana:20220304T170000
DTEND;TZID=Europe/Ljubljana:20220304T200000
DTSTAMP:20260425T101959Z
UID:fmf-AFLABS-URNIK:rezervacija:8675
ATTENDEE:5. letnik (PM)
ATTENDEE:magistrski študij (FM)
ATTENDEE:magistrski študij (IŠRM)
ATTENDEE:magistrski študij (M)
CATEGORIES:Reservation
COLOR:royalblue
DESCRIPTION:Predmeti: Izbrana poglavja iz računalniške matematike  / Ver
 jetnostne metode v računalništvu (FM-M\, IŠRM-M\, MAT-M\, PM-5)\nLetnik
 i: magistrski študij (FM)\, magistrski študij (IŠRM)\, magistrski štud
 ij (M)\, 5. letnik (PM)\nIzvajalci: Gašper Domen Romih\nProstori: 2.05
LOCATION:2.05
ORGANIZER:Gašper Domen Romih
X-WR-TIMEZONE:Europe/Ljubljana
END:VEVENT
END:VCALENDAR
