BEGIN:VCALENDAR
VERSION:2.0
PRODID:-//AFLabs urnik izvoz - fmf//aflabs.si//SI
DTSTAMP:20260423T142617Z
NAME:UL FMF urnik
REFRESH-INTERVAL:PT1H
SOURCE:https://urnik.fmf.uni-lj.si/teacher/829?day=2023-06-05&export=1
URL:https://urnik.fmf.uni-lj.si/teacher/829?day=2023-06-05&export=1
X-PUBLISHED-TTL:PT1H
X-WR-CALNAME:UL FMF urnik
X-WR-TIMEZONE:Europe/Ljubljana
BEGIN:VTIMEZONE
TZID:Europe/Ljubljana
BEGIN:DAYLIGHT
DTSTART:20260329T020000
RDATE:20260329T020000
RDATE:20270328T020000
TZNAME:CEST
TZOFFSETFROM:+0100
TZOFFSETTO:+0200
END:DAYLIGHT
BEGIN:STANDARD
DTSTART:20261025T030000
RDATE:20261025T030000
RDATE:20271031T030000
TZNAME:CET
TZOFFSETFROM:+0200
TZOFFSETTO:+0100
END:STANDARD
END:VTIMEZONE
BEGIN:VEVENT
SUMMARY:Računalništvo 2 (APM-3)\, Vaje (V)
DTSTART;TZID=Europe/Ljubljana:20230503T100000
DTEND;TZID=Europe/Ljubljana:20230503T130000
DTSTAMP:20260423T142617Z
UID:fmf-AFLABS-URNIK:premaknjeno-srecanje:95321
ATTENDEE:3. letnik (APM)
CATEGORIES:Entry,Standard
COLOR:darkgreen
DESCRIPTION:Predmet: Računalništvo 2 (APM-3)\, Vaje (V)\nLetniki: 3. let
 nik (APM)\nIzvajalci: Gašper Domen Romih\nProstor: 3.10
LOCATION:3.10
ORGANIZER:Gašper Domen Romih
RELATED-TO:fmf-AFLABS-URNIK:srecanje:8680
X-WR-TIMEZONE:Europe/Ljubljana
END:VEVENT
BEGIN:VEVENT
SUMMARY:Računalništvo 2 (APM-3)\, Vaje (V)
DTSTART;TZID=Europe/Ljubljana:20230510T100000
DTEND;TZID=Europe/Ljubljana:20230510T130000
DTSTAMP:20260423T142617Z
UID:fmf-AFLABS-URNIK:premaknjeno-srecanje:95322
ATTENDEE:3. letnik (APM)
CATEGORIES:Entry,Standard
COLOR:darkgreen
DESCRIPTION:Predmet: Računalništvo 2 (APM-3)\, Vaje (V)\nLetniki: 3. let
 nik (APM)\nIzvajalci: Gašper Domen Romih\nProstor: 3.10
LOCATION:3.10
ORGANIZER:Gašper Domen Romih
RELATED-TO:fmf-AFLABS-URNIK:srecanje:8680
X-WR-TIMEZONE:Europe/Ljubljana
END:VEVENT
BEGIN:VEVENT
SUMMARY:Računalništvo 2 (APM-3)\, Vaje (V)
DTSTART;TZID=Europe/Ljubljana:20230517T100000
DTEND;TZID=Europe/Ljubljana:20230517T130000
DTSTAMP:20260423T142617Z
UID:fmf-AFLABS-URNIK:premaknjeno-srecanje:95323
ATTENDEE:3. letnik (APM)
CATEGORIES:Entry,Standard
COLOR:darkgreen
DESCRIPTION:Predmet: Računalništvo 2 (APM-3)\, Vaje (V)\nLetniki: 3. let
 nik (APM)\nIzvajalci: Gašper Domen Romih\nProstor: 3.10
LOCATION:3.10
ORGANIZER:Gašper Domen Romih
RELATED-TO:fmf-AFLABS-URNIK:srecanje:8680
X-WR-TIMEZONE:Europe/Ljubljana
END:VEVENT
BEGIN:VEVENT
SUMMARY:Računalništvo 2 (APM-3)\, Vaje (V)
DTSTART;TZID=Europe/Ljubljana:20230524T100000
DTEND;TZID=Europe/Ljubljana:20230524T130000
DTSTAMP:20260423T142617Z
UID:fmf-AFLABS-URNIK:premaknjeno-srecanje:95324
ATTENDEE:3. letnik (APM)
CATEGORIES:Entry,Standard
COLOR:darkgreen
DESCRIPTION:Predmet: Računalništvo 2 (APM-3)\, Vaje (V)\nLetniki: 3. let
 nik (APM)\nIzvajalci: Gašper Domen Romih\nProstor: 3.10
LOCATION:3.10
ORGANIZER:Gašper Domen Romih
RELATED-TO:fmf-AFLABS-URNIK:srecanje:8680
X-WR-TIMEZONE:Europe/Ljubljana
END:VEVENT
BEGIN:VEVENT
SUMMARY:Računalništvo 2 (APM-3)\, Vaje (V)
DTSTART;TZID=Europe/Ljubljana:20230531T100000
DTEND;TZID=Europe/Ljubljana:20230531T130000
DTSTAMP:20260423T142617Z
UID:fmf-AFLABS-URNIK:premaknjeno-srecanje:95325
ATTENDEE:3. letnik (APM)
CATEGORIES:Entry,Standard
COLOR:darkgreen
DESCRIPTION:Predmet: Računalništvo 2 (APM-3)\, Vaje (V)\nLetniki: 3. let
 nik (APM)\nIzvajalci: Gašper Domen Romih\nProstor: 3.10
LOCATION:3.10
ORGANIZER:Gašper Domen Romih
RELATED-TO:fmf-AFLABS-URNIK:srecanje:8680
X-WR-TIMEZONE:Europe/Ljubljana
END:VEVENT
BEGIN:VEVENT
SUMMARY:Osnove podatkovnih baz (FM-3\, MAT-3)\, Vaje (V)
DTSTART;TZID=Europe/Ljubljana:20230504T120000
DTEND;TZID=Europe/Ljubljana:20230504T140000
DTSTAMP:20260423T142617Z
UID:fmf-AFLABS-URNIK:premaknjeno-srecanje:81488
ATTENDEE:3. letnik (FM)
ATTENDEE:3. letnik (M)
CATEGORIES:Entry,Standard
COLOR:darkgreen
DESCRIPTION:Predmet: Osnove podatkovnih baz (FM-3\, MAT-3)\, Vaje (V)\nLet
 niki: 3. letnik (FM)\, 3. letnik (M)\nIzvajalci: Gašper Domen Romih\nPros
 tor: 3.11
LOCATION:3.11
ORGANIZER:Gašper Domen Romih
RELATED-TO:fmf-AFLABS-URNIK:srecanje:8617
X-WR-TIMEZONE:Europe/Ljubljana
END:VEVENT
BEGIN:VEVENT
SUMMARY:Osnove podatkovnih baz (FM-3\, MAT-3)\, Vaje (V)
DTSTART;TZID=Europe/Ljubljana:20230511T120000
DTEND;TZID=Europe/Ljubljana:20230511T140000
DTSTAMP:20260423T142617Z
UID:fmf-AFLABS-URNIK:premaknjeno-srecanje:81489
ATTENDEE:3. letnik (FM)
ATTENDEE:3. letnik (M)
CATEGORIES:Entry,Standard
COLOR:darkgreen
DESCRIPTION:Predmet: Osnove podatkovnih baz (FM-3\, MAT-3)\, Vaje (V)\nLet
 niki: 3. letnik (FM)\, 3. letnik (M)\nIzvajalci: Gašper Domen Romih\nPros
 tor: 3.11
LOCATION:3.11
ORGANIZER:Gašper Domen Romih
RELATED-TO:fmf-AFLABS-URNIK:srecanje:8617
X-WR-TIMEZONE:Europe/Ljubljana
END:VEVENT
BEGIN:VEVENT
SUMMARY:Osnove podatkovnih baz (FM-3\, MAT-3)\, Vaje (V)
DTSTART;TZID=Europe/Ljubljana:20230518T120000
DTEND;TZID=Europe/Ljubljana:20230518T140000
DTSTAMP:20260423T142617Z
UID:fmf-AFLABS-URNIK:premaknjeno-srecanje:81490
ATTENDEE:3. letnik (FM)
ATTENDEE:3. letnik (M)
CATEGORIES:Entry,Standard
COLOR:darkgreen
DESCRIPTION:Predmet: Osnove podatkovnih baz (FM-3\, MAT-3)\, Vaje (V)\nLet
 niki: 3. letnik (FM)\, 3. letnik (M)\nIzvajalci: Gašper Domen Romih\nPros
 tor: 3.11
LOCATION:3.11
ORGANIZER:Gašper Domen Romih
RELATED-TO:fmf-AFLABS-URNIK:srecanje:8617
X-WR-TIMEZONE:Europe/Ljubljana
END:VEVENT
BEGIN:VEVENT
SUMMARY:Osnove podatkovnih baz (FM-3\, MAT-3)\, Vaje (V)
DTSTART;TZID=Europe/Ljubljana:20230525T120000
DTEND;TZID=Europe/Ljubljana:20230525T140000
DTSTAMP:20260423T142617Z
UID:fmf-AFLABS-URNIK:premaknjeno-srecanje:81491
ATTENDEE:3. letnik (FM)
ATTENDEE:3. letnik (M)
CATEGORIES:Entry,Standard
COLOR:darkgreen
DESCRIPTION:Predmet: Osnove podatkovnih baz (FM-3\, MAT-3)\, Vaje (V)\nLet
 niki: 3. letnik (FM)\, 3. letnik (M)\nIzvajalci: Gašper Domen Romih\nPros
 tor: 3.11
LOCATION:3.11
ORGANIZER:Gašper Domen Romih
RELATED-TO:fmf-AFLABS-URNIK:srecanje:8617
X-WR-TIMEZONE:Europe/Ljubljana
END:VEVENT
BEGIN:VEVENT
SUMMARY:Osnove podatkovnih baz (FM-3\, MAT-3)\, Vaje (V)
DTSTART;TZID=Europe/Ljubljana:20230601T120000
DTEND;TZID=Europe/Ljubljana:20230601T140000
DTSTAMP:20260423T142617Z
UID:fmf-AFLABS-URNIK:premaknjeno-srecanje:81492
ATTENDEE:3. letnik (FM)
ATTENDEE:3. letnik (M)
CATEGORIES:Entry,Standard
COLOR:darkgreen
DESCRIPTION:Predmet: Osnove podatkovnih baz (FM-3\, MAT-3)\, Vaje (V)\nLet
 niki: 3. letnik (FM)\, 3. letnik (M)\nIzvajalci: Gašper Domen Romih\nPros
 tor: 3.11
LOCATION:3.11
ORGANIZER:Gašper Domen Romih
RELATED-TO:fmf-AFLABS-URNIK:srecanje:8617
X-WR-TIMEZONE:Europe/Ljubljana
END:VEVENT
END:VCALENDAR
