BEGIN:VCALENDAR
VERSION:2.0
PRODID:-//AFLabs urnik izvoz - fmf//aflabs.si//SI
DTSTAMP:20260426T031135Z
NAME:UL FMF urnik
REFRESH-INTERVAL:PT1H
SOURCE:https://urnik.fmf.uni-lj.si/teacher/829?day=2023-09-04&export=1
URL:https://urnik.fmf.uni-lj.si/teacher/829?day=2023-09-04&export=1
X-PUBLISHED-TTL:PT1H
X-WR-CALNAME:UL FMF urnik
X-WR-TIMEZONE:Europe/Ljubljana
BEGIN:VTIMEZONE
TZID:Europe/Ljubljana
BEGIN:DAYLIGHT
DTSTART:20260329T020000
RDATE:20260329T020000
RDATE:20270328T020000
TZNAME:CEST
TZOFFSETFROM:+0100
TZOFFSETTO:+0200
END:DAYLIGHT
BEGIN:STANDARD
DTSTART:20261025T030000
RDATE:20261025T030000
RDATE:20271031T030000
TZNAME:CET
TZOFFSETFROM:+0200
TZOFFSETTO:+0100
END:STANDARD
END:VTIMEZONE
BEGIN:VEVENT
SUMMARY:Izbrana poglavja iz računalniške matematike  / Verjetnostne meto
 de v računalništvu (FM-M\, IŠRM-M\, MAT-M\, PM-5)\, Vaje (V)
DTSTART;TZID=Europe/Ljubljana:20231004T170000
DTEND;TZID=Europe/Ljubljana:20231004T190000
DTSTAMP:20260426T031135Z
UID:fmf-AFLABS-URNIK:premaknjeno-srecanje:44328
ATTENDEE:5. letnik (PM)
ATTENDEE:magistrski študij (FM)
ATTENDEE:magistrski študij (IŠRM)
ATTENDEE:magistrski študij (M)
CATEGORIES:Entry,Standard
COLOR:darkgreen
DESCRIPTION:Predmet: Izbrana poglavja iz računalniške matematike  / Verj
 etnostne metode v računalništvu (FM-M\, IŠRM-M\, MAT-M\, PM-5)\, Vaje (
 V)\nLetniki: magistrski študij (FM)\, magistrski študij (IŠRM)\, magist
 rski študij (M)\, 5. letnik (PM)\nIzvajalci: Gašper Domen Romih\nProstor
 : 2.02
LOCATION:2.02
ORGANIZER:Gašper Domen Romih
RELATED-TO:fmf-AFLABS-URNIK:srecanje:9182
X-WR-TIMEZONE:Europe/Ljubljana
END:VEVENT
BEGIN:VEVENT
SUMMARY:Podatkovne strukture in algoritmi 1 (FM-3\, MAT-3)\, Vaje (V)
DTSTART;TZID=Europe/Ljubljana:20231006T130000
DTEND;TZID=Europe/Ljubljana:20231006T150000
DTSTAMP:20260426T031135Z
UID:fmf-AFLABS-URNIK:premaknjeno-srecanje:83179
ATTENDEE:3. letnik (FM)
ATTENDEE:3. letnik (M)
CATEGORIES:Entry,Standard
COLOR:darkgreen
DESCRIPTION:Predmet: Podatkovne strukture in algoritmi 1 (FM-3\, MAT-3)\, 
 Vaje (V)\nLetniki: 3. letnik (FM)\, 3. letnik (M)\nIzvajalci: Gašper Dome
 n Romih\nProstor: 3.05
LOCATION:3.05
ORGANIZER:Gašper Domen Romih
RELATED-TO:fmf-AFLABS-URNIK:srecanje:9378
X-WR-TIMEZONE:Europe/Ljubljana
END:VEVENT
END:VCALENDAR
