BEGIN:VCALENDAR
VERSION:2.0
PRODID:-//AFLabs urnik izvoz - fmf//aflabs.si//SI
DTSTAMP:20260419T190208Z
NAME:UL FMF urnik
REFRESH-INTERVAL:PT1H
SOURCE:https://urnik.fmf.uni-lj.si/teacher/829?day=2024-09-09&export=1
URL:https://urnik.fmf.uni-lj.si/teacher/829?day=2024-09-09&export=1
X-PUBLISHED-TTL:PT1H
X-WR-CALNAME:UL FMF urnik
X-WR-TIMEZONE:Europe/Ljubljana
BEGIN:VTIMEZONE
TZID:Europe/Ljubljana
BEGIN:DAYLIGHT
DTSTART:20260329T020000
RDATE:20260329T020000
RDATE:20270328T020000
TZNAME:CEST
TZOFFSETFROM:+0100
TZOFFSETTO:+0200
END:DAYLIGHT
BEGIN:STANDARD
DTSTART:20261025T030000
RDATE:20261025T030000
RDATE:20271031T030000
TZNAME:CET
TZOFFSETFROM:+0200
TZOFFSETTO:+0100
END:STANDARD
END:VTIMEZONE
BEGIN:VEVENT
SUMMARY:Podatkovne strukture in algoritmi 1 (FM-3\, MAT-3)\, Vaje (V)
DTSTART;TZID=Europe/Ljubljana:20241002T120000
DTEND;TZID=Europe/Ljubljana:20241002T140000
DTSTAMP:20260419T190208Z
UID:fmf-AFLABS-URNIK:premaknjeno-srecanje:183532
ATTENDEE:3. letnik (FM)
ATTENDEE:3. letnik (M)
CATEGORIES:Entry,Standard
COLOR:darkgreen
DESCRIPTION:Predmet: Podatkovne strukture in algoritmi 1 (FM-3\, MAT-3)\, 
 Vaje (V)\nLetniki: 3. letnik (FM)\, 3. letnik (M)\nIzvajalci: Gašper Dome
 n Romih\nProstor: 3.06
LOCATION:3.06
ORGANIZER:Gašper Domen Romih
RELATED-TO:fmf-AFLABS-URNIK:srecanje:14637
X-WR-TIMEZONE:Europe/Ljubljana
END:VEVENT
BEGIN:VEVENT
SUMMARY:Podatkovne strukture in algoritmi 1 (FM-3\, MAT-3)\, Vaje (V)
DTSTART;TZID=Europe/Ljubljana:20241009T120000
DTEND;TZID=Europe/Ljubljana:20241009T140000
DTSTAMP:20260419T190208Z
UID:fmf-AFLABS-URNIK:premaknjeno-srecanje:183533
ATTENDEE:3. letnik (FM)
ATTENDEE:3. letnik (M)
CATEGORIES:Entry,Standard
COLOR:darkgreen
DESCRIPTION:Predmet: Podatkovne strukture in algoritmi 1 (FM-3\, MAT-3)\, 
 Vaje (V)\nLetniki: 3. letnik (FM)\, 3. letnik (M)\nIzvajalci: Gašper Dome
 n Romih\nProstor: 3.06
LOCATION:3.06
ORGANIZER:Gašper Domen Romih
RELATED-TO:fmf-AFLABS-URNIK:srecanje:14637
X-WR-TIMEZONE:Europe/Ljubljana
END:VEVENT
BEGIN:VEVENT
SUMMARY:Teorija iger (FM-3\, IŠRM-3\, MAT-3)\, Vaje (V)
DTSTART;TZID=Europe/Ljubljana:20241002T070000
DTEND;TZID=Europe/Ljubljana:20241002T100000
DTSTAMP:20260419T190208Z
UID:fmf-AFLABS-URNIK:premaknjeno-srecanje:188891
ATTENDEE:3. letnik (FM)
ATTENDEE:3. letnik (IŠRM)
ATTENDEE:3. letnik (M)
CATEGORIES:Entry,Standard
COLOR:darkgreen
DESCRIPTION:Predmet: Teorija iger (FM-3\, IŠRM-3\, MAT-3)\, Vaje (V)\nLet
 niki: 3. letnik (FM)\, 3. letnik (IŠRM)\, 3. letnik (M)\nIzvajalci: Gašp
 er Domen Romih\nProstor: P.02
LOCATION:P.02
ORGANIZER:Gašper Domen Romih
RELATED-TO:fmf-AFLABS-URNIK:srecanje:14085
X-WR-TIMEZONE:Europe/Ljubljana
END:VEVENT
BEGIN:VEVENT
SUMMARY:Teorija iger (FM-3\, IŠRM-3\, MAT-3)\, Vaje (V)
DTSTART;TZID=Europe/Ljubljana:20241009T070000
DTEND;TZID=Europe/Ljubljana:20241009T100000
DTSTAMP:20260419T190208Z
UID:fmf-AFLABS-URNIK:premaknjeno-srecanje:188892
ATTENDEE:3. letnik (FM)
ATTENDEE:3. letnik (IŠRM)
ATTENDEE:3. letnik (M)
CATEGORIES:Entry,Standard
COLOR:darkgreen
DESCRIPTION:Predmet: Teorija iger (FM-3\, IŠRM-3\, MAT-3)\, Vaje (V)\nLet
 niki: 3. letnik (FM)\, 3. letnik (IŠRM)\, 3. letnik (M)\nIzvajalci: Gašp
 er Domen Romih\nProstor: P.02
LOCATION:P.02
ORGANIZER:Gašper Domen Romih
RELATED-TO:fmf-AFLABS-URNIK:srecanje:14085
X-WR-TIMEZONE:Europe/Ljubljana
END:VEVENT
BEGIN:VEVENT
SUMMARY:VMR - izpit
DTSTART;TZID=Europe/Ljubljana:20240829T090000
DTEND;TZID=Europe/Ljubljana:20240829T120000
DTSTAMP:20260419T190208Z
UID:fmf-AFLABS-URNIK:rezervacija:17761
ATTENDEE:5. letnik (PM)
ATTENDEE:magistrski študij (FM)
ATTENDEE:magistrski študij (IŠRM)
ATTENDEE:magistrski študij (M)
CATEGORIES:Reservation
COLOR:royalblue
DESCRIPTION:Predmeti: Izbrana poglavja iz računalniške matematike  / Ver
 jetnostne metode v računalništvu (FM-M\, IŠRM-M\, MAT-M\, PM-5)\nLetnik
 i: magistrski študij (FM)\, magistrski študij (IŠRM)\, magistrski štud
 ij (M)\, 5. letnik (PM)\nIzvajalci: Gašper Domen Romih\nProstori: 2.03
LOCATION:2.03
ORGANIZER:Gašper Domen Romih
X-WR-TIMEZONE:Europe/Ljubljana
END:VEVENT
BEGIN:VEVENT
SUMMARY:izpit psa 1
DTSTART;TZID=Europe/Ljubljana:20240905T140000
DTEND;TZID=Europe/Ljubljana:20240905T160000
DTSTAMP:20260419T190208Z
UID:fmf-AFLABS-URNIK:rezervacija:17991
ATTENDEE:3. letnik (FM)
ATTENDEE:3. letnik (M)
CATEGORIES:Reservation
COLOR:royalblue
DESCRIPTION:Predmeti: Podatkovne strukture in algoritmi 1 (FM-3\, MAT-3)\n
 Letniki: 3. letnik (FM)\, 3. letnik (M)\nIzvajalci: Gašper Domen Romih\nP
 rostori: 3.07
LOCATION:3.07
ORGANIZER:Gašper Domen Romih
X-WR-TIMEZONE:Europe/Ljubljana
END:VEVENT
BEGIN:VEVENT
SUMMARY:Sprememba vaj - TI
DTSTART;TZID=Europe/Ljubljana:20241009T170000
DTEND;TZID=Europe/Ljubljana:20241009T200000
DTSTAMP:20260419T190208Z
UID:fmf-AFLABS-URNIK:rezervacija:19069
ATTENDEE:3. letnik (FM)
ATTENDEE:3. letnik (IŠRM)
ATTENDEE:3. letnik (M)
CATEGORIES:Reservation
COLOR:royalblue
DESCRIPTION:Predmeti: Teorija iger (FM-3\, IŠRM-3\, MAT-3)\nLetniki: 3. l
 etnik (FM)\, 3. letnik (IŠRM)\, 3. letnik (M)\nIzvajalci: Gašper Domen R
 omih\nProstori: 1.01
LOCATION:1.01
ORGANIZER:Gašper Domen Romih
X-WR-TIMEZONE:Europe/Ljubljana
END:VEVENT
END:VCALENDAR
