BEGIN:VCALENDAR
VERSION:2.0
PRODID:-//AFLabs urnik izvoz - fmf//aflabs.si//SI
DTSTAMP:20260422T221100Z
NAME:UL FMF urnik
REFRESH-INTERVAL:PT1H
SOURCE:https://urnik.fmf.uni-lj.si/teacher/836?day=2026-07-06&export=1
URL:https://urnik.fmf.uni-lj.si/teacher/836?day=2026-07-06&export=1
X-PUBLISHED-TTL:PT1H
X-WR-CALNAME:UL FMF urnik
X-WR-TIMEZONE:Europe/Ljubljana
BEGIN:VTIMEZONE
TZID:Europe/Ljubljana
BEGIN:DAYLIGHT
DTSTART:20260329T020000
RDATE:20260329T020000
RDATE:20270328T020000
TZNAME:CEST
TZOFFSETFROM:+0100
TZOFFSETTO:+0200
END:DAYLIGHT
BEGIN:STANDARD
DTSTART:20261025T030000
RDATE:20261025T030000
RDATE:20271031T030000
TZNAME:CET
TZOFFSETFROM:+0200
TZOFFSETTO:+0100
END:STANDARD
END:VTIMEZONE
BEGIN:VEVENT
SUMMARY:Matematika 1 (APF-1\, APM-1)\, Predavanja (P)
DTSTART;TZID=Europe/Ljubljana:20260602T080000
DTEND;TZID=Europe/Ljubljana:20260602T100000
DTSTAMP:20260422T221100Z
UID:fmf-AFLABS-URNIK:premaknjeno-srecanje:243580
ATTENDEE:1. letnik (APM)
ATTENDEE:1. letnik (Aplikativna fizika)
CATEGORIES:Entry,Standard
COLOR:darkgreen
DESCRIPTION:Predmet: Matematika 1 (APF-1\, APM-1)\, Predavanja (P)\nLetnik
 i: 1. letnik (Aplikativna fizika)\, 1. letnik (APM)\nIzvajalci: Marko Slap
 ar\nProstor: 1.01
LOCATION:1.01
ORGANIZER:Marko Slapar
RELATED-TO:fmf-AFLABS-URNIK:srecanje:16936
X-WR-TIMEZONE:Europe/Ljubljana
END:VEVENT
END:VCALENDAR
