BEGIN:VCALENDAR
VERSION:2.0
PRODID:-//AFLabs urnik izvoz - fmf//aflabs.si//SI
DTSTAMP:20260423T011305Z
NAME:UL FMF urnik
REFRESH-INTERVAL:PT1H
SOURCE:https://urnik.fmf.uni-lj.si/teacher/83?day=2020-12-14&export=1
URL:https://urnik.fmf.uni-lj.si/teacher/83?day=2020-12-14&export=1
X-PUBLISHED-TTL:PT1H
X-WR-CALNAME:UL FMF urnik
X-WR-TIMEZONE:Europe/Ljubljana
BEGIN:VTIMEZONE
TZID:Europe/Ljubljana
BEGIN:DAYLIGHT
DTSTART:20260329T020000
RDATE:20260329T020000
RDATE:20270328T020000
TZNAME:CEST
TZOFFSETFROM:+0100
TZOFFSETTO:+0200
END:DAYLIGHT
BEGIN:STANDARD
DTSTART:20261025T030000
RDATE:20261025T030000
RDATE:20271031T030000
TZNAME:CET
TZOFFSETFROM:+0200
TZOFFSETTO:+0100
END:STANDARD
END:VTIMEZONE
BEGIN:VEVENT
SUMMARY:Statistična termodinamika (FIZ-2)\, Predavanja (P)
DTSTART;TZID=Europe/Ljubljana:20201006T100000
DTEND;TZID=Europe/Ljubljana:20201006T120000
DTSTAMP:20260423T011305Z
UID:fmf-AFLABS-URNIK:premaknjeno-srecanje:106414
ATTENDEE:2. letnik (Fizika, 1. stopnja)
CATEGORIES:Entry,Standard
COLOR:darkgreen
DESCRIPTION:Predmet: Statistična termodinamika (FIZ-2)\, Predavanja (P)\n
 Letniki: 2. letnik (Fizika\, 1. stopnja)\nIzvajalci: Primož Ziherl\nProst
 or: F1
LOCATION:F1
ORGANIZER:Primož Ziherl
RELATED-TO:fmf-AFLABS-URNIK:srecanje:5200
X-WR-TIMEZONE:Europe/Ljubljana
END:VEVENT
BEGIN:VEVENT
SUMMARY:Statistična termodinamika (FIZ-2)\, Predavanja (P)
DTSTART;TZID=Europe/Ljubljana:20201013T100000
DTEND;TZID=Europe/Ljubljana:20201013T120000
DTSTAMP:20260423T011305Z
UID:fmf-AFLABS-URNIK:premaknjeno-srecanje:106415
ATTENDEE:2. letnik (Fizika, 1. stopnja)
CATEGORIES:Entry,Standard
COLOR:darkgreen
DESCRIPTION:Predmet: Statistična termodinamika (FIZ-2)\, Predavanja (P)\n
 Letniki: 2. letnik (Fizika\, 1. stopnja)\nIzvajalci: Primož Ziherl\nProst
 or: F1
LOCATION:F1
ORGANIZER:Primož Ziherl
RELATED-TO:fmf-AFLABS-URNIK:srecanje:5200
X-WR-TIMEZONE:Europe/Ljubljana
END:VEVENT
BEGIN:VEVENT
SUMMARY:Statistična termodinamika (FIZ-2)\, Predavanja (P)
DTSTART;TZID=Europe/Ljubljana:20201020T100000
DTEND;TZID=Europe/Ljubljana:20201020T120000
DTSTAMP:20260423T011305Z
UID:fmf-AFLABS-URNIK:premaknjeno-srecanje:106416
ATTENDEE:2. letnik (Fizika, 1. stopnja)
CATEGORIES:Entry,Standard
COLOR:darkgreen
DESCRIPTION:Predmet: Statistična termodinamika (FIZ-2)\, Predavanja (P)\n
 Letniki: 2. letnik (Fizika\, 1. stopnja)\nIzvajalci: Primož Ziherl\nProst
 or: F1
LOCATION:F1
ORGANIZER:Primož Ziherl
RELATED-TO:fmf-AFLABS-URNIK:srecanje:5200
X-WR-TIMEZONE:Europe/Ljubljana
END:VEVENT
BEGIN:VEVENT
SUMMARY:Statistična termodinamika (FIZ-2)\, Predavanja (P)
DTSTART;TZID=Europe/Ljubljana:20201027T100000
DTEND;TZID=Europe/Ljubljana:20201027T120000
DTSTAMP:20260423T011305Z
UID:fmf-AFLABS-URNIK:premaknjeno-srecanje:106417
ATTENDEE:2. letnik (Fizika, 1. stopnja)
CATEGORIES:Entry,Standard
COLOR:darkgreen
DESCRIPTION:Predmet: Statistična termodinamika (FIZ-2)\, Predavanja (P)\n
 Letniki: 2. letnik (Fizika\, 1. stopnja)\nIzvajalci: Primož Ziherl\nProst
 or: F1
LOCATION:F1
ORGANIZER:Primož Ziherl
RELATED-TO:fmf-AFLABS-URNIK:srecanje:5200
X-WR-TIMEZONE:Europe/Ljubljana
END:VEVENT
BEGIN:VEVENT
SUMMARY:Statistična termodinamika (FIZ-2)\, Predavanja (P)
DTSTART;TZID=Europe/Ljubljana:20201103T100000
DTEND;TZID=Europe/Ljubljana:20201103T120000
DTSTAMP:20260423T011305Z
UID:fmf-AFLABS-URNIK:premaknjeno-srecanje:106418
ATTENDEE:2. letnik (Fizika, 1. stopnja)
CATEGORIES:Entry,Standard
COLOR:darkgreen
DESCRIPTION:Predmet: Statistična termodinamika (FIZ-2)\, Predavanja (P)\n
 Letniki: 2. letnik (Fizika\, 1. stopnja)\nIzvajalci: Primož Ziherl\nProst
 or: F1
LOCATION:F1
ORGANIZER:Primož Ziherl
RELATED-TO:fmf-AFLABS-URNIK:srecanje:5200
X-WR-TIMEZONE:Europe/Ljubljana
END:VEVENT
BEGIN:VEVENT
SUMMARY:Statistična termodinamika (FIZ-2)\, Predavanja (P)
DTSTART;TZID=Europe/Ljubljana:20201110T100000
DTEND;TZID=Europe/Ljubljana:20201110T120000
DTSTAMP:20260423T011305Z
UID:fmf-AFLABS-URNIK:premaknjeno-srecanje:106419
ATTENDEE:2. letnik (Fizika, 1. stopnja)
CATEGORIES:Entry,Standard
COLOR:darkgreen
DESCRIPTION:Predmet: Statistična termodinamika (FIZ-2)\, Predavanja (P)\n
 Letniki: 2. letnik (Fizika\, 1. stopnja)\nIzvajalci: Primož Ziherl\nProst
 or: F1
LOCATION:F1
ORGANIZER:Primož Ziherl
RELATED-TO:fmf-AFLABS-URNIK:srecanje:5200
X-WR-TIMEZONE:Europe/Ljubljana
END:VEVENT
BEGIN:VEVENT
SUMMARY:Statistična termodinamika (FIZ-2)\, Predavanja (P)
DTSTART;TZID=Europe/Ljubljana:20201117T100000
DTEND;TZID=Europe/Ljubljana:20201117T120000
DTSTAMP:20260423T011305Z
UID:fmf-AFLABS-URNIK:premaknjeno-srecanje:106420
ATTENDEE:2. letnik (Fizika, 1. stopnja)
CATEGORIES:Entry,Standard
COLOR:darkgreen
DESCRIPTION:Predmet: Statistična termodinamika (FIZ-2)\, Predavanja (P)\n
 Letniki: 2. letnik (Fizika\, 1. stopnja)\nIzvajalci: Primož Ziherl\nProst
 or: F1
LOCATION:F1
ORGANIZER:Primož Ziherl
RELATED-TO:fmf-AFLABS-URNIK:srecanje:5200
X-WR-TIMEZONE:Europe/Ljubljana
END:VEVENT
BEGIN:VEVENT
SUMMARY:Statistična termodinamika (FIZ-2)\, Predavanja (P)
DTSTART;TZID=Europe/Ljubljana:20201124T100000
DTEND;TZID=Europe/Ljubljana:20201124T120000
DTSTAMP:20260423T011305Z
UID:fmf-AFLABS-URNIK:premaknjeno-srecanje:106421
ATTENDEE:2. letnik (Fizika, 1. stopnja)
CATEGORIES:Entry,Standard
COLOR:darkgreen
DESCRIPTION:Predmet: Statistična termodinamika (FIZ-2)\, Predavanja (P)\n
 Letniki: 2. letnik (Fizika\, 1. stopnja)\nIzvajalci: Primož Ziherl\nProst
 or: F1
LOCATION:F1
ORGANIZER:Primož Ziherl
RELATED-TO:fmf-AFLABS-URNIK:srecanje:5200
X-WR-TIMEZONE:Europe/Ljubljana
END:VEVENT
BEGIN:VEVENT
SUMMARY:Statistična termodinamika (FIZ-2)\, Predavanja (P)
DTSTART;TZID=Europe/Ljubljana:20201201T100000
DTEND;TZID=Europe/Ljubljana:20201201T120000
DTSTAMP:20260423T011305Z
UID:fmf-AFLABS-URNIK:premaknjeno-srecanje:106422
ATTENDEE:2. letnik (Fizika, 1. stopnja)
CATEGORIES:Entry,Standard
COLOR:darkgreen
DESCRIPTION:Predmet: Statistična termodinamika (FIZ-2)\, Predavanja (P)\n
 Letniki: 2. letnik (Fizika\, 1. stopnja)\nIzvajalci: Primož Ziherl\nProst
 or: F1
LOCATION:F1
ORGANIZER:Primož Ziherl
RELATED-TO:fmf-AFLABS-URNIK:srecanje:5200
X-WR-TIMEZONE:Europe/Ljubljana
END:VEVENT
BEGIN:VEVENT
SUMMARY:Statistična termodinamika (FIZ-2)\, Predavanja (P)
DTSTART;TZID=Europe/Ljubljana:20201208T100000
DTEND;TZID=Europe/Ljubljana:20201208T120000
DTSTAMP:20260423T011305Z
UID:fmf-AFLABS-URNIK:premaknjeno-srecanje:106423
ATTENDEE:2. letnik (Fizika, 1. stopnja)
CATEGORIES:Entry,Standard
COLOR:darkgreen
DESCRIPTION:Predmet: Statistična termodinamika (FIZ-2)\, Predavanja (P)\n
 Letniki: 2. letnik (Fizika\, 1. stopnja)\nIzvajalci: Primož Ziherl\nProst
 or: F1
LOCATION:F1
ORGANIZER:Primož Ziherl
RELATED-TO:fmf-AFLABS-URNIK:srecanje:5200
X-WR-TIMEZONE:Europe/Ljubljana
END:VEVENT
BEGIN:VEVENT
SUMMARY:Statistična termodinamika (FIZ-2)\, Predavanja (P)
DTSTART;TZID=Europe/Ljubljana:20201215T100000
DTEND;TZID=Europe/Ljubljana:20201215T120000
DTSTAMP:20260423T011305Z
UID:fmf-AFLABS-URNIK:premaknjeno-srecanje:106424
ATTENDEE:2. letnik (Fizika, 1. stopnja)
CATEGORIES:Entry,Standard
COLOR:darkgreen
DESCRIPTION:Predmet: Statistična termodinamika (FIZ-2)\, Predavanja (P)\n
 Letniki: 2. letnik (Fizika\, 1. stopnja)\nIzvajalci: Primož Ziherl\nProst
 or: F1
LOCATION:F1
ORGANIZER:Primož Ziherl
RELATED-TO:fmf-AFLABS-URNIK:srecanje:5200
X-WR-TIMEZONE:Europe/Ljubljana
END:VEVENT
BEGIN:VEVENT
SUMMARY:Statistična termodinamika (FIZ-2)\, Predavanja (P)
DTSTART;TZID=Europe/Ljubljana:20201222T100000
DTEND;TZID=Europe/Ljubljana:20201222T120000
DTSTAMP:20260423T011305Z
UID:fmf-AFLABS-URNIK:premaknjeno-srecanje:106425
ATTENDEE:2. letnik (Fizika, 1. stopnja)
CATEGORIES:Entry,Standard
COLOR:darkgreen
DESCRIPTION:Predmet: Statistična termodinamika (FIZ-2)\, Predavanja (P)\n
 Letniki: 2. letnik (Fizika\, 1. stopnja)\nIzvajalci: Primož Ziherl\nProst
 or: F1
LOCATION:F1
ORGANIZER:Primož Ziherl
RELATED-TO:fmf-AFLABS-URNIK:srecanje:5200
X-WR-TIMEZONE:Europe/Ljubljana
END:VEVENT
BEGIN:VEVENT
SUMMARY:Statistična termodinamika (FIZ-2)\, Predavanja (P)
DTSTART;TZID=Europe/Ljubljana:20201229T100000
DTEND;TZID=Europe/Ljubljana:20201229T120000
DTSTAMP:20260423T011305Z
UID:fmf-AFLABS-URNIK:premaknjeno-srecanje:106426
ATTENDEE:2. letnik (Fizika, 1. stopnja)
CATEGORIES:Entry,Standard
COLOR:darkgreen
DESCRIPTION:Predmet: Statistična termodinamika (FIZ-2)\, Predavanja (P)\n
 Letniki: 2. letnik (Fizika\, 1. stopnja)\nIzvajalci: Primož Ziherl\nProst
 or: F1
LOCATION:F1
ORGANIZER:Primož Ziherl
RELATED-TO:fmf-AFLABS-URNIK:srecanje:5200
X-WR-TIMEZONE:Europe/Ljubljana
END:VEVENT
BEGIN:VEVENT
SUMMARY:Statistična termodinamika (FIZ-2)\, Predavanja (P)
DTSTART;TZID=Europe/Ljubljana:20210105T100000
DTEND;TZID=Europe/Ljubljana:20210105T120000
DTSTAMP:20260423T011305Z
UID:fmf-AFLABS-URNIK:premaknjeno-srecanje:106427
ATTENDEE:2. letnik (Fizika, 1. stopnja)
CATEGORIES:Entry,Standard
COLOR:darkgreen
DESCRIPTION:Predmet: Statistična termodinamika (FIZ-2)\, Predavanja (P)\n
 Letniki: 2. letnik (Fizika\, 1. stopnja)\nIzvajalci: Primož Ziherl\nProst
 or: F1
LOCATION:F1
ORGANIZER:Primož Ziherl
RELATED-TO:fmf-AFLABS-URNIK:srecanje:5200
X-WR-TIMEZONE:Europe/Ljubljana
END:VEVENT
BEGIN:VEVENT
SUMMARY:Statistična termodinamika (FIZ-2)\, Predavanja (P)
DTSTART;TZID=Europe/Ljubljana:20210112T100000
DTEND;TZID=Europe/Ljubljana:20210112T120000
DTSTAMP:20260423T011305Z
UID:fmf-AFLABS-URNIK:premaknjeno-srecanje:106428
ATTENDEE:2. letnik (Fizika, 1. stopnja)
CATEGORIES:Entry,Standard
COLOR:darkgreen
DESCRIPTION:Predmet: Statistična termodinamika (FIZ-2)\, Predavanja (P)\n
 Letniki: 2. letnik (Fizika\, 1. stopnja)\nIzvajalci: Primož Ziherl\nProst
 or: F1
LOCATION:F1
ORGANIZER:Primož Ziherl
RELATED-TO:fmf-AFLABS-URNIK:srecanje:5200
X-WR-TIMEZONE:Europe/Ljubljana
END:VEVENT
END:VCALENDAR
