BEGIN:VCALENDAR
VERSION:2.0
PRODID:-//AFLabs urnik izvoz - fmf//aflabs.si//SI
DTSTAMP:20260422T054234Z
NAME:UL FMF urnik
REFRESH-INTERVAL:PT1H
SOURCE:https://urnik.fmf.uni-lj.si/teacher/83?day=2021-02-01&export=1
URL:https://urnik.fmf.uni-lj.si/teacher/83?day=2021-02-01&export=1
X-PUBLISHED-TTL:PT1H
X-WR-CALNAME:UL FMF urnik
X-WR-TIMEZONE:Europe/Ljubljana
BEGIN:VTIMEZONE
TZID:Europe/Ljubljana
BEGIN:DAYLIGHT
DTSTART:20260329T020000
RDATE:20260329T020000
RDATE:20270328T020000
TZNAME:CEST
TZOFFSETFROM:+0100
TZOFFSETTO:+0200
END:DAYLIGHT
BEGIN:STANDARD
DTSTART:20261025T030000
RDATE:20261025T030000
RDATE:20271031T030000
TZNAME:CET
TZOFFSETFROM:+0200
TZOFFSETTO:+0100
END:STANDARD
END:VTIMEZONE
BEGIN:VEVENT
SUMMARY:Statistična termodinamika (FIZ-2)\, Predavanja (P)
DTSTART;TZID=Europe/Ljubljana:20201229T100000
DTEND;TZID=Europe/Ljubljana:20201229T120000
DTSTAMP:20260422T054234Z
UID:fmf-AFLABS-URNIK:premaknjeno-srecanje:106426
ATTENDEE:2. letnik (Fizika, 1. stopnja)
CATEGORIES:Entry,Standard
COLOR:darkgreen
DESCRIPTION:Predmet: Statistična termodinamika (FIZ-2)\, Predavanja (P)\n
 Letniki: 2. letnik (Fizika\, 1. stopnja)\nIzvajalci: Primož Ziherl\nProst
 or: F1
LOCATION:F1
ORGANIZER:Primož Ziherl
RELATED-TO:fmf-AFLABS-URNIK:srecanje:5200
X-WR-TIMEZONE:Europe/Ljubljana
END:VEVENT
BEGIN:VEVENT
SUMMARY:Statistična termodinamika (FIZ-2)\, Predavanja (P)
DTSTART;TZID=Europe/Ljubljana:20210105T100000
DTEND;TZID=Europe/Ljubljana:20210105T120000
DTSTAMP:20260422T054234Z
UID:fmf-AFLABS-URNIK:premaknjeno-srecanje:106427
ATTENDEE:2. letnik (Fizika, 1. stopnja)
CATEGORIES:Entry,Standard
COLOR:darkgreen
DESCRIPTION:Predmet: Statistična termodinamika (FIZ-2)\, Predavanja (P)\n
 Letniki: 2. letnik (Fizika\, 1. stopnja)\nIzvajalci: Primož Ziherl\nProst
 or: F1
LOCATION:F1
ORGANIZER:Primož Ziherl
RELATED-TO:fmf-AFLABS-URNIK:srecanje:5200
X-WR-TIMEZONE:Europe/Ljubljana
END:VEVENT
BEGIN:VEVENT
SUMMARY:Statistična termodinamika (FIZ-2)\, Predavanja (P)
DTSTART;TZID=Europe/Ljubljana:20210112T100000
DTEND;TZID=Europe/Ljubljana:20210112T120000
DTSTAMP:20260422T054234Z
UID:fmf-AFLABS-URNIK:premaknjeno-srecanje:106428
ATTENDEE:2. letnik (Fizika, 1. stopnja)
CATEGORIES:Entry,Standard
COLOR:darkgreen
DESCRIPTION:Predmet: Statistična termodinamika (FIZ-2)\, Predavanja (P)\n
 Letniki: 2. letnik (Fizika\, 1. stopnja)\nIzvajalci: Primož Ziherl\nProst
 or: F1
LOCATION:F1
ORGANIZER:Primož Ziherl
RELATED-TO:fmf-AFLABS-URNIK:srecanje:5200
X-WR-TIMEZONE:Europe/Ljubljana
END:VEVENT
BEGIN:VEVENT
SUMMARY:Mehanika kontinuov (FIZ-3)\, Predavanja (P)
DTSTART;TZID=Europe/Ljubljana:20210215T140000
DTEND;TZID=Europe/Ljubljana:20210215T160000
DTSTAMP:20260422T054234Z
UID:fmf-AFLABS-URNIK:premaknjeno-srecanje:71560
ATTENDEE:3. letnik (Fizika, 1. stopnja)
CATEGORIES:Entry,Standard
COLOR:darkgreen
DESCRIPTION:Predmet: Mehanika kontinuov (FIZ-3)\, Predavanja (P)\nLetniki:
  3. letnik (Fizika\, 1. stopnja)\nIzvajalci: Primož Ziherl\nProstor: P.01
LOCATION:P.01
ORGANIZER:Primož Ziherl
RELATED-TO:fmf-AFLABS-URNIK:srecanje:5741
X-WR-TIMEZONE:Europe/Ljubljana
END:VEVENT
BEGIN:VEVENT
SUMMARY:Mehanika kontinuov (FIZ-3)\, Predavanja (P)
DTSTART;TZID=Europe/Ljubljana:20210222T140000
DTEND;TZID=Europe/Ljubljana:20210222T160000
DTSTAMP:20260422T054234Z
UID:fmf-AFLABS-URNIK:premaknjeno-srecanje:71561
ATTENDEE:3. letnik (Fizika, 1. stopnja)
CATEGORIES:Entry,Standard
COLOR:darkgreen
DESCRIPTION:Predmet: Mehanika kontinuov (FIZ-3)\, Predavanja (P)\nLetniki:
  3. letnik (Fizika\, 1. stopnja)\nIzvajalci: Primož Ziherl\nProstor: P.01
LOCATION:P.01
ORGANIZER:Primož Ziherl
RELATED-TO:fmf-AFLABS-URNIK:srecanje:5741
X-WR-TIMEZONE:Europe/Ljubljana
END:VEVENT
BEGIN:VEVENT
SUMMARY:Mehanika kontinuov (FIZ-3)\, Predavanja (P)
DTSTART;TZID=Europe/Ljubljana:20210301T140000
DTEND;TZID=Europe/Ljubljana:20210301T160000
DTSTAMP:20260422T054234Z
UID:fmf-AFLABS-URNIK:premaknjeno-srecanje:71562
ATTENDEE:3. letnik (Fizika, 1. stopnja)
CATEGORIES:Entry,Standard
COLOR:darkgreen
DESCRIPTION:Predmet: Mehanika kontinuov (FIZ-3)\, Predavanja (P)\nLetniki:
  3. letnik (Fizika\, 1. stopnja)\nIzvajalci: Primož Ziherl\nProstor: P.01
LOCATION:P.01
ORGANIZER:Primož Ziherl
RELATED-TO:fmf-AFLABS-URNIK:srecanje:5741
X-WR-TIMEZONE:Europe/Ljubljana
END:VEVENT
BEGIN:VEVENT
SUMMARY:Mehanika kontinuov (FIZ-3)\, Predavanja (P)
DTSTART;TZID=Europe/Ljubljana:20210308T140000
DTEND;TZID=Europe/Ljubljana:20210308T160000
DTSTAMP:20260422T054234Z
UID:fmf-AFLABS-URNIK:premaknjeno-srecanje:71563
ATTENDEE:3. letnik (Fizika, 1. stopnja)
CATEGORIES:Entry,Standard
COLOR:darkgreen
DESCRIPTION:Predmet: Mehanika kontinuov (FIZ-3)\, Predavanja (P)\nLetniki:
  3. letnik (Fizika\, 1. stopnja)\nIzvajalci: Primož Ziherl\nProstor: P.01
LOCATION:P.01
ORGANIZER:Primož Ziherl
RELATED-TO:fmf-AFLABS-URNIK:srecanje:5741
X-WR-TIMEZONE:Europe/Ljubljana
END:VEVENT
BEGIN:VEVENT
SUMMARY:Seminar II (FIZ-M2\, JET-2\, MEF-2\, PEF-2)\, Predavanja (P)
DTSTART;TZID=Europe/Ljubljana:20210217T110000
DTEND;TZID=Europe/Ljubljana:20210217T140000
DTSTAMP:20260422T054234Z
UID:fmf-AFLABS-URNIK:premaknjeno-srecanje:101562
ATTENDEE:2. letnik (Fizika, 2. stopnja)
ATTENDEE:2. letnik (Jedrska tehnika, 2. stopnja)
ATTENDEE:2. letnik (Medicinska fizika, 2. stopnja)
ATTENDEE:2. letnik (Pedagoška fizika, 2. stopnja)
CATEGORIES:Entry,Standard
COLOR:darkgreen
DESCRIPTION:Predmet: Seminar II (FIZ-M2\, JET-2\, MEF-2\, PEF-2)\, Predava
 nja (P)\nLetniki: 2. letnik (Fizika\, 2. stopnja)\, 2. letnik (Jedrska teh
 nika\, 2. stopnja)\, 2. letnik (Medicinska fizika\, 2. stopnja)\, 2. letni
 k (Pedagoška fizika\, 2. stopnja)\nIzvajalci: Rainer Kaltenbaek\, Primož
  Ziherl\nProstor: F4
LOCATION:F4
ORGANIZER:Rainer Kaltenbaek, Primož Ziherl
RELATED-TO:fmf-AFLABS-URNIK:srecanje:5891
X-WR-TIMEZONE:Europe/Ljubljana
END:VEVENT
BEGIN:VEVENT
SUMMARY:Seminar II (FIZ-M2\, JET-2\, MEF-2\, PEF-2)\, Predavanja (P)
DTSTART;TZID=Europe/Ljubljana:20210224T110000
DTEND;TZID=Europe/Ljubljana:20210224T140000
DTSTAMP:20260422T054234Z
UID:fmf-AFLABS-URNIK:premaknjeno-srecanje:101563
ATTENDEE:2. letnik (Fizika, 2. stopnja)
ATTENDEE:2. letnik (Jedrska tehnika, 2. stopnja)
ATTENDEE:2. letnik (Medicinska fizika, 2. stopnja)
ATTENDEE:2. letnik (Pedagoška fizika, 2. stopnja)
CATEGORIES:Entry,Standard
COLOR:darkgreen
DESCRIPTION:Predmet: Seminar II (FIZ-M2\, JET-2\, MEF-2\, PEF-2)\, Predava
 nja (P)\nLetniki: 2. letnik (Fizika\, 2. stopnja)\, 2. letnik (Jedrska teh
 nika\, 2. stopnja)\, 2. letnik (Medicinska fizika\, 2. stopnja)\, 2. letni
 k (Pedagoška fizika\, 2. stopnja)\nIzvajalci: Rainer Kaltenbaek\, Primož
  Ziherl\nProstor: F4
LOCATION:F4
ORGANIZER:Rainer Kaltenbaek, Primož Ziherl
RELATED-TO:fmf-AFLABS-URNIK:srecanje:5891
X-WR-TIMEZONE:Europe/Ljubljana
END:VEVENT
BEGIN:VEVENT
SUMMARY:Seminar II (FIZ-M2\, JET-2\, MEF-2\, PEF-2)\, Predavanja (P)
DTSTART;TZID=Europe/Ljubljana:20210303T110000
DTEND;TZID=Europe/Ljubljana:20210303T140000
DTSTAMP:20260422T054234Z
UID:fmf-AFLABS-URNIK:premaknjeno-srecanje:101564
ATTENDEE:2. letnik (Fizika, 2. stopnja)
ATTENDEE:2. letnik (Jedrska tehnika, 2. stopnja)
ATTENDEE:2. letnik (Medicinska fizika, 2. stopnja)
ATTENDEE:2. letnik (Pedagoška fizika, 2. stopnja)
CATEGORIES:Entry,Standard
COLOR:darkgreen
DESCRIPTION:Predmet: Seminar II (FIZ-M2\, JET-2\, MEF-2\, PEF-2)\, Predava
 nja (P)\nLetniki: 2. letnik (Fizika\, 2. stopnja)\, 2. letnik (Jedrska teh
 nika\, 2. stopnja)\, 2. letnik (Medicinska fizika\, 2. stopnja)\, 2. letni
 k (Pedagoška fizika\, 2. stopnja)\nIzvajalci: Rainer Kaltenbaek\, Primož
  Ziherl\nProstor: F4
LOCATION:F4
ORGANIZER:Rainer Kaltenbaek, Primož Ziherl
RELATED-TO:fmf-AFLABS-URNIK:srecanje:5891
X-WR-TIMEZONE:Europe/Ljubljana
END:VEVENT
BEGIN:VEVENT
SUMMARY:Biofizika membran\, celic in tkiv (FIZ-M1\, FIZ-M2)\, Predavanja (
 P)
DTSTART;TZID=Europe/Ljubljana:20210218T080000
DTEND;TZID=Europe/Ljubljana:20210218T110000
DTSTAMP:20260422T054234Z
UID:fmf-AFLABS-URNIK:premaknjeno-srecanje:12833
ATTENDEE:1. letnik (Fizika, 2. stopnja)
ATTENDEE:2. letnik (Fizika, 2. stopnja)
CATEGORIES:Entry,Standard
COLOR:darkgreen
DESCRIPTION:Predmet: Biofizika membran\, celic in tkiv (FIZ-M1\, FIZ-M2)\,
  Predavanja (P)\nLetniki: 1. letnik (Fizika\, 2. stopnja)\, 2. letnik (Fiz
 ika\, 2. stopnja)\nIzvajalci: Primož Ziherl\nProstor: F3
LOCATION:F3
ORGANIZER:Primož Ziherl
RELATED-TO:fmf-AFLABS-URNIK:srecanje:6003
X-WR-TIMEZONE:Europe/Ljubljana
END:VEVENT
BEGIN:VEVENT
SUMMARY:Biofizika membran\, celic in tkiv (FIZ-M1\, FIZ-M2)\, Predavanja (
 P)
DTSTART;TZID=Europe/Ljubljana:20210225T080000
DTEND;TZID=Europe/Ljubljana:20210225T110000
DTSTAMP:20260422T054234Z
UID:fmf-AFLABS-URNIK:premaknjeno-srecanje:12834
ATTENDEE:1. letnik (Fizika, 2. stopnja)
ATTENDEE:2. letnik (Fizika, 2. stopnja)
CATEGORIES:Entry,Standard
COLOR:darkgreen
DESCRIPTION:Predmet: Biofizika membran\, celic in tkiv (FIZ-M1\, FIZ-M2)\,
  Predavanja (P)\nLetniki: 1. letnik (Fizika\, 2. stopnja)\, 2. letnik (Fiz
 ika\, 2. stopnja)\nIzvajalci: Primož Ziherl\nProstor: F3
LOCATION:F3
ORGANIZER:Primož Ziherl
RELATED-TO:fmf-AFLABS-URNIK:srecanje:6003
X-WR-TIMEZONE:Europe/Ljubljana
END:VEVENT
BEGIN:VEVENT
SUMMARY:Biofizika membran\, celic in tkiv (FIZ-M1\, FIZ-M2)\, Predavanja (
 P)
DTSTART;TZID=Europe/Ljubljana:20210304T080000
DTEND;TZID=Europe/Ljubljana:20210304T110000
DTSTAMP:20260422T054234Z
UID:fmf-AFLABS-URNIK:premaknjeno-srecanje:12835
ATTENDEE:1. letnik (Fizika, 2. stopnja)
ATTENDEE:2. letnik (Fizika, 2. stopnja)
CATEGORIES:Entry,Standard
COLOR:darkgreen
DESCRIPTION:Predmet: Biofizika membran\, celic in tkiv (FIZ-M1\, FIZ-M2)\,
  Predavanja (P)\nLetniki: 1. letnik (Fizika\, 2. stopnja)\, 2. letnik (Fiz
 ika\, 2. stopnja)\nIzvajalci: Primož Ziherl\nProstor: F3
LOCATION:F3
ORGANIZER:Primož Ziherl
RELATED-TO:fmf-AFLABS-URNIK:srecanje:6003
X-WR-TIMEZONE:Europe/Ljubljana
END:VEVENT
END:VCALENDAR
